Test-Moose-More v0.050 Perl 5 v5.29.10 x86_64-linux

Status
Pass
From
Slaven Rezić (SREZIC)
Dist
Test-Moose-More v0.050
Platform
Perl 5 v5.29.10 x86_64-linux
Date
2019-04-23 21:24:34
ID
30bdc2c2-660e-11e9-bf2b-672c1f24ea8f
This distribution has been tested as part of the CPAN Testers
project, supporting the Perl programming language.  See
http://wiki.cpantesters.org/ for more information or email
questions to cpan-testers-discuss@perl.org


--
Dear Chris Weyl,

This is a computer-generated report for Test-Moose-More-0.050
on perl 5.29.10, created by CPAN-Reporter-1.2018.

Thank you for uploading your work to CPAN.  Congratulations!
All tests were successful.

Sections of this report:

    * Tester comments
    * Program output
    * Prerequisites
    * Environment and other context

------------------------------
TESTER COMMENTS
------------------------------

Additional comments from tester:

none provided

------------------------------
PROGRAM OUTPUT
------------------------------

Output from '/usr/bin/make test':

PERL_DL_NONLAZY=1 "/opt/perl-5.29.10/bin/perl5.29.10" "-MExtUtils::Command::MM" "-MTest::Harness" "-e" "undef *Test::Harness::Switches; test_harness(0, 'blib/lib', 'blib/arch')" t/*.t t/attribute_options_ok/*.t t/is_class_ok/*.t t/validate_attribute/*.t t/validate_class/*.t t/validate_role/*.t t/validate_thing/*.t t/wrapped/*.t
t/00-check-deps.t ...................................... ok
t/00-compile.t ......................................... ok
# 
# Versions for all modules listed in MYMETA.json (including optional ones):
# 
# === Configure Requires ===
# 
#     Module              Want Have
#     ------------------- ---- ----
#     ExtUtils::MakeMaker  any 7.34
# 
# === Build Requires ===
# 
#     Module              Want Have
#     ------------------- ---- ----
#     ExtUtils::MakeMaker  any 7.34
# 
# === Test Requires ===
# 
#     Module                  Want     Have
#     ---------------------- ----- --------
#     ExtUtils::MakeMaker      any     7.34
#     File::Spec               any     3.78
#     IO::Handle               any     1.40
#     IPC::Open3               any     1.20
#     List::Util              1.45     1.50
#     Moose                    any   2.2011
#     Moose::Meta::Attribute   any   2.2011
#     Moose::Role              any   2.2011
#     Moose::Util::MetaRole    any   2.2011
#     TAP::SimpleOutput      0.009    0.009
#     Test::Builder::Tester    any 1.302162
#     Test::CheckDeps        0.010    0.010
#     Test::More              0.94 1.302162
#     namespace::autoclean     any     0.28
# 
# === Test Recommends ===
# 
#     Module         Want     Have
#     ---------- -------- --------
#     CPAN::Meta 2.120900 2.150010
# 
# === Runtime Requires ===
# 
#     Module                       Want     Have
#     ---------------------------- ---- --------
#     Carp                          any     1.50
#     Data::OptList                 any    0.110
#     List::MoreUtils               any    0.428
#     List::Util                   1.45     1.50
#     Moose::Util                   any   2.2011
#     Moose::Util::TypeConstraints  any   2.2011
#     Scalar::Util                  any     1.50
#     Sub::Exporter::Progressive    any 0.001013
#     Syntax::Keyword::Junction     any 0.003008
#     Test::Builder                 any 1.302162
#     Test::Moose                   any   2.2011
#     Test::More                   0.94 1.302162
#     strict                        any     1.11
#     warnings                      any     1.44
# 
t/00-report-prereqs.t .................................. ok
t/attribute_options_ok/basic.t ......................... ok
t/attribute_options_ok/subtest-wrapper.t ............... ok
t/check_sugar.t ........................................ ok
t/definition_context.t ................................. ok
t/does_metaroles_ok.t .................................. ok
t/does_not_metaroles_ok.t .............................. ok
t/does_not_ok.t ........................................ ok
t/does_ok.t ............................................ ok
t/has_attribute_ok.t ................................... ok
t/is_anon_ok.t ......................................... ok
t/is_class_ok/basic.t .................................. ok
t/is_class_ok/moose-meta-attribute-should-be-moosey.t .. ok
t/is_immutable_ok.t .................................... ok
t/is_not_anon_ok.t ..................................... ok
t/is_role_ok.t ......................................... ok
t/meta_ok.t ............................................ ok
t/method_from_pkg_ok.t ................................. ok
t/method_is_accessor_ok.t .............................. ok
t/method_is_not_accessor_ok.t .......................... ok
t/method_not_from_pkg_ok.t ............................. ok
t/method_ok.t .......................................... ok
t/no_meta_ok.t ......................................... ok
t/pristine_ok.t ........................................ ok
t/requires_method_ok.t ................................. ok
t/subtest-1.t .......................................... ok
t/validate_attribute/basic.t ........................... ok
t/validate_attribute/coerce.t .......................... ok
t/validate_attribute/in_roles.t ........................ ok
t/validate_attribute/lazy.t ............................ ok
t/validate_attribute/required.t ........................ ok
t/validate_class/basic.t ............................... ok
t/validate_class/metaclasses.t ......................... ok
t/validate_class/metaroles.t ........................... ok
t/validate_class/methods.t ............................. ok
t/validate_role/basic.t ................................ ok
t/validate_role/compose.t .............................. ok
t/validate_role/metaclasses.t .......................... ok
t/validate_role/metaroles.t ............................ ok
t/validate_thing/metaclasses.t ......................... ok
t/validate_thing/methods.t ............................. ok
t/validate_thing/sugar.t ............................... ok
t/wrapped/in_roles.t ................................... ok
All tests successful.

Test Summary Report
-------------------
t/00-check-deps.t                                    (Wstat: 0 Tests: 32 Failed: 0)
  TODO passed:   32
Files=45, Tests=235, 14 wallclock secs ( 0.14 usr  0.04 sys + 10.99 cusr  2.40 csys = 13.57 CPU)
Result: PASS

------------------------------
PREREQUISITES
------------------------------

Prerequisite modules loaded:

requires:

    Module                       Need     Have    
    ---------------------------- -------- --------
    Carp                         0        1.50    
    Data::OptList                0        0.110   
    List::MoreUtils              0        0.428   
    List::Util                   1.45     1.50    
    Moose::Util                  0        2.2011  
    Moose::Util::TypeConstraints 0        2.2011  
    perl                         5.006    5.029010
    Scalar::Util                 0        1.50    
    strict                       0        1.11    
    Sub::Exporter::Progressive   0        0.001013
    Syntax::Keyword::Junction    0        0.003008
    Test::Builder                0        1.302162
    Test::Moose                  0        2.2011  
    Test::More                   0.94     1.302162
    warnings                     0        1.44    

build_requires:

    Module                       Need     Have    
    ---------------------------- -------- --------
    ExtUtils::MakeMaker          0        7.34    
    File::Spec                   0        3.78    
    IO::Handle                   0        1.40    
    IPC::Open3                   0        1.20    
    List::Util                   1.45     1.50    
    Moose                        0        2.2011  
    Moose::Meta::Attribute       0        2.2011  
    Moose::Role                  0        2.2011  
    Moose::Util::MetaRole        0        2.2011  
    namespace::autoclean         0        0.28    
    TAP::SimpleOutput            0.009    0.009   
    Test::Builder::Tester        0        1.302162
    Test::CheckDeps              0.010    0.010   
    Test::More                   0.94     1.302162

configure_requires:

    Module                       Need     Have    
    ---------------------------- -------- --------
    ExtUtils::MakeMaker          0        7.34    
    perl                         5.006    5.029010

opt_build_requires:

    Module                       Need     Have    
    ---------------------------- -------- --------
    CPAN::Meta                   2.120900 2.150010


------------------------------
ENVIRONMENT AND OTHER CONTEXT
------------------------------

Environment variables:

    LANG = en_US.UTF-8
    PATH = /usr/local/bin:/usr/bin:/bin:/usr/local/sbin:/usr/sbin:/sbin:/home/cpansand/bin/linux-gnu:/home/cpansand/bin/sh:/home/cpansand/bin:/usr/games:/home/cpansand/devel:/home/eserte/src/srezic-misc/scripts
    PERL5LIB = /home/cpansand/.cpan/build/2019042323/TAP-SimpleOutput-0.009-2/blib/arch:/home/cpansand/.cpan/build/2019042323/TAP-SimpleOutput-0.009-2/blib/lib:/home/cpansand/.cpan/build/2019042323/Perl-Version-1.013-2/blib/arch:/home/cpansand/.cpan/build/2019042323/Perl-Version-1.013-2/blib/lib:/home/cpansand/.cpan/build/2019042323/File-Slurp-Tiny-0.004-1/blib/arch:/home/cpansand/.cpan/build/2019042323/File-Slurp-Tiny-0.004-1/blib/lib:/home/cpansand/.cpan/build/2019042323/Syntax-Keyword-Junction-0.003008-2/blib/arch:/home/cpansand/.cpan/build/2019042323/Syntax-Keyword-Junction-0.003008-2/blib/lib:/home/cpansand/.cpan/build/2019042323/Test-CheckDeps-0.010-1/blib/arch:/home/cpansand/.cpan/build/2019042323/Test-CheckDeps-0.010-1/blib/lib:/home/cpansand/.cpan/build/2019042323/Authen-U2F-0.003-2/blib/arch:/home/cpansand/.cpan/build/2019042323/Authen-U2F-0.003-2/blib/lib:/home/cpansand/.cpan/build/2019042323/Math-Random-Secure-0.080001-2/blib/arch:/home/cpansand/.cpan/build/2019042323/Math-Random-Secure-0.080001-2/blib/lib:/home/cpansand/.cpan/build/2019042323/Crypt-Random-Source-0.14-2/blib/arch:/home/cpansand/.cpan/build/2019042323/Crypt-Random-Source-0.14-2/blib/lib:/home/cpansand/.cpan/build/2019042323/CryptX-0.063-2/blib/arch:/home/cpansand/.cpan/build/2019042323/CryptX-0.063-2/blib/lib
    PERL5OPT = 
    PERL5_CPANPLUS_IS_RUNNING = 8803
    PERL5_CPAN_IS_RUNNING = 8803
    PERL5_CPAN_IS_RUNNING_IN_RECURSION = 27884,8803
    PERLDOC = -MPod::Perldoc::ToTextOverstrike
    PERL_BATCH = yes
    PERL_CANARY_STABILITY_NOPROMPT = 1
    PERL_CPAN_REPORTER_CONFIG = /var/tmp/cpansmoker-1023/2019042323/cpanreporter_001_config.ini
    PERL_EXTUTILS_AUTOINSTALL = --defaultdeps
    PERL_USE_UNSAFE_INC = 1
    SHELL = /usr/bin/zsh
    TERM = screen
    TMPDIR = /var/tmp/cpansmoker-1023/2019042323

Perl special variables (and OS-specific diagnostics, for MSWin32):

    $^X = /opt/perl-5.29.10/bin/perl5.29.10
    $UID/$EUID = 1023 / 1023
    $GID = 1023 1023
    $EGID = 1023 1023

Perl module toolchain versions installed:

    Module              Have    
    ------------------- --------
    CPAN                2.22    
    CPAN::Meta          2.150010
    Cwd                 3.78    
    ExtUtils::CBuilder  0.280231
    ExtUtils::Command   7.34    
    ExtUtils::Install   2.14    
    ExtUtils::MakeMaker 7.34    
    ExtUtils::Manifest  1.72    
    ExtUtils::ParseXS   3.40    
    File::Spec          3.78    
    JSON                4.02    
    JSON::PP            4.02    
    Module::Build       0.4229  
    Module::Signature   0.83    
    Parse::CPAN::Meta   2.150010
    Test::Harness       3.42    
    Test::More          1.302162
    YAML                1.27    
    YAML::Syck          1.31    
    version             0.9924  


--

Summary of my perl5 (revision 5 version 29 subversion 10) configuration:
   
  Platform:
    osname=linux
    osvers=3.10.0-957.10.1.el7.x86_64
    archname=x86_64-linux
    uname='linux centos-4gb-hel1-1 3.10.0-957.10.1.el7.x86_64 #1 smp mon mar 18 15:06:45 utc 2019 x86_64 x86_64 x86_64 gnulinux '
    config_args='-ds -e -Dprefix=/opt/perl-5.29.10 -Dusedevel -Dusemallocwrap=no -Dcf_email=srezic@cpan.org'
    hint=recommended
    useposix=true
    d_sigaction=define
    useithreads=undef
    usemultiplicity=undef
    use64bitint=define
    use64bitall=define
    uselongdouble=undef
    usemymalloc=n
    default_inc_excludes_dot=define
    bincompat5005=undef
  Compiler:
    cc='cc'
    ccflags ='-fwrapv -fno-strict-aliasing -pipe -fstack-protector-strong -I/usr/local/include -D_LARGEFILE_SOURCE -D_FILE_OFFSET_BITS=64 -D_FORTIFY_SOURCE=2'
    optimize='-O2'
    cppflags='-fwrapv -fno-strict-aliasing -pipe -fstack-protector-strong -I/usr/local/include'
    ccversion=''
    gccversion='4.8.5 20150623 (Red Hat 4.8.5-36)'
    gccosandvers=''
    intsize=4
    longsize=8
    ptrsize=8
    doublesize=8
    byteorder=12345678
    doublekind=3
    d_longlong=define
    longlongsize=8
    d_longdbl=define
    longdblsize=16
    longdblkind=3
    ivtype='long'
    ivsize=8
    nvtype='double'
    nvsize=8
    Off_t='off_t'
    lseeksize=8
    alignbytes=8
    prototype=define
  Linker and Libraries:
    ld='cc'
    ldflags =' -fstack-protector-strong -L/usr/local/lib'
    libpth=/usr/local/lib /usr/lib /lib/../lib64 /usr/lib/../lib64 /lib /lib64 /usr/lib64 /usr/local/lib64
    libs=-lpthread -lnsl -lgdbm -ldb -ldl -lm -lcrypt -lutil -lc -lgdbm_compat
    perllibs=-lpthread -lnsl -ldl -lm -lcrypt -lutil -lc
    libc=libc-2.17.so
    so=so
    useshrplib=false
    libperl=libperl.a
    gnulibc_version='2.17'
  Dynamic Linking:
    dlsrc=dl_dlopen.xs
    dlext=so
    d_dlsymun=undef
    ccdlflags='-Wl,-E'
    cccdlflags='-fPIC'
    lddlflags='-shared -O2 -L/usr/local/lib -fstack-protector-strong'


Characteristics of this binary (from libperl): 
  Compile-time options:
    HAS_TIMES
    PERLIO_LAYERS
    PERL_COPY_ON_WRITE
    PERL_DONT_CREATE_GVSV
    PERL_OP_PARENT
    PERL_PRESERVE_IVUV
    PERL_USE_DEVEL
    USE_64_BIT_ALL
    USE_64_BIT_INT
    USE_LARGE_FILES
    USE_LOCALE
    USE_LOCALE_COLLATE
    USE_LOCALE_CTYPE
    USE_LOCALE_NUMERIC
    USE_LOCALE_TIME
    USE_PERLIO
    USE_PERL_ATOF
  Built under linux
  Compiled at Apr 21 2019 00:01:52
  %ENV:
    PERL5LIB="/home/cpansand/.cpan/build/2019042323/TAP-SimpleOutput-0.009-2/blib/arch:/home/cpansand/.cpan/build/2019042323/TAP-SimpleOutput-0.009-2/blib/lib:/home/cpansand/.cpan/build/2019042323/Perl-Version-1.013-2/blib/arch:/home/cpansand/.cpan/build/2019042323/Perl-Version-1.013-2/blib/lib:/home/cpansand/.cpan/build/2019042323/File-Slurp-Tiny-0.004-1/blib/arch:/home/cpansand/.cpan/build/2019042323/File-Slurp-Tiny-0.004-1/blib/lib:/home/cpansand/.cpan/build/2019042323/Syntax-Keyword-Junction-0.003008-2/blib/arch:/home/cpansand/.cpan/build/2019042323/Syntax-Keyword-Junction-0.003008-2/blib/lib:/home/cpansand/.cpan/build/2019042323/Test-CheckDeps-0.010-1/blib/arch:/home/cpansand/.cpan/build/2019042323/Test-CheckDeps-0.010-1/blib/lib:/home/cpansand/.cpan/build/2019042323/Authen-U2F-0.003-2/blib/arch:/home/cpansand/.cpan/build/2019042323/Authen-U2F-0.003-2/blib/lib:/home/cpansand/.cpan/build/2019042323/Math-Random-Secure-0.080001-2/blib/arch:/home/cpansand/.cpan/build/2019042323/Math-Random-Secure-0.080001-2/blib/lib:/home/cpansand/.cpan/build/2019042323/Crypt-Random-Source-0.14-2/blib/arch:/home/cpansand/.cpan/build/2019042323/Crypt-Random-Source-0.14-2/blib/lib:/home/cpansand/.cpan/build/2019042323/CryptX-0.063-2/blib/arch:/home/cpansand/.cpan/build/2019042323/CryptX-0.063-2/blib/lib"
    PERL5OPT=""
    PERL5_CPANPLUS_IS_RUNNING="8803"
    PERL5_CPAN_IS_RUNNING="8803"
    PERL5_CPAN_IS_RUNNING_IN_RECURSION="27884,8803"
    PERLDOC="-MPod::Perldoc::ToTextOverstrike"
    PERL_BATCH="yes"
    PERL_CANARY_STABILITY_NOPROMPT="1"
    PERL_CPAN_REPORTER_CONFIG="/var/tmp/cpansmoker-1023/2019042323/cpanreporter_001_config.ini"
    PERL_EXTUTILS_AUTOINSTALL="--defaultdeps"
    PERL_USE_UNSAFE_INC="1"
  @INC:
    /home/cpansand/.cpan/build/2019042323/TAP-SimpleOutput-0.009-2/blib/arch
    /home/cpansand/.cpan/build/2019042323/TAP-SimpleOutput-0.009-2/blib/lib
    /home/cpansand/.cpan/build/2019042323/Perl-Version-1.013-2/blib/arch
    /home/cpansand/.cpan/build/2019042323/Perl-Version-1.013-2/blib/lib
    /home/cpansand/.cpan/build/2019042323/File-Slurp-Tiny-0.004-1/blib/arch
    /home/cpansand/.cpan/build/2019042323/File-Slurp-Tiny-0.004-1/blib/lib
    /home/cpansand/.cpan/build/2019042323/Syntax-Keyword-Junction-0.003008-2/blib/arch
    /home/cpansand/.cpan/build/2019042323/Syntax-Keyword-Junction-0.003008-2/blib/lib
    /home/cpansand/.cpan/build/2019042323/Test-CheckDeps-0.010-1/blib/arch
    /home/cpansand/.cpan/build/2019042323/Test-CheckDeps-0.010-1/blib/lib
    /home/cpansand/.cpan/build/2019042323/Authen-U2F-0.003-2/blib/arch
    /home/cpansand/.cpan/build/2019042323/Authen-U2F-0.003-2/blib/lib
    /home/cpansand/.cpan/build/2019042323/Math-Random-Secure-0.080001-2/blib/arch
    /home/cpansand/.cpan/build/2019042323/Math-Random-Secure-0.080001-2/blib/lib
    /home/cpansand/.cpan/build/2019042323/Crypt-Random-Source-0.14-2/blib/arch
    /home/cpansand/.cpan/build/2019042323/Crypt-Random-Source-0.14-2/blib/lib
    /home/cpansand/.cpan/build/2019042323/CryptX-0.063-2/blib/arch
    /home/cpansand/.cpan/build/2019042323/CryptX-0.063-2/blib/lib
    /opt/perl-5.29.10/lib/site_perl/5.29.10/x86_64-linux
    /opt/perl-5.29.10/lib/site_perl/5.29.10
    /opt/perl-5.29.10/lib/5.29.10/x86_64-linux
    /opt/perl-5.29.10/lib/5.29.10
    .