Archive-Tar-Wrapper v0.33 Perl 5 v5.28.0 amd64-freebsd
- Status
- Pass
- From
- Slaven Rezić (SREZIC)
- Dist
-
Archive-Tar-Wrapper v0.33
- Platform
- Perl 5 v5.28.0 amd64-freebsd
- Date
- 2018-07-10 11:55:48
- ID
- 2fa6f27c-8438-11e8-b145-88a5f7431c0f
This distribution has been tested as part of the CPAN Testers
project, supporting the Perl programming language. See
http://wiki.cpantesters.org/ for more information or email
questions to cpan-testers-discuss@perl.org
--
Dear Alceu Rodrigues de Freitas Junior,
This is a computer-generated report for Archive-Tar-Wrapper-0.33
on perl 5.28.0, created by CPAN-Reporter-1.2018.
Thank you for uploading your work to CPAN. Congratulations!
All tests were successful.
Sections of this report:
* Tester comments
* Program output
* Prerequisites
* Environment and other context
------------------------------
TESTER COMMENTS
------------------------------
Additional comments from tester:
none provided
------------------------------
PROGRAM OUTPUT
------------------------------
Output from '/usr/bin/make test':
PERL_DL_NONLAZY=1 "/usr/perl5.28.0p/bin/perl5.28.0" "-MExtUtils::Command::MM" "-MTest::Harness" "-e" "undef *Test::Harness::Switches; test_harness(0, 'blib/lib', 'blib/arch')" t/*.t
t/001Basic.t .............. ok
t/002Mult.t ............... ok
t/003Dirs.t ............... ok
t/004Utf8.t ............... ok
t/005Cwd.t ................ ok
t/006DirPerms.t ........... ok
t/007bzip.t ............... ok
# with grep: Ran 1337 iterations (316 outliers).
# with grep: Rounded run time per iteration: 0.000732 +/- 0.000000 (0.0%)
# with grep and compiled regex: Ran 1337 iterations (326 outliers).
# with grep and compiled regex: Rounded run time per iteration: 0.001053 +/- 0.000000 (0.0%)
# with eq: Ran 1102 iterations (78 outliers).
# with eq: Rounded run time per iteration: 0.000654 +/- 0.000000 (0.1%)
# with enhanced eq: Ran 1050 iterations (39 outliers).
# with enhanced eq: Rounded run time per iteration: 0.000608 +/- 0.000001 (0.1%)
# with enhanced eq mark2: Ran 1050 iterations (36 outliers).
# with enhanced eq mark2: Rounded run time per iteration: 0.000421 +/- 0.000001 (0.1%)
# with enhanced eq mark3: Ran 1102 iterations (89 outliers).
# with enhanced eq mark3: Rounded run time per iteration: 0.000300 +/- 0.000000 (0.1%)
# sort and shift: Ran 1214 iterations (195 outliers).
# sort and shift: Rounded run time per iteration: 0.000883 +/- 0.000000 (0.0%)
t/008performance.t ........ ok
# with grep: Ran 1403 iterations (371 outliers).
# with grep: Rounded run time per iteration: 0.000020 +/- 0.000000 (0.0%)
# with grep and compiled regex: Ran 1274 iterations (241 outliers).
# with grep and compiled regex: Rounded run time per iteration: 0.000028 +/- 0.000000 (0.0%)
# with eq: Ran 1337 iterations (311 outliers).
# with eq: Rounded run time per iteration: 0.000000 +/- 0.000000 (0.0%)
# with enhanced eq: Ran 1337 iterations (309 outliers).
# with enhanced eq: Rounded run time per iteration: 0.000017 +/- 0.000000 (0.0%)
# with enhanced eq mark2: Ran 1274 iterations (267 outliers).
# with enhanced eq mark2: Rounded run time per iteration: 0.000016 +/- 0.000000 (0.0%)
# with enhanced eq mark3: Ran 1274 iterations (255 outliers).
# with enhanced eq mark3: Rounded run time per iteration: 0.000016 +/- 0.000000 (0.0%)
# sort and shift: Ran 1274 iterations (266 outliers).
# sort and shift: Rounded run time per iteration: 0.000015 +/- 0.000000 (0.0%)
t/009performance-small.t .. ok
All tests successful.
Test Summary Report
-------------------
t/008performance.t (Wstat: 0 Tests: 1 Failed: 0)
TODO passed: 1
t/009performance-small.t (Wstat: 0 Tests: 1 Failed: 0)
TODO passed: 1
Files=9, Tests=54, 27 wallclock secs ( 0.05 usr 0.03 sys + 22.09 cusr 4.91 csys = 27.07 CPU)
Result: PASS
------------------------------
PREREQUISITES
------------------------------
Prerequisite modules loaded:
requires:
Module Need Have
------------------- -------- ----------
Cwd 0 3.74
File::Temp 0 0.2306
File::Which 0 1.22
IPC::Run 0 20180523.0
Log::Log4perl 0 1.49
perl 5.008001 5.028000
build_requires:
Module Need Have
------------------- -------- ----------
Dumbbench 0.111 0.111
ExtUtils::MakeMaker 0 7.34
Test::Simple 1.302073 1.302136
configure_requires:
Module Need Have
------------------- -------- ----------
ExtUtils::MakeMaker 0 7.34
File::Which 0 1.22
------------------------------
ENVIRONMENT AND OTHER CONTEXT
------------------------------
Environment variables:
PATH = /usr/local/bin:/usr/bin:/bin:/usr/local/sbin:/usr/sbin:/sbin:/home/cpansand/bin/sh:/home/cpansand/bin:/usr/games:/home/cpansand/devel:/home/eserte/src/srezic-misc/scripts
PERL5LIB = /home/cpansand/.cpan/build/2018071018/Dumbbench-0.111-1/blib/arch:/home/cpansand/.cpan/build/2018071018/Dumbbench-0.111-1/blib/lib:/home/cpansand/.cpan/build/2018071018/Statistics-CaseResampling-0.15-1/blib/arch:/home/cpansand/.cpan/build/2018071018/Statistics-CaseResampling-0.15-1/blib/lib:/home/cpansand/.cpan/build/2018071018/Number-WithError-1.01-1/blib/arch:/home/cpansand/.cpan/build/2018071018/Number-WithError-1.01-1/blib/lib:/home/cpansand/.cpan/build/2018071018/prefork-1.04-0/blib/arch:/home/cpansand/.cpan/build/2018071018/prefork-1.04-0/blib/lib:/home/cpansand/.cpan/build/2018071018/Test-LectroTest-0.5001-1/blib/arch:/home/cpansand/.cpan/build/2018071018/Test-LectroTest-0.5001-1/blib/lib:/home/cpansand/.cpan/build/2018071018/Devel-CheckOS-1.81-1/blib/arch:/home/cpansand/.cpan/build/2018071018/Devel-CheckOS-1.81-1/blib/lib
PERL5OPT =
PERL5_CPANPLUS_IS_RUNNING = 93215
PERL5_CPAN_IS_RUNNING = 93215
PERL5_CPAN_IS_RUNNING_IN_RECURSION = 92456,93215
PERL_BATCH = yes
PERL_CANARY_STABILITY_NOPROMPT = 1
PERL_CPAN_REPORTER_CONFIG = /var/tmp/cpansmoker-1023/2018071018/cpanreporter_000_config.ini
PERL_EXTUTILS_AUTOINSTALL = --defaultdeps
PERL_USE_UNSAFE_INC = 1
SHELL = /bin/sh
TMPDIR = /var/tmp/cpansmoker-1023/2018071018
Perl special variables (and OS-specific diagnostics, for MSWin32):
$^X = /usr/perl5.28.0p/bin/perl5.28.0
$UID/$EUID = 1023 / 1023
$GID = 1023 1023
$EGID = 1023 1023
Perl module toolchain versions installed:
Module Have
------------------- --------
CPAN 2.20
CPAN::Meta 2.150010
Cwd 3.74
ExtUtils::CBuilder 0.280230
ExtUtils::Command 7.34
ExtUtils::Install 2.14
ExtUtils::MakeMaker 7.34
ExtUtils::Manifest 1.70
ExtUtils::ParseXS 3.39
File::Spec 3.74
JSON 2.97001
JSON::PP 2.97001
Module::Build 0.4224
Module::Signature 0.81
Parse::CPAN::Meta 2.150010
Test::Harness 3.42
Test::More 1.302136
YAML 1.26
YAML::Syck 1.30
version 0.9923
--
Summary of my perl5 (revision 5 version 28 subversion 0) configuration:
Platform:
osname=freebsd
osvers=11.1-release-p9
archname=amd64-freebsd
uname='freebsd ali2.bbbike.org 11.1-release-p9 freebsd 11.1-release-p9 #0: tue apr 3 16:59:16 utc 2018 root@amd64-builder.daemonology.net:usrobjusrsrcsysgeneric amd64 '
config_args='-ds -e -Dprefix=/usr/perl5.28.0p -Dcf_email=srezic@cpan.org -Doptimize=-O2 -pipe'
hint=recommended
useposix=true
d_sigaction=define
useithreads=undef
usemultiplicity=undef
use64bitint=define
use64bitall=define
uselongdouble=undef
usemymalloc=n
default_inc_excludes_dot=define
bincompat5005=undef
Compiler:
cc='cc'
ccflags ='-DHAS_FPSETMASK -DHAS_FLOATINGPOINT_H -fno-strict-aliasing -pipe -fstack-protector-strong -I/usr/local/include -D_FORTIFY_SOURCE=2'
optimize='-O2 -pipe'
cppflags='-DHAS_FPSETMASK -DHAS_FLOATINGPOINT_H -fno-strict-aliasing -pipe -fstack-protector-strong -I/usr/local/include'
ccversion=''
gccversion='4.2.1 Compatible FreeBSD Clang 4.0.0 (tags/RELEASE_400/final 297347)'
gccosandvers=''
intsize=4
longsize=8
ptrsize=8
doublesize=8
byteorder=12345678
doublekind=3
d_longlong=define
longlongsize=8
d_longdbl=define
longdblsize=16
longdblkind=3
ivtype='long'
ivsize=8
nvtype='double'
nvsize=8
Off_t='off_t'
lseeksize=8
alignbytes=8
prototype=define
Linker and Libraries:
ld='cc'
ldflags ='-pthread -Wl,-E -fstack-protector-strong -L/usr/local/lib'
libpth=/usr/lib /usr/local/lib /usr/bin/../lib/clang/4.0.0/lib /usr/lib
libs=-lpthread -lgdbm -lm -lcrypt -lutil -lc
perllibs=-lpthread -lm -lcrypt -lutil -lc
libc=
so=so
useshrplib=false
libperl=libperl.a
gnulibc_version=''
Dynamic Linking:
dlsrc=dl_dlopen.xs
dlext=so
d_dlsymun=undef
ccdlflags=' '
cccdlflags='-DPIC -fPIC'
lddlflags='-shared -L/usr/local/lib -fstack-protector-strong'
Characteristics of this binary (from libperl):
Compile-time options:
HAS_TIMES
PERLIO_LAYERS
PERL_COPY_ON_WRITE
PERL_DONT_CREATE_GVSV
PERL_MALLOC_WRAP
PERL_OP_PARENT
PERL_PRESERVE_IVUV
USE_64_BIT_ALL
USE_64_BIT_INT
USE_LARGE_FILES
USE_LOCALE
USE_LOCALE_COLLATE
USE_LOCALE_CTYPE
USE_LOCALE_NUMERIC
USE_LOCALE_TIME
USE_PERLIO
USE_PERL_ATOF
Built under freebsd
Compiled at Jun 24 2018 17:11:34
%ENV:
PERL5LIB="/home/cpansand/.cpan/build/2018071018/Dumbbench-0.111-1/blib/arch:/home/cpansand/.cpan/build/2018071018/Dumbbench-0.111-1/blib/lib:/home/cpansand/.cpan/build/2018071018/Statistics-CaseResampling-0.15-1/blib/arch:/home/cpansand/.cpan/build/2018071018/Statistics-CaseResampling-0.15-1/blib/lib:/home/cpansand/.cpan/build/2018071018/Number-WithError-1.01-1/blib/arch:/home/cpansand/.cpan/build/2018071018/Number-WithError-1.01-1/blib/lib:/home/cpansand/.cpan/build/2018071018/prefork-1.04-0/blib/arch:/home/cpansand/.cpan/build/2018071018/prefork-1.04-0/blib/lib:/home/cpansand/.cpan/build/2018071018/Test-LectroTest-0.5001-1/blib/arch:/home/cpansand/.cpan/build/2018071018/Test-LectroTest-0.5001-1/blib/lib:/home/cpansand/.cpan/build/2018071018/Devel-CheckOS-1.81-1/blib/arch:/home/cpansand/.cpan/build/2018071018/Devel-CheckOS-1.81-1/blib/lib"
PERL5OPT=""
PERL5_CPANPLUS_IS_RUNNING="93215"
PERL5_CPAN_IS_RUNNING="93215"
PERL5_CPAN_IS_RUNNING_IN_RECURSION="92456,93215"
PERL_BATCH="yes"
PERL_CANARY_STABILITY_NOPROMPT="1"
PERL_CPAN_REPORTER_CONFIG="/var/tmp/cpansmoker-1023/2018071018/cpanreporter_000_config.ini"
PERL_EXTUTILS_AUTOINSTALL="--defaultdeps"
PERL_USE_UNSAFE_INC="1"
@INC:
/home/cpansand/.cpan/build/2018071018/Dumbbench-0.111-1/blib/arch
/home/cpansand/.cpan/build/2018071018/Dumbbench-0.111-1/blib/lib
/home/cpansand/.cpan/build/2018071018/Statistics-CaseResampling-0.15-1/blib/arch
/home/cpansand/.cpan/build/2018071018/Statistics-CaseResampling-0.15-1/blib/lib
/home/cpansand/.cpan/build/2018071018/Number-WithError-1.01-1/blib/arch
/home/cpansand/.cpan/build/2018071018/Number-WithError-1.01-1/blib/lib
/home/cpansand/.cpan/build/2018071018/prefork-1.04-0/blib/arch
/home/cpansand/.cpan/build/2018071018/prefork-1.04-0/blib/lib
/home/cpansand/.cpan/build/2018071018/Test-LectroTest-0.5001-1/blib/arch
/home/cpansand/.cpan/build/2018071018/Test-LectroTest-0.5001-1/blib/lib
/home/cpansand/.cpan/build/2018071018/Devel-CheckOS-1.81-1/blib/arch
/home/cpansand/.cpan/build/2018071018/Devel-CheckOS-1.81-1/blib/lib
/usr/perl5.28.0p/lib/site_perl/5.28.0/amd64-freebsd
/usr/perl5.28.0p/lib/site_perl/5.28.0
/usr/perl5.28.0p/lib/5.28.0/amd64-freebsd
/usr/perl5.28.0p/lib/5.28.0
.