Geo-Coder-CA v0.15 Perl 5 v5.32.1 x86_64-linux
- Status
- Pass
- From
- David Solimano
- Dist
-
Geo-Coder-CA v0.15
- Platform
- Perl 5 v5.32.1 x86_64-linux
- Date
- 2025-07-13 21:20:22
- ID
- 2f32872c-602f-11f0-b881-da0735f4793a
This distribution has been tested as part of the CPAN Testers
project, supporting the Perl programming language. See
http://wiki.cpantesters.org/ for more information or email
questions to cpan-testers-discuss@perl.org
--
Dear Nigel Horne,
This is a computer-generated report for Geo-Coder-CA-0.15
on perl 5.32.1, created by CPAN-Reporter-1.2019.
Thank you for uploading your work to CPAN. Congratulations!
All tests were successful.
Sections of this report:
* Tester comments
* Program output
* Prerequisites
* Environment and other context
------------------------------
TESTER COMMENTS
------------------------------
Additional comments from tester:
this report is from an automated smoke testing program
and was not reviewed by a human for accuracy
------------------------------
PROGRAM OUTPUT
------------------------------
Output from '/usr/bin/make test':
PERL_DL_NONLAZY=1 "/home/perluser/perl5/perlbrew/perls/perl-5.32.1/bin/perl" "-MExtUtils::Command::MM" "-MTest::Harness" "-e" "undef *Test::Harness::Switches; test_harness(0, 'blib/lib', 'blib/arch')" t/*.t
# Testing Geo::Coder::CA 0.15, Perl 5.032001, /home/perluser/perl5/perlbrew/perls/perl-5.32.1/bin/perl
t/00-load.t ........... ok
t/10-new.t ............ ok
# Author tests not required for installation
t/bin.t ............... ok
t/boiler.t ............ ok
# Author tests not required for installation
t/ca.t ................ ok
t/carp.t .............. ok
t/changes.t ........... skipped: Not running author tests
t/comment-spelling.t .. skipped: Author tests not required for installation
t/coverage.t .......... skipped: Test::Pod::Coverage 1.08 required for testing POD coverage
t/critic.t ............ skipped: Not running author tests
t/cv.t ................ skipped: Not running author tests
t/dist.t .............. skipped: Not running author tests
t/eof.t ............... skipped: Author tests not required for installation
t/eol.t ............... skipped: Author tests not required for installation
t/gv.t ................ skipped: Author tests not required for installation
t/kwalitee.t .......... skipped: Author tests not required for installation
t/links.t ............. skipped: Not running author tests
t/manifest.t .......... skipped: Author tests not required for installation
t/metrics.t ........... skipped: Author tests not required for installation
t/namespaces.t ........ skipped: Author tests not required for installation
t/no404s.t ............ skipped: Not running author tests
# Author tests not required for installation
t/noopentickets.t ..... ok
t/noplan.t ............ skipped: Not running author tests
t/pod-cm.t ............ skipped: Test::Pod::Spelling::CommonMistakes required for testing POD spelling
t/pod-spelling.t ...... skipped: Author tests not required for installation
t/pod-synopsis.t ...... skipped: Author tests not required for installation
t/pod.t ............... skipped: Author tests not required for installation
t/port.t .............. skipped: Test::Portability::Files required for testing filenames portability
t/prereq.t ............ skipped: Author tests not required for installation
t/snippets.t .......... skipped: Author tests not required for installation
t/strict.t ............ skipped: Author tests not required for installation
t/unused.t ............ skipped: Author tests not required for installation
# On-line tests have been disabled
t/us.t ................ ok
t/used.t .............. skipped: Author tests not required for installation
t/vars.t .............. skipped: Author tests not required for installation
All tests successful.
Test Summary Report
-------------------
t/boiler.t (Wstat: 0 Tests: 3 Failed: 0)
TODO passed: 1-3
Files=35, Tests=46, 7 wallclock secs ( 0.14 usr 0.20 sys + 4.60 cusr 1.97 csys = 6.91 CPU)
Result: PASS
------------------------------
PREREQUISITES
------------------------------
Prerequisite modules loaded:
requires:
Module Need Have
-------------------- -------- --------
Encode 0 3.21
JSON::MaybeXS 0 1.004005
LWP::Protocol::https 0 6.14
LWP::UserAgent 0 6.77
perl 5.006002 5.032001
URI 0 5.28
build_requires:
Module Need Have
-------------------- -------- --------
autodie 0 2.32
ExtUtils::MakeMaker 0 7.44
IPC::System::Simple 0 1.30
Test::Carp 0 0.2
Test::DescribeMe 0 0.004
Test::Most 0 0.38
Test::Needs 0 0.002010
Test::NoWarnings 0 1.06
Test::Number::Delta 0 1.06
Test::Script 1.12 1.29
WWW::RT::CPAN 0 0.002
configure_requires:
Module Need Have
-------------------- -------- --------
ExtUtils::MakeMaker 0 7.44
------------------------------
ENVIRONMENT AND OTHER CONTEXT
------------------------------
Environment variables:
AUTOMATED_TESTING = 1
LANG = en_US.UTF-8
PATH = /home/perluser/perl5/perlbrew/bin:/home/perluser/perl5/perlbrew/perls/perl-5.32.1/bin:/home/davidlou/.cargo/bin:/home/davidlou/perl5/perlbrew/bin:/usr/local/bin:/usr/bin:/bin:/usr/local/games:/usr/games
PERL5LIB = /home/perluser/.cpan/build/WWW-RT-CPAN-0.002-1/blib/arch:/home/perluser/.cpan/build/WWW-RT-CPAN-0.002-1/blib/lib:/home/perluser/.cpan/build/Test-Script-1.29-0/blib/arch:/home/perluser/.cpan/build/Test-Script-1.29-0/blib/lib:/home/perluser/.cpan/build/Test-Most-0.38-11/blib/arch:/home/perluser/.cpan/build/Test-Most-0.38-11/blib/lib:/home/perluser/.cpan/build/Test-DescribeMe-0.004-3/blib/arch:/home/perluser/.cpan/build/Test-DescribeMe-0.004-3/blib/lib:/home/perluser/.cpan/build/Test-Settings-0.003-3/blib/arch:/home/perluser/.cpan/build/Test-Settings-0.003-3/blib/lib:/home/perluser/.cpan/build/Test-Carp-0.2-1/blib/arch:/home/perluser/.cpan/build/Test-Carp-0.2-1/blib/lib:/home/perluser/.cpan/build/LWP-Protocol-https-6.14-9/blib/arch:/home/perluser/.cpan/build/LWP-Protocol-https-6.14-9/blib/lib
PERL5OPT =
PERL5_CPANPLUS_IS_RUNNING = 2730614
PERL5_CPAN_IS_RUNNING = 2730614
PERL5_CPAN_IS_RUNNING_IN_RECURSION = 4189922,2730614
PERLBREW_HOME = /home/davidlou/.perlbrew
PERLBREW_MANPATH = /home/perluser/perl5/perlbrew/perls/perl-5.32.1/man
PERLBREW_PATH = /home/perluser/perl5/perlbrew/bin:/home/perluser/perl5/perlbrew/perls/perl-5.32.1/bin
PERLBREW_PERL = perl-5.32.1
PERLBREW_ROOT = /home/perluser/perl5/perlbrew
PERLBREW_SHELLRC_VERSION = 0.98
PERLBREW_VERSION = 0.98
PERL_CR_SMOKER_CURRENT = Geo-Coder-CA-0.15
PERL_EXTUTILS_AUTOINSTALL = --defaultdeps
PERL_MM_USE_DEFAULT = 1
PERL_USE_UNSAFE_INC = 1
SHELL = /bin/bash
TERM = xterm
Perl special variables (and OS-specific diagnostics, for MSWin32):
$^X = /home/perluser/perl5/perlbrew/perls/perl-5.32.1/bin/perl
$UID/$EUID = 1001 / 1001
$GID = 1001 1001
$EGID = 1001 1001
Perl module toolchain versions installed:
Module Have
------------------- --------
CPAN 2.27
CPAN::Meta 2.150010
Cwd 3.78
ExtUtils::CBuilder 0.280234
ExtUtils::Command 7.44
ExtUtils::Install 2.14
ExtUtils::MakeMaker 7.44
ExtUtils::Manifest 1.72
ExtUtils::ParseXS 3.40
File::Spec 3.78
JSON n/a
JSON::PP 4.04
Module::Build 0.4234
Module::Signature n/a
Parse::CPAN::Meta 2.150010
Test2 1.302199
Test::Harness 3.42
Test::More 1.302199
YAML 1.31
YAML::Syck n/a
version 0.9924
--
Summary of my perl5 (revision 5 version 32 subversion 1) configuration:
Platform:
osname=linux
osvers=5.10.0-23-amd64
archname=x86_64-linux
uname='linux csi-nyp-lensrv 5.10.0-23-amd64 #1 smp debian 5.10.179-1 (2023-05-12) x86_64 gnulinux '
config_args='-de -Dprefix=/home/perluser/perl5/perlbrew/perls/perl-5.32.1 -Aeval:scriptdir=/home/perluser/perl5/perlbrew/perls/perl-5.32.1/bin'
hint=recommended
useposix=true
d_sigaction=define
useithreads=undef
usemultiplicity=undef
use64bitint=define
use64bitall=define
uselongdouble=undef
usemymalloc=n
default_inc_excludes_dot=define
bincompat5005=undef
Compiler:
cc='cc'
ccflags ='-fwrapv -fno-strict-aliasing -pipe -fstack-protector-strong -I/usr/local/include -D_LARGEFILE_SOURCE -D_FILE_OFFSET_BITS=64 -D_FORTIFY_SOURCE=2'
optimize='-O2'
cppflags='-fwrapv -fno-strict-aliasing -pipe -fstack-protector-strong -I/usr/local/include'
ccversion=''
gccversion='10.2.1 20210110'
gccosandvers=''
intsize=4
longsize=8
ptrsize=8
doublesize=8
byteorder=12345678
doublekind=3
d_longlong=define
longlongsize=8
d_longdbl=define
longdblsize=16
longdblkind=3
ivtype='long'
ivsize=8
nvtype='double'
nvsize=8
Off_t='off_t'
lseeksize=8
alignbytes=8
prototype=define
Linker and Libraries:
ld='cc'
ldflags =' -fstack-protector-strong -L/usr/local/lib'
libpth=/usr/local/lib /usr/include/x86_64-linux-gnu /usr/lib /lib/x86_64-linux-gnu /lib/../lib /usr/lib/x86_64-linux-gnu /usr/lib/../lib /lib
libs=-lpthread -lnsl -ldb -ldl -lm -lcrypt -lutil -lc
perllibs=-lpthread -lnsl -ldl -lm -lcrypt -lutil -lc
libc=libc-2.31.so
so=so
useshrplib=false
libperl=libperl.a
gnulibc_version='2.31'
Dynamic Linking:
dlsrc=dl_dlopen.xs
dlext=so
d_dlsymun=undef
ccdlflags='-Wl,-E'
cccdlflags='-fPIC'
lddlflags='-shared -O2 -L/usr/local/lib -fstack-protector-strong'
Characteristics of this binary (from libperl):
Compile-time options:
HAS_TIMES
PERLIO_LAYERS
PERL_COPY_ON_WRITE
PERL_DONT_CREATE_GVSV
PERL_MALLOC_WRAP
PERL_OP_PARENT
PERL_PRESERVE_IVUV
USE_64_BIT_ALL
USE_64_BIT_INT
USE_LARGE_FILES
USE_LOCALE
USE_LOCALE_COLLATE
USE_LOCALE_CTYPE
USE_LOCALE_NUMERIC
USE_LOCALE_TIME
USE_PERLIO
USE_PERL_ATOF
Locally applied patches:
Devel::PatchPerl 2.08
Built under linux
Compiled at May 14 2024 20:12:59
%ENV:
PERL5LIB="/home/perluser/.cpan/build/WWW-RT-CPAN-0.002-1/blib/arch:/home/perluser/.cpan/build/WWW-RT-CPAN-0.002-1/blib/lib:/home/perluser/.cpan/build/Test-Script-1.29-0/blib/arch:/home/perluser/.cpan/build/Test-Script-1.29-0/blib/lib:/home/perluser/.cpan/build/Test-Most-0.38-11/blib/arch:/home/perluser/.cpan/build/Test-Most-0.38-11/blib/lib:/home/perluser/.cpan/build/Test-DescribeMe-0.004-3/blib/arch:/home/perluser/.cpan/build/Test-DescribeMe-0.004-3/blib/lib:/home/perluser/.cpan/build/Test-Settings-0.003-3/blib/arch:/home/perluser/.cpan/build/Test-Settings-0.003-3/blib/lib:/home/perluser/.cpan/build/Test-Carp-0.2-1/blib/arch:/home/perluser/.cpan/build/Test-Carp-0.2-1/blib/lib:/home/perluser/.cpan/build/LWP-Protocol-https-6.14-9/blib/arch:/home/perluser/.cpan/build/LWP-Protocol-https-6.14-9/blib/lib"
PERL5OPT=""
PERL5_CPANPLUS_IS_RUNNING="2730614"
PERL5_CPAN_IS_RUNNING="2730614"
PERL5_CPAN_IS_RUNNING_IN_RECURSION="4189922,2730614"
PERLBREW_HOME="/home/davidlou/.perlbrew"
PERLBREW_MANPATH="/home/perluser/perl5/perlbrew/perls/perl-5.32.1/man"
PERLBREW_PATH="/home/perluser/perl5/perlbrew/bin:/home/perluser/perl5/perlbrew/perls/perl-5.32.1/bin"
PERLBREW_PERL="perl-5.32.1"
PERLBREW_ROOT="/home/perluser/perl5/perlbrew"
PERLBREW_SHELLRC_VERSION="0.98"
PERLBREW_VERSION="0.98"
PERL_CR_SMOKER_CURRENT="Geo-Coder-CA-0.15"
PERL_EXTUTILS_AUTOINSTALL="--defaultdeps"
PERL_MM_USE_DEFAULT="1"
PERL_USE_UNSAFE_INC="1"
@INC:
/home/perluser/.cpan/build/WWW-RT-CPAN-0.002-1/blib/arch
/home/perluser/.cpan/build/WWW-RT-CPAN-0.002-1/blib/lib
/home/perluser/.cpan/build/Test-Script-1.29-0/blib/arch
/home/perluser/.cpan/build/Test-Script-1.29-0/blib/lib
/home/perluser/.cpan/build/Test-Most-0.38-11/blib/arch
/home/perluser/.cpan/build/Test-Most-0.38-11/blib/lib
/home/perluser/.cpan/build/Test-DescribeMe-0.004-3/blib/arch
/home/perluser/.cpan/build/Test-DescribeMe-0.004-3/blib/lib
/home/perluser/.cpan/build/Test-Settings-0.003-3/blib/arch
/home/perluser/.cpan/build/Test-Settings-0.003-3/blib/lib
/home/perluser/.cpan/build/Test-Carp-0.2-1/blib/arch
/home/perluser/.cpan/build/Test-Carp-0.2-1/blib/lib
/home/perluser/.cpan/build/LWP-Protocol-https-6.14-9/blib/arch
/home/perluser/.cpan/build/LWP-Protocol-https-6.14-9/blib/lib
/home/perluser/perl5/perlbrew/perls/perl-5.32.1/lib/site_perl/5.32.1/x86_64-linux
/home/perluser/perl5/perlbrew/perls/perl-5.32.1/lib/site_perl/5.32.1
/home/perluser/perl5/perlbrew/perls/perl-5.32.1/lib/5.32.1/x86_64-linux
/home/perluser/perl5/perlbrew/perls/perl-5.32.1/lib/5.32.1
.