HTTP-Exception v0.04007 Perl 5 v5.8.9 amd64-freebsd
        
            - Status
- Pass
- From
- Slaven Rezić (SREZIC)
- Dist
- 
                HTTP-Exception v0.04007
            
- Platform
- Perl 5 v5.8.9 amd64-freebsd
- Date
- 2018-07-26 21:02:19
- ID
- 2f2e3a26-9117-11e8-bbba-9e5436d0cbba
This distribution has been tested as part of the CPAN Testers
project, supporting the Perl programming language.  See
http://wiki.cpantesters.org/ for more information or email
questions to cpan-testers-discuss@perl.org
--
Dear Thomas Mueller,
This is a computer-generated report for HTTP-Exception-0.04007
on perl 5.8.9, created by CPAN-Reporter-1.2018.
Thank you for uploading your work to CPAN.  Congratulations!
All tests were successful.
Sections of this report:
    * Tester comments
    * Program output
    * Prerequisites
    * Environment and other context
------------------------------
TESTER COMMENTS
------------------------------
Additional comments from tester:
none provided
------------------------------
PROGRAM OUTPUT
------------------------------
Output from '/usr/bin/make test':
PERL_DL_NONLAZY=1 "/usr/perl5.8.9/bin/perl" "-MExtUtils::Command::MM" "-MTest::Harness" "-e" "undef *Test::Harness::Switches; test_harness(0, 'blib/lib', 'blib/arch')" t/*.t
t/00-load.t ............... ok
t/01-exceptions.t ......... ok
t/02-combinations.t ....... ok
t/03-nice.t ............... ok
t/04-subclassing.t ........ ok
t/05-plack.t .............. ok
t/06-is_methods.t ......... ok
t/07-status_messages.t .... ok
t/08-teapot.t ............. ok
t/10-fields_1xx.t ......... skipped: no fields for HTTP::Exception::1XX yet
t/11-fields_2xx.t ......... skipped: no fields for HTTP::Exception::2XX yet
t/12-fields_3xx.t ......... ok
t/13-fields_4xx.t ......... skipped: no fields for HTTP::Exception::4XX yet
t/14-fields_5xx.t ......... skipped: no fields for HTTP::Exception::5XX yet
t/15-fields_ec.t .......... ok
t/20-load_1XX.t ........... ok
t/21-load_2XX.t ........... ok
t/22-load_3XX.t ........... ok
t/23-load_4XX.t ........... ok
t/24-load_5XX.t ........... ok
t/25-load_all.t ........... ok
t/26-load_server_error.t .. ok
t/27-load_client_error.t .. ok
t/28-load_errors.t ........ ok
t/29-load_redirection.t ... ok
t/30-implicit_all.t ....... ok
t/31-load_mixed.t ......... ok
t/32-load_warnings.t ...... ok
t/boilerplate.t ........... skipped: Author tests not required for installation
t/eol.t ................... skipped: Author tests not required for installation
t/eol_special.t ........... skipped: Author tests not required for installation
t/manifest.t .............. skipped: Author tests not required for installation
t/pod.t ................... skipped: Author tests not required for installation
All tests successful.
Files=33, Tests=4693,  4 wallclock secs ( 0.20 usr  0.30 sys +  2.16 cusr  0.48 csys =  3.14 CPU)
Result: PASS
------------------------------
PREREQUISITES
------------------------------
Prerequisite modules loaded:
requires:
    Module              Need  Have    
    ------------------- ----- --------
    base                0     2.23    
    Exception::Class    1.29  1.44    
    HTTP::Status        5.817 6.18    
    Scalar::Util        1.22  1.50    
    strict              0     1.03    
    Test::Exception     0.29  0.43    
    Test::More          0.88  1.302138
    Test::NoWarnings    1.04  1.04    
    warnings            0     1.05_01 
build_requires:
    Module              Need  Have    
    ------------------- ----- --------
    ExtUtils::MakeMaker 0     7.34    
configure_requires:
    Module              Need  Have    
    ------------------- ----- --------
    ExtUtils::MakeMaker 0     7.34    
------------------------------
ENVIRONMENT AND OTHER CONTEXT
------------------------------
Environment variables:
    LC_ALL = de_DE.ISO8859-1
    PATH = /usr/local/bin:/usr/bin:/bin:/usr/local/sbin:/usr/sbin:/sbin:/home/cpansand/bin/freebsd9.3:/home/cpansand/bin/sh:/home/cpansand/bin:/usr/games:/home/cpansand/devel:/usr/home/eserte/src/srezic-misc/scripts
    PERL5LIB = 
    PERL5OPT = 
    PERL5_CPANPLUS_IS_RUNNING = 90812
    PERL5_CPAN_IS_RUNNING = 90812
    PERL5_CPAN_IS_RUNNING_IN_RECURSION = 87557,90812
    PERLDOC = -MPod::Perldoc::ToTextOverstrike
    PERL_BATCH = yes
    PERL_CANARY_STABILITY_NOPROMPT = 1
    PERL_CPAN_REPORTER_CONFIG = /var/tmp/cpansmoker-1023/2018072620/cpanreporter_000_config.ini
    PERL_EXTUTILS_AUTOINSTALL = --defaultdeps
    SHELL = /usr/local/bin/zsh
    TERM = screen
    TMPDIR = /var/tmp/cpansmoker-1023/2018072620
Perl special variables (and OS-specific diagnostics, for MSWin32):
    $^X = /usr/perl5.8.9/bin/perl
    $UID/$EUID = 1023 / 1023
    $GID = 1023 1023
    $EGID = 1023 1023
Perl module toolchain versions installed:
    Module              Have    
    ------------------- --------
    CPAN                2.16    
    CPAN::Meta          2.150010
    Cwd                 3.74    
    ExtUtils::CBuilder  0.280230
    ExtUtils::Command   7.34    
    ExtUtils::Install   2.12    
    ExtUtils::MakeMaker 7.34    
    ExtUtils::Manifest  1.71    
    ExtUtils::ParseXS   3.35    
    File::Spec          3.74    
    JSON                2.97001 
    JSON::PP            2.97001 
    Module::Build       0.4224  
    Module::Signature   0.81    
    Parse::CPAN::Meta   2.150010
    Test::Harness       3.41    
    Test::More          1.302138
    YAML                1.23    
    YAML::Syck          1.30    
    version             0.9924  
--
Summary of my perl5 (revision 5 version 8 subversion 9) configuration:
  Platform:
    osname=freebsd, osvers=9.2-release-p4, archname=amd64-freebsd
    uname='freebsd cvrsnica-freebsd-92 9.2-release-p4 freebsd 9.2-release-p4 #0: tue apr 8 18:08:22 utc 2014 root@amd64-builder.daemonology.net:usrobjusrsrcsysgeneric amd64 '
    config_args='-ds -e -Dprefix=/usr/perl5.8.9'
    hint=recommended, useposix=true, d_sigaction=define
    usethreads=undef use5005threads=undef useithreads=undef usemultiplicity=undef
    useperlio=define d_sfio=undef uselargefiles=define usesocks=undef
    use64bitint=define use64bitall=define uselongdouble=undef
    usemymalloc=n, bincompat5005=undef
  Compiler:
    cc='cc', ccflags ='-DHAS_FPSETMASK -DHAS_FLOATINGPOINT_H -fno-strict-aliasing -pipe -I/usr/local/include',
    optimize='-O',
    cppflags='-DHAS_FPSETMASK -DHAS_FLOATINGPOINT_H -fno-strict-aliasing -pipe -I/usr/local/include'
    ccversion='', gccversion='4.2.1 20070831 patched [FreeBSD]', gccosandvers=''
    intsize=4, longsize=8, ptrsize=8, doublesize=8, byteorder=12345678
    d_longlong=define, longlongsize=8, d_longdbl=define, longdblsize=16
    ivtype='long', ivsize=8, nvtype='double', nvsize=8, Off_t='off_t', lseeksize=8
    alignbytes=8, prototype=define
  Linker and Libraries:
    ld='cc', ldflags ='-Wl,-E  -L/usr/local/lib'
    libpth=/usr/lib /usr/local/lib
    libs=-lgdbm -lm -lcrypt -lutil -lc
    perllibs=-lm -lcrypt -lutil -lc
    libc=, so=so, useshrplib=false, libperl=libperl.a
    gnulibc_version=''
  Dynamic Linking:
    dlsrc=dl_dlopen.xs, dlext=so, d_dlsymun=undef, ccdlflags=' '
    cccdlflags='-DPIC -fPIC', lddlflags='-shared  -L/usr/local/lib'
Characteristics of this binary (from libperl): 
  Compile-time options: PERL_MALLOC_WRAP USE_64_BIT_ALL USE_64_BIT_INT
                        USE_FAST_STDIO USE_LARGE_FILES USE_PERLIO
  Built under freebsd
  Compiled at May 15 2014 22:27:57
  %ENV:
    PERL5LIB=""
    PERL5OPT=""
    PERL5_CPANPLUS_IS_RUNNING="90812"
    PERL5_CPAN_IS_RUNNING="90812"
    PERL5_CPAN_IS_RUNNING_IN_RECURSION="87557,90812"
    PERLDOC="-MPod::Perldoc::ToTextOverstrike"
    PERL_BATCH="yes"
    PERL_CANARY_STABILITY_NOPROMPT="1"
    PERL_CPAN_REPORTER_CONFIG="/var/tmp/cpansmoker-1023/2018072620/cpanreporter_000_config.ini"
    PERL_EXTUTILS_AUTOINSTALL="--defaultdeps"
  @INC:
    /usr/perl5.8.9/lib/5.8.9/amd64-freebsd
    /usr/perl5.8.9/lib/5.8.9
    /usr/perl5.8.9/lib/site_perl/5.8.9/amd64-freebsd
    /usr/perl5.8.9/lib/site_perl/5.8.9
    .