Catalyst-View-Email v0.30 Perl 5 v5.12.0 i686-linux
- Status
- Pass
- From
- Yanick Champoux (YANICK)
- Dist
-
Catalyst-View-Email v0.30
- Platform
- Perl 5 v5.12.0 i686-linux
- Date
- 2010-08-16 11:55:36
- ID
- 2ecd905c-a92d-11df-9ede-8ab85f5a50f1
This distribution has been tested as part of the CPAN Testers
project, supporting the Perl programming language. See
http://wiki.cpantesters.org/ for more information or email
questions to cpan-testers-discuss@perl.org
--
Dear Devin Austin,
This is a computer-generated report for Catalyst-View-Email-0.30
on perl 5.12.0, created by CPAN-Reporter-1.1711.
Thank you for uploading your work to CPAN. Congratulations!
All tests were successful.
Sections of this report:
* Tester comments
* Program output
* Prerequisites
* Environment and other context
------------------------------
TESTER COMMENTS
------------------------------
Additional comments from tester:
none provided
------------------------------
PROGRAM OUTPUT
------------------------------
Output from '/usr/bin/make test':
PERL_DL_NONLAZY=1 /home/yanick/perl5/perlbrew/perls/perl-5.12.0/bin/perl "-MExtUtils::Command::MM" "-e" "test_harness(0, 'inc', 'blib/lib', 'blib/arch')" t/01use.t t/02pod.t t/04basic.t t/05template.t t/06config.t t/07mason.t
t/01use.t ....... ok
t/02pod.t ....... skipped: set TEST_POD to enable this test
t/04basic.t ..... ok
t/05template.t .. ok
t/06config.t .... ok
t/07mason.t ..... ok
All tests successful.
Files=6, Tests=40, 12 wallclock secs ( 0.06 usr 0.02 sys + 7.10 cusr 0.49 csys = 7.67 CPU)
Result: PASS
------------------------------
PREREQUISITES
------------------------------
Prerequisite modules loaded:
requires:
Module Need Have
--------------------- -------- --------
Authen::SASL 2.13 2.15
Catalyst 5.7 5.80022
Email::MIME 1.859 1.903
Email::MIME::Creator 1.455 1.903
Email::Sender::Simple 0.100110 0.101760
ExtUtils::MakeMaker 6.42 6.56
MIME::Base64 3.08 3.08
Moose 0.93 1.08
parent 0.223 0.223
Test::More 0 0.94
Test::Requires 0 0.05
configure_requires:
Module Need Have
--------------------- -------- --------
ExtUtils::MakeMaker 6.42 6.56
------------------------------
ENVIRONMENT AND OTHER CONTEXT
------------------------------
Environment variables:
LANG = en_US.utf8
LANGUAGE =
LD_LIBRARY_PATH = /usr/kde/3.5//lib:
PATH = /home/yanick/perl5/perlbrew/bin:/home/yanick/perl5/perlbrew/perls/current/bin:/usr/soft/java/jdk1.5.0_01/bin:/usr/kde/3.5//bin:/usr/local/sbin:/usr/local/bin:/usr/sbin:/usr/bin:/sbin:/bin:/usr/games:/usr/X11R6/bin:/bin:/usr/local/bin:/usr/bin:.:/home/yanick/bin:/usr/local/soft3/teTeX/bin/i586-pc-linux-gnu:/usr/local/soft/latex/unicode:~/work/git-achievements:/home/yanick/bin
PERL5LIB =
PERL5OPT =
PERL5_CPANPLUS_IS_RUNNING = 12824
PERL5_CPAN_IS_RUNNING = 12824
SHELL = /bin/bash
TERM = xterm-color
Perl special variables (and OS-specific diagnostics, for MSWin32):
$^X = /home/yanick/perl5/perlbrew/perls/perl-5.12.0/bin/perl
$UID/$EUID = 1000 / 1000
$GID = 1000 4 20 24 46 104 115 120 1000
$EGID = 1000 4 20 24 46 104 115 120 1000
Perl module toolchain versions installed:
Module Have
------------------- -------
CPAN 1.94_56
Cwd 3.31
ExtUtils::CBuilder 0.27
ExtUtils::Command 1.16
ExtUtils::Install 1.55
ExtUtils::MakeMaker 6.56
ExtUtils::Manifest 1.57
ExtUtils::ParseXS 2.21
File::Spec 3.31
Module::Build 0.3603
Module::Signature 0.64
Test::Harness 3.17
Test::More 0.94
YAML 0.71
YAML::Syck 1.07
version 0.82
--
Summary of my perl5 (revision 5 version 12 subversion 0) configuration:
Platform:
osname=linux, osvers=2.6.31-20-generic, archname=i686-linux
uname='linux enkidu 2.6.31-20-generic #58-ubuntu smp fri mar 12 05:23:09 utc 2010 i686 gnulinux '
config_args='-de -Dprefix=/home/yanick/perl5/perlbrew/perls/perl-5.12.0'
hint=recommended, useposix=true, d_sigaction=define
useithreads=undef, usemultiplicity=undef
useperlio=define, d_sfio=undef, uselargefiles=define, usesocks=undef
use64bitint=undef, use64bitall=undef, uselongdouble=undef
usemymalloc=n, bincompat5005=undef
Compiler:
cc='cc', ccflags ='-fno-strict-aliasing -pipe -fstack-protector -I/usr/local/include -D_LARGEFILE_SOURCE -D_FILE_OFFSET_BITS=64',
optimize='-O2',
cppflags='-fno-strict-aliasing -pipe -fstack-protector -I/usr/local/include'
ccversion='', gccversion='4.4.1', gccosandvers=''
intsize=4, longsize=4, ptrsize=4, doublesize=8, byteorder=1234
d_longlong=define, longlongsize=8, d_longdbl=define, longdblsize=12
ivtype='long', ivsize=4, nvtype='double', nvsize=8, Off_t='off_t', lseeksize=8
alignbytes=4, prototype=define
Linker and Libraries:
ld='cc', ldflags =' -fstack-protector -L/usr/local/lib'
libpth=/usr/local/lib /lib /usr/lib
libs=-lnsl -ldl -lm -lcrypt -lutil -lc
perllibs=-lnsl -ldl -lm -lcrypt -lutil -lc
libc=/lib/libc-2.10.1.so, so=so, useshrplib=false, libperl=libperl.a
gnulibc_version='2.10.1'
Dynamic Linking:
dlsrc=dl_dlopen.xs, dlext=so, d_dlsymun=undef, ccdlflags='-Wl,-E'
cccdlflags='-fPIC', lddlflags='-shared -O2 -L/usr/local/lib -fstack-protector'
Characteristics of this binary (from libperl):
Compile-time options: PERL_DONT_CREATE_GVSV PERL_MALLOC_WRAP
USE_LARGE_FILES USE_PERLIO USE_PERL_ATOF
Built under linux
Compiled at Apr 14 2010 20:23:38
%ENV:
PERL5LIB=""
PERL5OPT=""
PERL5_CPANPLUS_IS_RUNNING="12824"
PERL5_CPAN_IS_RUNNING="12824"
@INC:
/home/yanick/perl5/perlbrew/perls/perl-5.12.0/lib/site_perl/5.12.0/i686-linux
/home/yanick/perl5/perlbrew/perls/perl-5.12.0/lib/site_perl/5.12.0
/home/yanick/perl5/perlbrew/perls/perl-5.12.0/lib/5.12.0/i686-linux
/home/yanick/perl5/perlbrew/perls/perl-5.12.0/lib/5.12.0
.