Google-Ads-AdWords-Client v5.8.2 Perl 5 v5.37.3 x86_64-linux-thread-multi
- Status
- Pass
- From
- Andreas J. König (ANDK)
- Dist
-
Google-Ads-AdWords-Client v5.8.2
- Platform
- Perl 5 v5.37.3 x86_64-linux-thread-multi
- Date
- 2022-09-20 06:12:18
- ID
- 2e79dbfe-38ab-11ed-b8d9-24d775c76ba7
This distribution has been tested as part of the CPAN Testers
project, supporting the Perl programming language. See
http://wiki.cpantesters.org/ for more information or email
questions to cpan-testers-discuss@perl.org
--
Dear Nadine Sundquist Wang,
This is a computer-generated report for Google-Ads-AdWords-Client-5.8.2
on perl 5.37.3, created by CPAN-Reporter-1.2018.
Thank you for uploading your work to CPAN. Congratulations!
All tests were successful.
Sections of this report:
* Tester comments
* Program output
* Prerequisites
* Environment and other context
------------------------------
TESTER COMMENTS
------------------------------
Additional comments from tester:
this report is from an automated smoke testing program
and was not reviewed by a human for accuracy
------------------------------
PROGRAM OUTPUT
------------------------------
Output from './Build test':
Built-in function 'builtin::blessed' is experimental at /home/sand/src/perl/repoperls/installed-perls/host/k93focal/v5.37.2-224-g29b290ccaa/d119/lib/5.37.3/File/Copy.pm line 58.
t/001_require.t ....................... ok
t/011_Client.t ........................ ok
t/012_Serializer.t .................... ok
t/013_Deserializer.t .................. ok
t/014_XPathSAXParser.t ................ ok
t/015_RequestStats.t .................. ok
t/017_OAuth2ApplicationsHandler.t ..... ok
t/018_MapUtils.t ...................... ok
t/019_OAuth2ServiceAccountsHandler.t .. ok
t/020_GenerateOfflineCredentials.t .... ok
t/021_ReportingConfiguration.t ........ ok
t/022_ReportUtils.t ................... ok
t/023_AdsUtilityRegistry.t ............ ok
t/024_BatchJobHandler.t ............... ok
t/025_ReportQueryBuilder.t ............ ok
t/026_ServiceQueryBuilder.t ........... ok
All tests successful.
Files=16, Tests=1859, 14 wallclock secs ( 0.26 usr 0.04 sys + 8.66 cusr 1.03 csys = 9.99 CPU)
Result: PASS
------------------------------
PREREQUISITES
------------------------------
Prerequisite modules loaded:
requires:
Module Need Have
------------------------- ------- ----------
Class::Load 0 0.25
Class::Std::Fast 0 0.0.8
Crypt::OpenSSL::RSA 0 0.33
Cwd 0 3.86
Data::Uniqid 0 0.12
Date::Format 0 2.24
Date::Parse 0 2.33
Digest::SHA 0 6.03
File::Basename 0 2.85
File::HomeDir 0 1.006
File::Path 0 2.18
File::Spec 0 3.86
File::Temp 0 0.2311
Getopt::Long 0 2.52
HTTP::Server::Simple::CGI 0 0
IO::Socket::SSL 0 2.075
JSON::Parse 0 0.62
List::Util 0 1.63
Log::Log4perl 0 1.56
LWP::Protocol::https 0 6.10
LWP::UserAgent 0 6.67
Math::Random::MT 0 1.17
perl v5.14.0 5.037003
POSIX 0 2.04
SOAP::WSDL v2.0.10 3.004
Template 0 3.101
URI::Escape 0 5.12
XML::LibXML 0 2.0207
XML::Simple 0 2.25
XML::XPath 0 1.48
build_requires:
Module Need Have
------------------------- ------- ----------
Class::Std::Fast v0.0.5 0.0.8
Config::Properties 0 1.80
Module::Build 0 0.4231
Test::Deep 0 1.130
Test::Exception 0 0.43
Test::MockObject 0 1.20200122
Test::MockObject::Extends 0 1.20200122
Test::More 0 1.302191
configure_requires:
Module Need Have
------------------------- ------- ----------
Module::Build 0.42 0.4231
------------------------------
ENVIRONMENT AND OTHER CONTEXT
------------------------------
Environment variables:
AUTOMATED_TESTING = 1
LANG = en_US.UTF-8
PATH = /home/sand/bin:/usr/local/bin:/usr/local/sbin:/usr/sbin:/usr/bin:/sbin:/bin:/usr/games:/usr/local/games:/snap/bin:/usr/local/perl/bin:/usr/X11/bin
PERL = /tmp/basesmoker-reloperl-XsdS/bin/perl
PERL5LIB = /tmp/loop_over_bdir-955171-ImLVhl/Devel-Required-0.16-0/blib/arch:/tmp/loop_over_bdir-955171-ImLVhl/Devel-Required-0.16-0/blib/lib
PERL5OPT =
PERL5_CPANPLUS_IS_RUNNING = 955179
PERL5_CPAN_IS_RUNNING = 955179
PERL_CANARY_STABILITY_NOPROMPT = 1
PERL_MM_USE_DEFAULT = 1
PERL_USE_UNSAFE_INC = 1
SHELL = /usr/bin/zsh
TERM = screen
Perl special variables (and OS-specific diagnostics, for MSWin32):
$^X = /tmp/basesmoker-reloperl-XsdS/bin/perl
$UID/$EUID = 1005 / 1005
$GID = 1005 1005
$EGID = 1005 1005
Perl module toolchain versions installed:
Module Have
------------------- --------
CPAN 2.34
CPAN::Meta 2.150010
Cwd 3.86
ExtUtils::CBuilder 0.280237
ExtUtils::Command 7.64
ExtUtils::Install 2.20
ExtUtils::MakeMaker 7.64
ExtUtils::Manifest 1.73
ExtUtils::ParseXS 3.45
File::Spec 3.86
JSON 4.09
JSON::PP 4.11
Module::Build 0.4231
Module::Signature 0.88
Parse::CPAN::Meta 2.150010
Test::Harness 3.44
Test::More 1.302191
YAML 1.30
YAML::Syck 1.34
version 0.9929
--
Summary of my perl5 (revision 5 version 37 subversion 3) configuration:
Commit id: 29b290ccaa79f40de7d941c9a79810119f5c6363
Platform:
osname=linux
osvers=5.4.0-125-generic
archname=x86_64-linux-thread-multi
uname='linux k93focal 5.4.0-125-generic #141-ubuntu smp wed aug 10 13:42:03 utc 2022 x86_64 x86_64 x86_64 gnulinux '
config_args='-Dprefix=/home/sand/src/perl/repoperls/installed-perls/host/k93focal/v5.37.2-224-g29b290ccaa/d119 -Dmyhostname=k93focal -Dinstallusrbinperl=n -Uversiononly -Dusedevel -des -Ui_db -Dlibswanted=cl pthread socket inet nsl gdbm dbm malloc dl ld sun m crypt sec util c cposix posix ucb BSD gdbm_compat -Duseithreads -Uuselongdouble -DEBUGGING=both'
hint=recommended
useposix=true
d_sigaction=define
useithreads=define
usemultiplicity=define
use64bitint=define
use64bitall=define
uselongdouble=undef
usemymalloc=n
default_inc_excludes_dot=define
Compiler:
cc='cc'
ccflags ='-D_REENTRANT -D_GNU_SOURCE -fwrapv -DDEBUGGING -fno-strict-aliasing -pipe -fstack-protector-strong -I/usr/local/include -D_LARGEFILE_SOURCE -D_FILE_OFFSET_BITS=64'
optimize='-O2 -g'
cppflags='-D_REENTRANT -D_GNU_SOURCE -fwrapv -DDEBUGGING -fno-strict-aliasing -pipe -fstack-protector-strong -I/usr/local/include'
ccversion=''
gccversion='9.4.0'
gccosandvers=''
intsize=4
longsize=8
ptrsize=8
doublesize=8
byteorder=12345678
doublekind=3
d_longlong=define
longlongsize=8
d_longdbl=define
longdblsize=16
longdblkind=3
ivtype='long'
ivsize=8
nvtype='double'
nvsize=8
Off_t='off_t'
lseeksize=8
alignbytes=8
prototype=define
Linker and Libraries:
ld='cc'
ldflags =' -fstack-protector-strong -L/usr/local/lib'
libpth=/usr/local/lib /usr/lib/x86_64-linux-gnu /usr/lib /usr/lib64
libs=-lpthread -lnsl -ldl -lm -lcrypt -lutil -lc
perllibs=-lpthread -lnsl -ldl -lm -lcrypt -lutil -lc
libc=libc-2.31.so
so=so
useshrplib=false
libperl=libperl.a
gnulibc_version='2.31'
Dynamic Linking:
dlsrc=dl_dlopen.xs
dlext=so
d_dlsymun=undef
ccdlflags='-Wl,-E'
cccdlflags='-fPIC'
lddlflags='-shared -O2 -g -L/usr/local/lib -fstack-protector-strong'
Characteristics of this binary (from libperl):
Compile-time options:
DEBUGGING
HAS_TIMES
MULTIPLICITY
PERLIO_LAYERS
PERL_COPY_ON_WRITE
PERL_DONT_CREATE_GVSV
PERL_HASH_FUNC_SIPHASH13
PERL_HASH_USE_SBOX32
PERL_MALLOC_WRAP
PERL_OP_PARENT
PERL_PRESERVE_IVUV
PERL_TRACK_MEMPOOL
PERL_USE_DEVEL
PERL_USE_SAFE_PUTENV
USE_64_BIT_ALL
USE_64_BIT_INT
USE_ITHREADS
USE_LARGE_FILES
USE_LOCALE
USE_LOCALE_COLLATE
USE_LOCALE_CTYPE
USE_LOCALE_NUMERIC
USE_LOCALE_TIME
USE_PERLIO
USE_PERL_ATOF
USE_REENTRANT_API
USE_THREAD_SAFE_LOCALE
Built under linux
Compiled at Sep 17 2022 07:57:23
%ENV:
PERL="/tmp/basesmoker-reloperl-XsdS/bin/perl"
PERL5LIB="/tmp/loop_over_bdir-955171-ImLVhl/Devel-Required-0.16-0/blib/arch:/tmp/loop_over_bdir-955171-ImLVhl/Devel-Required-0.16-0/blib/lib"
PERL5OPT=""
PERL5_CPANPLUS_IS_RUNNING="955179"
PERL5_CPAN_IS_RUNNING="955179"
PERL_CANARY_STABILITY_NOPROMPT="1"
PERL_MM_USE_DEFAULT="1"
PERL_USE_UNSAFE_INC="1"
@INC:
/tmp/loop_over_bdir-955171-ImLVhl/Devel-Required-0.16-0/blib/arch
/tmp/loop_over_bdir-955171-ImLVhl/Devel-Required-0.16-0/blib/lib
/home/sand/src/perl/repoperls/installed-perls/host/k93focal/v5.37.2-224-g29b290ccaa/d119/lib/site_perl/5.37.3/x86_64-linux-thread-multi
/home/sand/src/perl/repoperls/installed-perls/host/k93focal/v5.37.2-224-g29b290ccaa/d119/lib/site_perl/5.37.3
/home/sand/src/perl/repoperls/installed-perls/host/k93focal/v5.37.2-224-g29b290ccaa/d119/lib/5.37.3/x86_64-linux-thread-multi
/home/sand/src/perl/repoperls/installed-perls/host/k93focal/v5.37.2-224-g29b290ccaa/d119/lib/5.37.3
.