Text-Xslate vv3.5.9 Perl 5 v5.35.11 darwin-2level

Status
Pass
From
John SJ Anderson
Dist
Text-Xslate vv3.5.9
Platform
Perl 5 v5.35.11 darwin-2level
Date
2022-05-04 15:38:01
ID
2e61bd7e-cbc0-11ec-940b-5e5c25e64d5c
This distribution has been tested as part of the CPAN Testers
project, supporting the Perl programming language.  See
http://wiki.cpantesters.org/ for more information or email
questions to cpan-testers-discuss@perl.org


--
Dear SKAJI,

This is a computer-generated report for Text-Xslate-v3.5.9
on perl 5.35.11, created by App::cpanminus::reporter 0.17 (1.7046).

Thank you for uploading your work to CPAN.  Congratulations!
All tests were successful.

Sections of this report:

    * Tester comments
    * Program output
    * Prerequisites
    * Environment and other context

------------------------------
TESTER COMMENTS
------------------------------

Additional comments from tester:

none provided

------------------------------
PROGRAM OUTPUT
------------------------------

Output from '':

Running Build.PL
Checking prerequisites...
  requires:
    !  Data::MessagePack is not installed
    !  Mouse is not installed

ERRORS/WARNINGS FOUND IN PREREQUISITES.  You may wish to install the versions
of the modules indicated above before proceeding with this installation

Created MYMETA.yml and MYMETA.json
Creating new 'Build' script for 'Text-Xslate' version 'v3.5.9'
-> OK
Checking dependencies from MYMETA.json ...
Checking if you have Encode 2.26 ... Yes (3.17)
Checking if you have Scalar::Util 1.14 ... Yes (1.62)
Checking if you have Data::MessagePack 0.38 ... No
Checking if you have Test::More 0.98 ... Yes (1.302190)
Checking if you have Mouse v2.5.0 ... No
Checking if you have File::Copy::Recursive 0 ... Yes (0.45)
Checking if you have Storable 2.15 ... Yes (3.26)
Checking if you have File::Path 2.07 ... Yes (2.18)
Checking if you have Test::Requires 0 ... Yes (0.11)
Checking if you have ExtUtils::CBuilder 0 ... Yes (0.280236)
Checking if you have parent 0.221 ... Yes (0.238)
==> Found dependencies: Data::MessagePack, Mouse
Searching Data::MessagePack (0.38) on cpanmetadb ...
--> Working on Data::MessagePack
Fetching http://www.cpan.org/authors/id/S/SY/SYOHEX/Data-MessagePack-1.02.tar.gz
-> OK
Unpacking Data-MessagePack-1.02.tar.gz
xs tests
# Testing Data::MessagePack/1.02 (XS)
# byteoder: 12345678, ivsize=8
t/00_compile.t .............. ok
t/01_pack.t ................. ok
t/02_unpack.t ............... ok
t/03_stream_unpack.t ........ ok
t/04_invert.t ............... ok
t/05_preferred_int.t ........ ok
t/06_stream_unpack2.t ....... ok
t/07_break.t ................ ok
t/08_cycle.t ................ ok
t/09_stddata.t .............. ok
t/10_splitted_bytes.t ....... ok
t/11_stream_unpack3.t ....... ok
t/12_stream_unpack4.t ....... ok
t/13_booleans.t ............. ok
t/14_invalid_data.t ......... ok
t/15_utf8.t ................. ok
t/16_unpacker_for_larges.t .. ok
t/17_canonical.t ............ ok
t/18_new_interface.t ........ ok
t/19_utf8_property.t ........ ok
t/20_de.t ................... ok
t/21_dirty_float.t .......... ok
t/22_pid_pack_unpack.t ...... ok
t/23-empty-key.t ............ ok
t/24_tied.t ................. ok
t/40_threads.t .............. skipped: no threads
t/50_leaktrace.t ............ ok
All tests successful.
Files=27, Tests=568,  2 wallclock secs ( 0.09 usr  0.06 sys +  1.37 cusr  0.25 csys =  1.77 CPU)
Result: PASS

------------------------------
PREREQUISITES
------------------------------

Prerequisite modules loaded:

    No requirements found

------------------------------
ENVIRONMENT AND OTHER CONTEXT
------------------------------

Environment variables:

    LANG = en_US.UTF-8
    LC_ALL = en_US.UTF-8
    LC_TERMINAL = iTerm2
    LC_TERMINAL_VERSION = 3.4.15
    PATH = /opt/plenv/versions/5.35.11/bin:/opt/plenv/libexec:/opt/plenv/plugins/perl-build/bin:/opt/plenv/shims:/opt/plenv/bin:/Users/johnanderson/bin:/usr/local/opt/texinfo/bin:/opt/nvm/versions/node/v14.17.6/bin:/opt/git/bin:/opt/local/bin:/usr/local/bin:/usr/local/sbin:/usr/bin:/bin:/usr/sbin:/sbin
    PERL_CPANM_OPT = --skip-installed --prompt
    SHELL = /bin/zsh
    TERM = screen-256color
    TMPDIR = /var/folders/t7/8nhnkmk561s448776gc2b68w0000gp/T/

Perl special variables (and OS-specific diagnostics, for MSWin32):

    EGID = 20 20 12 61 79 80 81 98 702 33 100 204 250 395 398 399 101
    EUID = 502
    EXECUTABLE_NAME = /opt/plenv/versions/5.35.11/bin/perl5.35.11
    GID = 20 20 12 61 79 80 81 98 702 33 100 204 250 395 398 399 101
    UID = 502

Perl module toolchain versions installed:

    Module              Have    
    ------------------- --------
    CPAN                2.33    
    CPAN::Meta          2.150010
    Cwd                 3.84    
    ExtUtils::CBuilder  0.280236
    ExtUtils::Command   7.64    
    ExtUtils::Install   2.20    
    ExtUtils::MakeMaker 7.64    
    ExtUtils::Manifest  1.73    
    ExtUtils::ParseXS   3.45    
    File::Spec          3.84    
    JSON                4.05    
    JSON::PP            4.07    
    Module::Build       0.4231  
    Module::Signature   n/a     
    Parse::CPAN::Meta   2.150010
    Test::Harness       3.44    
    Test::More          1.302190
    YAML                1.30    
    YAML::Syck          n/a     
    version             0.9929  


--

Summary of my perl5 (revision 5 version 35 subversion 11) configuration:
   
  Platform:
    osname=darwin
    osvers=21.4.0
    archname=darwin-2level
    uname='darwin mcclintock.home.genehack.org 21.4.0 darwin kernel version 21.4.0: fri mar 18 00:45:05 pdt 2022; root:xnu-8020.101.4~15release_x86_64 x86_64 i386 macbookpro16,2 darwin '
    config_args='-Dprefix=/opt/plenv/versions/5.35.11 -de -Dversiononly -Dusedevel -A'eval:scriptdir=/opt/plenv/versions/5.35.11/bin''
    hint=recommended
    useposix=true
    d_sigaction=define
    useithreads=undef
    usemultiplicity=undef
    use64bitint=define
    use64bitall=define
    uselongdouble=undef
    usemymalloc=n
    default_inc_excludes_dot=define
  Compiler:
    cc='cc'
    ccflags ='-fno-common -DPERL_DARWIN -mmacosx-version-min=12.3 -fno-strict-aliasing -pipe -fstack-protector-strong -I/usr/local/include -DPERL_USE_SAFE_PUTENV'
    optimize='-O3'
    cppflags='-fno-common -DPERL_DARWIN -mmacosx-version-min=12.3 -fno-strict-aliasing -pipe -fstack-protector-strong -I/usr/local/include'
    ccversion=''
    gccversion='Apple LLVM 13.1.6 (clang-1316.0.21.2)'
    gccosandvers=''
    intsize=4
    longsize=8
    ptrsize=8
    doublesize=8
    byteorder=12345678
    doublekind=3
    d_longlong=define
    longlongsize=8
    d_longdbl=define
    longdblsize=16
    longdblkind=3
    ivtype='long'
    ivsize=8
    nvtype='double'
    nvsize=8
    Off_t='off_t'
    lseeksize=8
    alignbytes=8
    prototype=define
  Linker and Libraries:
    ld='cc'
    ldflags =' -mmacosx-version-min=12.3 -fstack-protector-strong -L/usr/local/lib'
    libpth=/usr/local/lib /Library/Developer/CommandLineTools/usr/lib/clang/13.1.6/lib /Library/Developer/CommandLineTools/SDKs/MacOSX12.3.sdk/usr/lib /Library/Developer/CommandLineTools/usr/lib /usr/lib
    libs= 
    perllibs=
    libc=
    so=dylib
    useshrplib=false
    libperl=libperl.a
    gnulibc_version=''
  Dynamic Linking:
    dlsrc=dl_dlopen.xs
    dlext=bundle
    d_dlsymun=undef
    ccdlflags=' '
    cccdlflags=' '
    lddlflags=' -mmacosx-version-min=12.3 -bundle -undefined dynamic_lookup -L/usr/local/lib -fstack-protector-strong'


Characteristics of this binary (from libperl): 
  Compile-time options:
    HAS_TIMES
    PERLIO_LAYERS
    PERL_COPY_ON_WRITE
    PERL_DONT_CREATE_GVSV
    PERL_MALLOC_WRAP
    PERL_OP_PARENT
    PERL_PRESERVE_IVUV
    PERL_USE_DEVEL
    PERL_USE_SAFE_PUTENV
    USE_64_BIT_ALL
    USE_64_BIT_INT
    USE_LARGE_FILES
    USE_LOCALE
    USE_LOCALE_COLLATE
    USE_LOCALE_CTYPE
    USE_LOCALE_NUMERIC
    USE_LOCALE_TIME
    USE_PERLIO
    USE_PERL_ATOF
  Built under darwin
  Compiled at May  3 2022 16:46:58
  %ENV:
    PERL_CPANM_OPT="--skip-installed --prompt"
  @INC:
    /opt/plenv/versions/5.35.11/lib/perl5/site_perl/5.35.11/darwin-2level
    /opt/plenv/versions/5.35.11/lib/perl5/site_perl/5.35.11
    /opt/plenv/versions/5.35.11/lib/perl5/5.35.11/darwin-2level
    /opt/plenv/versions/5.35.11/lib/perl5/5.35.11