Geo-Coder-US-Census v0.06 Perl 5 v5.24.2 amd64-freebsd
- Status
- Pass
- From
- Slaven Rezić
- Dist
-
Geo-Coder-US-Census v0.06
- Platform
- Perl 5 v5.24.2 amd64-freebsd
- Date
- 2023-02-01 13:20:22
- ID
- 2e365b80-a233-11ed-a639-7a466e8775ea
This distribution has been tested as part of the CPAN Testers
project, supporting the Perl programming language. See
http://wiki.cpantesters.org/ for more information or email
questions to cpan-testers-discuss@perl.org
--
Dear Nigel Horne,
This is a computer-generated report for Geo-Coder-US-Census-0.06
on perl 5.24.2, created by CPAN-Reporter-1.2018.
Thank you for uploading your work to CPAN. Congratulations!
All tests were successful.
Sections of this report:
* Tester comments
* Program output
* Prerequisites
* Environment and other context
------------------------------
TESTER COMMENTS
------------------------------
Additional comments from tester:
none provided
------------------------------
PROGRAM OUTPUT
------------------------------
Output from '/usr/bin/make test':
PERL_DL_NONLAZY=1 "/usr/perl5.24.2p/bin/perl5.24.2" "-MExtUtils::Command::MM" "-MTest::Harness" "-e" "undef *Test::Harness::Switches; test_harness(0, 'blib/lib', 'blib/arch')" t/*.t
# Testing Geo::Coder::US::Census 0.06, Perl 5.024002, /usr/perl5.24.2p/bin/perl5.24.2
t/00-load.t ........... ok
t/10-new.t ............ ok
# Author tests not required for installation
t/bin.t ............... ok
t/boiler.t ............ ok
t/carp.t .............. ok
t/changes.t ........... skipped: Author tests not required for installation
t/comment-spelling.t .. skipped: Author tests not required for installation
t/coverage.t .......... ok
t/critic.t ............ skipped: Author tests not required for installation
t/cv.t ................ skipped: Author tests not required for installation
t/dist.t .............. skipped: Author tests not required for installation
t/eof.t ............... skipped: Author tests not required for installation
t/eol.t ............... skipped: Author tests not required for installation
t/gv.t ................ skipped: Author tests not required for installation
t/kwalitee.t .......... skipped: Author tests not required for installation
t/links.t ............. skipped: Author tests not required for installation
t/manifest.t .......... skipped: Author tests not required for installation
t/metrics.t ........... skipped: Author tests not required for installation
t/namespaces.t ........ skipped: Author tests not required for installation
t/no404s.t ............ skipped: Author tests not required for installation
t/noplan.t ............ skipped: Author tests not required for installation
t/pod-cm.t ............ skipped: Test::Pod::Spelling::CommonMistakes required for testing POD spelling
t/pod-spelling.t ...... skipped: Author tests not required for installation
t/pod.t ............... skipped: Author tests not required for installation
t/port.t .............. ok
t/prereq.t ............ skipped: Author tests not required for installation
t/snippets.t .......... skipped: Author tests not required for installation
t/strict.t ............ skipped: Author tests not required for installation
t/unused.t ............ skipped: Author tests not required for installation
t/us.t ................ ok
t/used.t .............. skipped: Author tests not required for installation
t/vars.t .............. skipped: Author tests not required for installation
All tests successful.
Test Summary Report
-------------------
t/boiler.t (Wstat: 0 Tests: 3 Failed: 0)
TODO passed: 1-3
t/us.t (Wstat: 0 Tests: 18 Failed: 0)
TODO passed: 8-9
Files=32, Tests=33, 8 wallclock secs ( 0.05 usr 0.05 sys + 1.64 cusr 1.66 csys = 3.41 CPU)
Result: PASS
------------------------------
PREREQUISITES
------------------------------
Prerequisite modules loaded:
requires:
Module Need Have
---------------------- -------- --------
Encode 0 2.98
Geo::StreetAddress::US 0 1.04
HTTP::Request 0 6.13
JSON::MaybeXS 0 1.003009
LWP::Protocol::https 0 6.07
LWP::UserAgent 0 6.26
Net::SSLeay 1.81 1.81
perl 5.006002 5.024002
URI 0 1.72
build_requires:
Module Need Have
---------------------- -------- --------
ExtUtils::MakeMaker 0 7.58
IPC::System::Simple 0 1.25
Test::Carp 0 0.2
Test::LWP::UserAgent 0 0.036
Test::Most 0 0.35
Test::NoWarnings 0 1.04
Test::Number::Delta 0 1.06
Test::Script 1.12 1.25
configure_requires:
Module Need Have
---------------------- -------- --------
ExtUtils::MakeMaker 0 7.58
------------------------------
ENVIRONMENT AND OTHER CONTEXT
------------------------------
Environment variables:
LC_ALL = de_DE.ISO8859-1
PATH = /usr/local/bin:/usr/bin:/bin:/usr/local/sbin:/usr/sbin:/sbin:/home/cpansand/bin/freebsd10.3:/home/cpansand/bin/sh:/home/cpansand/bin:/usr/games:/home/cpansand/devel:/home/eserte/src/srezic-misc/scripts
PERL5LIB = /home/cpansand/.cpan/build/2023020114/Geo-StreetAddress-US-1.04-gQvCGU/blib/arch:/home/cpansand/.cpan/build/2023020114/Geo-StreetAddress-US-1.04-gQvCGU/blib/lib:/home/cpansand/.cpan/build/2023020114/Test-Carp-0.2-ZSQL9a/blib/arch:/home/cpansand/.cpan/build/2023020114/Test-Carp-0.2-ZSQL9a/blib/lib:/home/cpansand/.cpan/build/2023020114/Test-LWP-UserAgent-0.036-Iz08uf/blib/arch:/home/cpansand/.cpan/build/2023020114/Test-LWP-UserAgent-0.036-Iz08uf/blib/lib:/home/cpansand/.cpan/build/2023020114/Test-Number-Delta-1.06-jpO7De/blib/arch:/home/cpansand/.cpan/build/2023020114/Test-Number-Delta-1.06-jpO7De/blib/lib
PERL5OPT =
PERL5_CPANPLUS_IS_RUNNING = 83049
PERL5_CPAN_IS_RUNNING = 83049
PERL5_CPAN_IS_RUNNING_IN_RECURSION = 88342,83049
PERLDOC = -MPod::Perldoc::ToTextOverstrike
PERL_BATCH = yes
PERL_CANARY_STABILITY_NOPROMPT = 1
PERL_CPAN_REPORTER_CONFIG = /var/tmp/cpansmoker-1023/2023020100/cpanreporter_000_config.ini
PERL_EXTUTILS_AUTOINSTALL = --defaultdeps
SHELL = /usr/local/bin/zsh
TERM = screen
TMPDIR = /var/tmp/cpansmoker-1023/2023020100
Perl special variables (and OS-specific diagnostics, for MSWin32):
$^X = /usr/perl5.24.2p/bin/perl5.24.2
$UID/$EUID = 1023 / 1023
$GID = 1023 1023
$EGID = 1023 1023
Perl module toolchain versions installed:
Module Have
------------------- ----------
CPAN 2.11_01
CPAN::Meta 2.150010
Cwd 3.75
ExtUtils::CBuilder 0.280225
ExtUtils::Command 7.58
ExtUtils::Install 2.06
ExtUtils::MakeMaker 7.58
ExtUtils::Manifest 1.71
ExtUtils::ParseXS 3.31
File::Spec 3.75
JSON 2.94
JSON::PP 2.27300_01
Module::Build 0.4224
Module::Signature n/a
Parse::CPAN::Meta 2.150010
Test::Harness 3.36_01
Test::More 1.302140
YAML 1.23
YAML::Syck 1.30
version 0.9924
--
Summary of my perl5 (revision 5 version 24 subversion 2) configuration:
Platform:
osname=freebsd, osvers=10.3-release-p11, archname=amd64-freebsd
uname='freebsd cvrsnica-freebsd-101.herceg.de 10.3-release-p11 freebsd 10.3-release-p11 #0: mon oct 24 18:49:24 utc 2016 root@amd64-builder.daemonology.net:usrobjusrsrcsysgeneric amd64 '
config_args='-ds -e -Dprefix=/usr/perl5.24.2p -Dcf_email=srezic@cpan.org -Doptimize=-O2 -pipe'
hint=recommended, useposix=true, d_sigaction=define
useithreads=undef, usemultiplicity=undef
use64bitint=define, use64bitall=define, uselongdouble=undef
usemymalloc=n, bincompat5005=undef
Compiler:
cc='cc', ccflags ='-DHAS_FPSETMASK -DHAS_FLOATINGPOINT_H -fno-strict-aliasing -pipe -fstack-protector -I/usr/local/include -D_FORTIFY_SOURCE=2',
optimize='-O2 -pipe',
cppflags='-DHAS_FPSETMASK -DHAS_FLOATINGPOINT_H -fno-strict-aliasing -pipe -fstack-protector -I/usr/local/include'
ccversion='', gccversion='4.2.1 Compatible FreeBSD Clang 3.4.1 (tags/RELEASE_34/dot1-final 208032)', gccosandvers=''
intsize=4, longsize=8, ptrsize=8, doublesize=8, byteorder=12345678, doublekind=3
d_longlong=define, longlongsize=8, d_longdbl=define, longdblsize=16, longdblkind=3
ivtype='long', ivsize=8, nvtype='double', nvsize=8, Off_t='off_t', lseeksize=8
alignbytes=8, prototype=define
Linker and Libraries:
ld='cc', ldflags ='-pthread -Wl,-E -fstack-protector -L/usr/local/lib'
libpth=/usr/lib /usr/local/lib /usr/include/clang/3.4.1 /usr/lib
libs=-lpthread -lgdbm -lm -lcrypt -lutil -lc
perllibs=-lpthread -lm -lcrypt -lutil -lc
libc=, so=so, useshrplib=false, libperl=libperl.a
gnulibc_version=''
Dynamic Linking:
dlsrc=dl_dlopen.xs, dlext=so, d_dlsymun=undef, ccdlflags=' '
cccdlflags='-DPIC -fPIC', lddlflags='-shared -L/usr/local/lib -fstack-protector'
Characteristics of this binary (from libperl):
Compile-time options: HAS_TIMES PERLIO_LAYERS PERL_COPY_ON_WRITE
PERL_DONT_CREATE_GVSV
PERL_HASH_FUNC_ONE_AT_A_TIME_HARD PERL_MALLOC_WRAP
PERL_PRESERVE_IVUV USE_64_BIT_ALL USE_64_BIT_INT
USE_LARGE_FILES USE_LOCALE USE_LOCALE_COLLATE
USE_LOCALE_CTYPE USE_LOCALE_NUMERIC USE_LOCALE_TIME
USE_PERLIO USE_PERL_ATOF
Built under freebsd
Compiled at Jul 29 2017 11:20:18
%ENV:
PERL5LIB="/home/cpansand/.cpan/build/2023020114/Geo-StreetAddress-US-1.04-gQvCGU/blib/arch:/home/cpansand/.cpan/build/2023020114/Geo-StreetAddress-US-1.04-gQvCGU/blib/lib:/home/cpansand/.cpan/build/2023020114/Test-Carp-0.2-ZSQL9a/blib/arch:/home/cpansand/.cpan/build/2023020114/Test-Carp-0.2-ZSQL9a/blib/lib:/home/cpansand/.cpan/build/2023020114/Test-LWP-UserAgent-0.036-Iz08uf/blib/arch:/home/cpansand/.cpan/build/2023020114/Test-LWP-UserAgent-0.036-Iz08uf/blib/lib:/home/cpansand/.cpan/build/2023020114/Test-Number-Delta-1.06-jpO7De/blib/arch:/home/cpansand/.cpan/build/2023020114/Test-Number-Delta-1.06-jpO7De/blib/lib"
PERL5OPT=""
PERL5_CPANPLUS_IS_RUNNING="83049"
PERL5_CPAN_IS_RUNNING="83049"
PERL5_CPAN_IS_RUNNING_IN_RECURSION="88342,83049"
PERLDOC="-MPod::Perldoc::ToTextOverstrike"
PERL_BATCH="yes"
PERL_CANARY_STABILITY_NOPROMPT="1"
PERL_CPAN_REPORTER_CONFIG="/var/tmp/cpansmoker-1023/2023020100/cpanreporter_000_config.ini"
PERL_EXTUTILS_AUTOINSTALL="--defaultdeps"
@INC:
/home/cpansand/.cpan/build/2023020114/Geo-StreetAddress-US-1.04-gQvCGU/blib/arch
/home/cpansand/.cpan/build/2023020114/Geo-StreetAddress-US-1.04-gQvCGU/blib/lib
/home/cpansand/.cpan/build/2023020114/Test-Carp-0.2-ZSQL9a/blib/arch
/home/cpansand/.cpan/build/2023020114/Test-Carp-0.2-ZSQL9a/blib/lib
/home/cpansand/.cpan/build/2023020114/Test-LWP-UserAgent-0.036-Iz08uf/blib/arch
/home/cpansand/.cpan/build/2023020114/Test-LWP-UserAgent-0.036-Iz08uf/blib/lib
/home/cpansand/.cpan/build/2023020114/Test-Number-Delta-1.06-jpO7De/blib/arch
/home/cpansand/.cpan/build/2023020114/Test-Number-Delta-1.06-jpO7De/blib/lib
/usr/perl5.24.2p/lib/site_perl/5.24.2/amd64-freebsd
/usr/perl5.24.2p/lib/site_perl/5.24.2
/usr/perl5.24.2p/lib/5.24.2/amd64-freebsd
/usr/perl5.24.2p/lib/5.24.2
.