Treex-Core v2.20210102 Perl 5 v5.37.2 x86_64-linux-thread-multi
- Status
- Pass
- From
- Andreas J. König (ANDK)
- Dist
-
Treex-Core v2.20210102
- Platform
- Perl 5 v5.37.2 x86_64-linux-thread-multi
- Date
- 2022-07-31 23:04:49
- ID
- 2d6f0214-1125-11ed-88ef-b548a0af9438
This distribution has been tested as part of the CPAN Testers
project, supporting the Perl programming language. See
http://wiki.cpantesters.org/ for more information or email
questions to cpan-testers-discuss@perl.org
--
Dear Martin Popel,
This is a computer-generated report for Treex-Core-2.20210102
on perl 5.37.2, created by CPAN-Reporter-1.2018.
Thank you for uploading your work to CPAN. Congratulations!
All tests were successful.
Sections of this report:
* Tester comments
* Program output
* Prerequisites
* Environment and other context
------------------------------
TESTER COMMENTS
------------------------------
Additional comments from tester:
this report is from an automated smoke testing program
and was not reviewed by a human for accuracy
------------------------------
PROGRAM OUTPUT
------------------------------
Output from '/usr/bin/make test':
Skip blib/lib/auto/share/dist/Treex-Core/tred_extension/extensions.lst (unchanged)
Skip blib/lib/auto/share/dist/Treex-Core/tred_extension/treex/resources/treex_subschema_interset.xml (unchanged)
Skip blib/lib/auto/share/dist/Treex-Core/tred_extension/treex/stylesheets/Treex_stylesheet (unchanged)
Skip blib/lib/auto/share/dist/Treex-Core/tred_extension/treex/resources/treex_subschema_langcodes.xml (unchanged)
Skip blib/lib/auto/share/dist/Treex-Core/tred_extension/treex/resources/treex_subschema_p_layer.xml (unchanged)
Skip blib/lib/auto/share/dist/Treex-Core/tred_extension/treex/package.xml (unchanged)
Skip blib/lib/auto/share/dist/Treex-Core/tred_extension/treex/contrib/treex/contrib.mac (unchanged)
Skip blib/lib/auto/share/dist/Treex-Core/tred_extension/treex/resources/pmlbackend_conf.xml (unchanged)
Skip blib/lib/auto/share/dist/Treex-Core/tred_extension/treex/resources/treex_subschema_t_layer.xml (unchanged)
Skip blib/lib/auto/share/dist/Treex-Core/tred_extension/treex/resources/treex_schema.xml (unchanged)
Skip blib/lib/auto/share/dist/Treex-Core/tred_extension/treex/resources/treex_subschema_a_layer.xml (unchanged)
Skip blib/lib/auto/share/dist/Treex-Core/tred_extension/treex/resources/treex_subschema_n_layer.xml (unchanged)
Skip blib/lib/auto/share/dist/Treex-Core/tred_extension/treex/resources/treex_subschema_w_layer.xml (unchanged)
Skip blib/lib/auto/share/dist/Treex-Core/tred_extension/treex/contrib/treex/Treex_mode.inc (unchanged)
Skip blib/lib/auto/share/dist/Treex-Core/tred_extension/treex/resources/treex_subschema_bbn.xml (unchanged)
PERL_DL_NONLAZY=1 "/tmp/basesmoker-reloperl-1mEb/bin/perl" "-MExtUtils::Command::MM" "-MTest::Harness" "-e" "undef *Test::Harness::Switches; test_harness(0, 'blib/lib', 'blib/arch')" t/*.t
t/00-compile.t ..................... ok
t/a_effective_rel.t ................ ok
TREEX-WARN: 1.013: You called $node->get_aligned_nodes($filter) without determining the "directed" parameter in the $filter. For the time being, it returns links only in the specified direction, but this will be changed soon.
t/alignment.t ...................... ok
t/attribute.t ...................... ok
t/author-critic.t .................. skipped: these tests are for testing by the author
t/author-distmeta.t ................ skipped: these tests are for testing by the author
t/author-minimum-version.t ......... skipped: these tests are for testing by the author
t/author-mojibake.t ................ skipped: these tests are for testing by the author
t/author-no-tabs.t ................. skipped: these tests are for testing by the author
t/author-pod-coverage.t ............ skipped: these tests are for testing by the author
t/author-pod-linkcheck.t ........... skipped: these tests are for testing by the author
t/author-pod-syntax.t .............. skipped: these tests are for testing by the author
t/author-portability.t ............. skipped: these tests are for testing by the author
t/author-synopsis.t ................ skipped: these tests are for testing by the author
t/author-test-version.t ............ skipped: these tests are for testing by the author
t/backrefs.t ....................... ok
t/base.t ........................... ok
t/block.t .......................... ok
t/bundle.t ......................... ok
t/bundle_zones.t ................... ok
t/common.t ......................... ok
t/config.t ......................... ok
t/document.t ....................... ok
t/document_zones.t ................. ok
t/dump_scen.t ...................... ok
t/files.t .......................... ok
t/following_node.t ................. ok
t/grammar.t ........................ ok
t/log.t ............................ ok
t/n_tree.t ......................... ok
t/node.t ........................... ok
t/ordered.t ........................ ok
t/p_penn_treebank_string_format.t .. ok
t/phrase.t ......................... ok
t/release-cpan-changes.t ........... skipped: these tests are for release candidate testing
t/release-dist-manifest.t .......... skipped: these tests are for release candidate testing
t/release-kwalitee.t ............... skipped: these tests are for release candidate testing
t/release-unused-vars.t ............ skipped: these tests are for release candidate testing
t/remove_bundle.t .................. ok
t/resource.t ....................... ok
t/run.t ............................ ok
t/scenario.t ....................... ok
t/scenario_parser.t ................ ok
t/storable.t ....................... ok
t/t_effective_rel.t ................ ok
t/trees.t .......................... ok
t/wildattr.t ....................... ok
t/writers.t ........................ skipped: these tests require export AUTHOR_TESTING=1
All tests successful.
Files=48, Tests=677, 86 wallclock secs ( 0.20 usr 0.04 sys + 79.01 cusr 6.22 csys = 85.47 CPU)
Result: PASS
------------------------------
PREREQUISITES
------------------------------
Prerequisite modules loaded:
requires:
Module Need Have
----------------------------------------------- ------- --------
App::whichpm 0 0.05
autodie 0 2.34
base 0 2.27
Cache::LRU 0 0.04
Carp 0 1.53
Cwd 0 3.86
Data::Dumper 0 2.186
Digest::MD5 0 2.58
Encode 0 3.18
English 0 1.11
Exporter 0 5.77
File::Basename 0 2.85
File::chdir 0 0.1010
File::Glob 0 1.38
File::HomeDir 0.97 1.006
File::Path 2.08 2.18
File::ShareDir 0 1.118
File::Slurp 9999.19 9999.32
File::Spec 0 3.86
File::Spec::Functions 0 3.86
File::Temp 0 0.2311
File::Which 0 1.27
integer 0 1.01
IO::Handle 0 1.49
IO::Interactive 0 1.023
Lingua::Interset 3.006 3.015
Lingua::Interset::FeatureStructure 0 3.015
List::MoreUtils 0 0.430
List::Util 0 1.62
Locale::Language 0 3.71
LWP::Simple 0 6.67
Module::Reload 0 1.11
Moose 0 2.2201
Moose::Exporter 0 2.2201
Moose::Role 0 2.2201
Moose::Util::TypeConstraints 0 2.2201
MooseX::Getopt 0 0.75
MooseX::NonMoose 0 0.26
MooseX::Params::Validate 0 0.21
MooseX::Role::Parameterized 0 1.11
MooseX::SemiAffordanceAccessor 0.09 0.10
MooseX::SemiAffordanceAccessor::Role::Attribute 0.09 0.10
namespace::autoclean 0 0.29
Parse::RecDescent 0 1.967015
perl 5.010 5.037002
PerlIO::via::gzip 0 0.03
POSIX 0 2.04
Readonly 0 2.05
Scalar::Util 0 1.62
Storable 0 3.27
strict 0 1.12
Sys::Hostname 0 1.24
Text::Balanced 0 2.06
Time::HiRes 0 1.9770
Treex::PML 0 2.24
Treex::PML::Factory 0 2.24
Treex::PML::IO 0 2.24
Treex::PML::Node 0 2.24
Treex::PML::Struct 0 2.24
UNIVERSAL::DOES 0 0.005
utf8 0 1.24
vars 0 1.05
warnings 0 1.58
YAML 0.72 1.30
build_requires:
Module Need Have
----------------------------------------------- ------- --------
constant 0 1.33
ExtUtils::MakeMaker 0 7.64
File::Spec 0 3.86
IO::Handle 0 1.49
IPC::Open3 0 1.22
Test::Moose 0 2.2201
Test::More 0 1.302191
Test::Output 0 1.033
configure_requires:
Module Need Have
----------------------------------------------- ------- --------
ExtUtils::MakeMaker 0 7.64
File::ShareDir::Install 0.06 0.14
------------------------------
ENVIRONMENT AND OTHER CONTEXT
------------------------------
Environment variables:
AUTOMATED_TESTING = 1
LANG = en_US.UTF-8
PATH = /home/sand/bin:/usr/local/bin:/usr/local/sbin:/usr/sbin:/usr/bin:/sbin:/bin:/usr/games:/usr/local/games:/snap/bin:/usr/local/perl/bin:/usr/X11/bin
PERL = /tmp/basesmoker-reloperl-1mEb/bin/perl
PERL5LIB = /tmp/loop_over_bdir-3589605-XjwJT5/Devel-Required-0.16-0/blib/arch:/tmp/loop_over_bdir-3589605-XjwJT5/Devel-Required-0.16-0/blib/lib:/tmp/loop_over_bdir-3589605-XjwJT5/Net-ISP-Balance-1.31-0/blib/arch:/tmp/loop_over_bdir-3589605-XjwJT5/Net-ISP-Balance-1.31-0/blib/lib
PERL5OPT =
PERL5_CPANPLUS_IS_RUNNING = 3589613
PERL5_CPAN_IS_RUNNING = 3589613
PERL_CANARY_STABILITY_NOPROMPT = 1
PERL_MM_USE_DEFAULT = 1
PERL_USE_UNSAFE_INC = 1
SHELL = /usr/bin/zsh
TERM = screen
Perl special variables (and OS-specific diagnostics, for MSWin32):
$^X = /tmp/basesmoker-reloperl-1mEb/bin/perl
$UID/$EUID = 1005 / 1005
$GID = 1005 1005
$EGID = 1005 1005
Perl module toolchain versions installed:
Module Have
------------------- --------
CPAN 2.34
CPAN::Meta 2.150010
Cwd 3.86
ExtUtils::CBuilder 0.280237
ExtUtils::Command 7.64
ExtUtils::Install 2.20
ExtUtils::MakeMaker 7.64
ExtUtils::Manifest 1.73
ExtUtils::ParseXS 3.45
File::Spec 3.86
JSON 4.07
JSON::PP 4.10
Module::Build 0.4231
Module::Signature 0.88
Parse::CPAN::Meta 2.150010
Test::Harness 3.44
Test::More 1.302191
YAML 1.30
YAML::Syck 1.34
version 0.9929
--
Summary of my perl5 (revision 5 version 37 subversion 2) configuration:
Commit id: 7f9b65d969a1c8b44028cacbb9e88596d1e5a8a3
Platform:
osname=linux
osvers=5.4.0-122-generic
archname=x86_64-linux-thread-multi
uname='linux k93focal 5.4.0-122-generic #138-ubuntu smp wed jun 22 15:00:31 utc 2022 x86_64 x86_64 x86_64 gnulinux '
config_args='-Dprefix=/home/sand/src/perl/repoperls/installed-perls/host/k93focal/v5.37.2/d119 -Dmyhostname=k93focal -Dinstallusrbinperl=n -Uversiononly -Dusedevel -des -Ui_db -Dlibswanted=cl pthread socket inet nsl gdbm dbm malloc dl ld sun m crypt sec util c cposix posix ucb BSD gdbm_compat -Duseithreads -Uuselongdouble -DEBUGGING=both'
hint=recommended
useposix=true
d_sigaction=define
useithreads=define
usemultiplicity=define
use64bitint=define
use64bitall=define
uselongdouble=undef
usemymalloc=n
default_inc_excludes_dot=define
Compiler:
cc='cc'
ccflags ='-D_REENTRANT -D_GNU_SOURCE -fwrapv -DDEBUGGING -fno-strict-aliasing -pipe -fstack-protector-strong -I/usr/local/include -D_LARGEFILE_SOURCE -D_FILE_OFFSET_BITS=64'
optimize='-O2 -g'
cppflags='-D_REENTRANT -D_GNU_SOURCE -fwrapv -DDEBUGGING -fno-strict-aliasing -pipe -fstack-protector-strong -I/usr/local/include'
ccversion=''
gccversion='9.4.0'
gccosandvers=''
intsize=4
longsize=8
ptrsize=8
doublesize=8
byteorder=12345678
doublekind=3
d_longlong=define
longlongsize=8
d_longdbl=define
longdblsize=16
longdblkind=3
ivtype='long'
ivsize=8
nvtype='double'
nvsize=8
Off_t='off_t'
lseeksize=8
alignbytes=8
prototype=define
Linker and Libraries:
ld='cc'
ldflags =' -fstack-protector-strong -L/usr/local/lib'
libpth=/usr/local/lib /usr/lib/x86_64-linux-gnu /usr/lib /usr/lib64
libs=-lpthread -lnsl -ldl -lm -lcrypt -lutil -lc
perllibs=-lpthread -lnsl -ldl -lm -lcrypt -lutil -lc
libc=libc-2.31.so
so=so
useshrplib=false
libperl=libperl.a
gnulibc_version='2.31'
Dynamic Linking:
dlsrc=dl_dlopen.xs
dlext=so
d_dlsymun=undef
ccdlflags='-Wl,-E'
cccdlflags='-fPIC'
lddlflags='-shared -O2 -g -L/usr/local/lib -fstack-protector-strong'
Characteristics of this binary (from libperl):
Compile-time options:
DEBUGGING
HAS_TIMES
MULTIPLICITY
PERLIO_LAYERS
PERL_COPY_ON_WRITE
PERL_DONT_CREATE_GVSV
PERL_MALLOC_WRAP
PERL_OP_PARENT
PERL_PRESERVE_IVUV
PERL_TRACK_MEMPOOL
PERL_USE_DEVEL
PERL_USE_SAFE_PUTENV
USE_64_BIT_ALL
USE_64_BIT_INT
USE_ITHREADS
USE_LARGE_FILES
USE_LOCALE
USE_LOCALE_COLLATE
USE_LOCALE_CTYPE
USE_LOCALE_NUMERIC
USE_LOCALE_TIME
USE_PERLIO
USE_PERL_ATOF
USE_REENTRANT_API
USE_THREAD_SAFE_LOCALE
Built under linux
Compiled at Jul 30 2022 05:44:13
%ENV:
PERL="/tmp/basesmoker-reloperl-1mEb/bin/perl"
PERL5LIB="/tmp/loop_over_bdir-3589605-XjwJT5/Devel-Required-0.16-0/blib/arch:/tmp/loop_over_bdir-3589605-XjwJT5/Devel-Required-0.16-0/blib/lib:/tmp/loop_over_bdir-3589605-XjwJT5/Net-ISP-Balance-1.31-0/blib/arch:/tmp/loop_over_bdir-3589605-XjwJT5/Net-ISP-Balance-1.31-0/blib/lib"
PERL5OPT=""
PERL5_CPANPLUS_IS_RUNNING="3589613"
PERL5_CPAN_IS_RUNNING="3589613"
PERL_CANARY_STABILITY_NOPROMPT="1"
PERL_MM_USE_DEFAULT="1"
PERL_USE_UNSAFE_INC="1"
@INC:
/tmp/loop_over_bdir-3589605-XjwJT5/Devel-Required-0.16-0/blib/arch
/tmp/loop_over_bdir-3589605-XjwJT5/Devel-Required-0.16-0/blib/lib
/tmp/loop_over_bdir-3589605-XjwJT5/Net-ISP-Balance-1.31-0/blib/arch
/tmp/loop_over_bdir-3589605-XjwJT5/Net-ISP-Balance-1.31-0/blib/lib
/home/sand/src/perl/repoperls/installed-perls/host/k93focal/v5.37.2/d119/lib/site_perl/5.37.2/x86_64-linux-thread-multi
/home/sand/src/perl/repoperls/installed-perls/host/k93focal/v5.37.2/d119/lib/site_perl/5.37.2
/home/sand/src/perl/repoperls/installed-perls/host/k93focal/v5.37.2/d119/lib/5.37.2/x86_64-linux-thread-multi
/home/sand/src/perl/repoperls/installed-perls/host/k93focal/v5.37.2/d119/lib/5.37.2
.