Test-Class-Moose v0.90 Perl 5 v5.26.1 x86_64-linux

Status
Pass
From
Ioan Rogers
Dist
Test-Class-Moose v0.90
Platform
Perl 5 v5.26.1 x86_64-linux
Date
2017-11-29 16:34:31
ID
2d378d90-d523-11e7-90e4-14b5f6d51a22
This distribution has been tested as part of the CPAN Testers
project, supporting the Perl programming language.  See
http://wiki.cpantesters.org/ for more information or email
questions to cpan-testers-discuss@perl.org


--
Dear DROLSKY,

This is a computer-generated report for Test-Class-Moose-0.90
on perl 5.26.1, created by App::cpanminus::reporter 0.17 (1.7043).

Thank you for uploading your work to CPAN.  Congratulations!
All tests were successful.

Sections of this report:

    * Tester comments
    * Program output
    * Prerequisites
    * Environment and other context

------------------------------
TESTER COMMENTS
------------------------------

Additional comments from tester:

none provided

------------------------------
PROGRAM OUTPUT
------------------------------

Output from '':

Building and testing Test-Class-Moose-0.90
cp lib/Test/Class/Moose/Executor/Parallel.pm blib/lib/Test/Class/Moose/Executor/Parallel.pm
cp lib/Test/Class/Moose/Role/AutoUse.pm blib/lib/Test/Class/Moose/Role/AutoUse.pm
cp lib/Test/Class/Moose/Config.pm blib/lib/Test/Class/Moose/Config.pm
cp lib/Test/Class/Moose/Deprecated.pm blib/lib/Test/Class/Moose/Deprecated.pm
cp lib/Test/Class/Moose/Role/ParameterizedInstances.pm blib/lib/Test/Class/Moose/Role/ParameterizedInstances.pm
cp lib/Test/Class/Moose/Report/Time.pm blib/lib/Test/Class/Moose/Report/Time.pm
cp lib/Test/Class/Moose/Role/HasTimeReport.pm blib/lib/Test/Class/Moose/Role/HasTimeReport.pm
cp lib/Test/Class/Moose/Role/Reporting.pm blib/lib/Test/Class/Moose/Role/Reporting.pm
cp lib/Test/Class/Moose/Runner.pm blib/lib/Test/Class/Moose/Runner.pm
cp lib/Test/Class/Moose/Role/Executor.pm blib/lib/Test/Class/Moose/Role/Executor.pm
cp lib/Test/Class/Moose/Role/CLI.pm blib/lib/Test/Class/Moose/Role/CLI.pm
cp lib/Test/Class/Moose/Tutorial.pm blib/lib/Test/Class/Moose/Tutorial.pm
cp lib/Test/Class/Moose/Util.pm blib/lib/Test/Class/Moose/Util.pm
cp lib/Test/Class/Moose/Report.pm blib/lib/Test/Class/Moose/Report.pm
cp lib/Test/Class/Moose/Report/Method.pm blib/lib/Test/Class/Moose/Report/Method.pm
cp lib/Test/Class/Moose/AttributeRegistry.pm blib/lib/Test/Class/Moose/AttributeRegistry.pm
cp lib/Test/Class/Moose/Executor/Sequential.pm blib/lib/Test/Class/Moose/Executor/Sequential.pm
cp lib/Test/Class/Moose/Role.pm blib/lib/Test/Class/Moose/Role.pm
cp lib/Test/Class/Moose/CLI.pm blib/lib/Test/Class/Moose/CLI.pm
cp lib/Test/Class/Moose/Report/Instance.pm blib/lib/Test/Class/Moose/Report/Instance.pm
cp lib/Test/Class/Moose/Load.pm blib/lib/Test/Class/Moose/Load.pm
cp lib/Test/Class/Moose.pm blib/lib/Test/Class/Moose.pm
cp lib/Test/Class/Moose/Report/Class.pm blib/lib/Test/Class/Moose/Report/Class.pm
PERL_DL_NONLAZY=1 "/home/ioanrogers/.plenv/versions/5.26.1/bin/perl5.26.1" "-MExtUtils::Command::MM" "-MTest::Harness" "-e" "undef *Test::Harness::Switches; test_harness(0, 'blib/lib', 'blib/arch')" t/*.t
# 
# Versions for all modules listed in MYMETA.json (including optional ones):
# 
# === Configure Requires ===
# 
#     Module              Want Have
#     ------------------- ---- ----
#     ExtUtils::MakeMaker  any 7.30
# 
# === Build Requires ===
# 
#     Module              Want Have
#     ------------------- ---- ----
#     ExtUtils::MakeMaker  any 7.30
# 
# === Test Requires ===
# 
#     Module                    Want     Have
#     --------------------- -------- --------
#     ExtUtils::MakeMaker        any     7.30
#     File::Spec                 any     3.67
#     File::Temp                 any   0.2304
#     Test2::Tools::Basic        any 0.000092
#     Test2::Tools::Class        any 0.000092
#     Test2::Tools::Compare      any 0.000092
#     Test2::Tools::Subtest      any 0.000092
#     Test2::V0                  any 0.000092
#     Test::More            1.302015 1.302118
#     Test::Requires             any     0.10
#     Test::Warnings             any    0.026
#     lib                        any     0.64
# 
# === Test Recommends ===
# 
#     Module           Want     Have
#     ------------ -------- --------
#     CPAN::Meta   2.120900 2.150010
#     Test::Output   0.0005    1.031
# 
# === Runtime Requires ===
# 
#     Module                            Want     Have
#     ---------------------------- --------- --------
#     Benchmark                          any     1.22
#     Carp                               any     1.42
#     Class::MOP                         any   2.2009
#     Exporter                           any     5.72
#     File::Find                         any     1.34
#     File::Spec                         any     3.67
#     Import::Into                       any 1.002005
#     JSON                               any  2.97000
#     List::SomeUtils                    any     0.56
#     List::Util                         any     1.49
#     Module::Runtime                    any    0.016
#     Module::Util                       any     1.09
#     Moose                           2.0000   2.2009
#     Moose::Role                     2.0000   2.2009
#     Moose::Util::TypeConstraints       any   2.2009
#     MooseX::Getopt                    0.71     0.71
#     MooseX::Getopt::Dashes             any     0.71
#     Package::DeprecationManager       0.16     0.17
#     Parallel::ForkManager              any     1.19
#     Scalar::Util                       any     1.49
#     Sub::Attribute                     any     0.06
#     TAP::Formatter::Color             3.29     3.39
#     Test2                        1.1302118 1.302118
#     Test2::API                         any 1.302118
#     Test2::AsyncSubtest           0.000018 0.000092
#     Test2::IPC                         any 1.302118
#     Test2::Tools::AsyncSubtest         any 0.000092
#     Test::Most                         any     0.35
#     Try::Tiny                          any     0.28
#     namespace::autoclean               any     0.28
#     strict                             any     1.11
#     warnings                           any     1.37
# 
# === Runtime Recommends ===
# 
#     Module                  Want Have
#     --------------------- ------ ----
#     Parallel::ForkManager v0.7.6 1.19
# 
[08:32:46] t/00-report-prereqs.t .......... ok      240 ms ( 0.00 usr  0.00 sys +  0.28 cusr  0.02 csys =  0.30 CPU)
[08:32:46] t/bare.t ....................... ok       37 ms ( 0.01 usr  0.00 sys +  0.43 cusr  0.03 csys =  0.47 CPU)
[08:32:46] t/environment.t ................ ok       12 ms ( 0.00 usr  0.00 sys +  0.85 cusr  0.06 csys =  0.91 CPU)
[08:32:46] t/load.t ....................... ok        3 ms ( 0.00 usr  0.00 sys +  0.16 cusr  0.01 csys =  0.17 CPU)
[08:32:46] t/include_classes.t ............ ok       15 ms ( 0.01 usr  0.00 sys +  0.61 cusr  0.05 csys =  0.67 CPU)
[08:32:46] t/autouse.t .................... ok       28 ms ( 0.01 usr  0.00 sys +  0.60 cusr  0.04 csys =  0.65 CPU)
[08:32:46] t/include_exclude.t ............ ok       62 ms ( 0.02 usr  0.00 sys +  1.27 cusr  0.06 csys =  1.35 CPU)
[08:32:46] t/basic.t ...................... ok      344 ms ( 0.06 usr  0.01 sys +  2.73 cusr  0.18 csys =  2.98 CPU)
[08:32:46] t/cli.t ........................ ok      389 ms ( 0.06 usr  0.01 sys +  3.69 cusr  0.23 csys =  3.99 CPU)
[08:32:47] t/no_tests_run.t ............... ok       15 ms ( 0.00 usr  0.00 sys +  0.66 cusr  0.04 csys =  0.70 CPU)
[08:32:47] t/non_randomize_classes.t ...... ok       15 ms ( 0.01 usr  0.00 sys +  1.34 cusr  0.09 csys =  1.44 CPU)
.......................[08:32:52] t/test_class_is_not_loaded.t ... ok        1 ms ( 0.00 usr  0.00 sys +  0.45 cusr  0.03 csys =  0.48 CPU)
[08:32:52] t/plans.t ...................... ok        5 ms ( 0.00 usr  0.01 sys +  1.14 cusr  0.07 csys =  1.22 CPU)
[08:32:52] t/process_name.t ............... ok        9 ms ( 0.01 usr  0.01 sys +  1.82 cusr  0.12 csys =  1.96 CPU)
[08:32:52] t/tags.t ....................... ok       13 ms ( 0.01 usr  0.01 sys +  2.35 cusr  0.15 csys =  2.52 CPU)
[08:32:52] t/reportpassed.t ............... ok       21 ms ( 0.02 usr  0.01 sys +  2.94 cusr  0.18 csys =  3.15 CPU)
[08:32:52] t/parameterized.t .............. ok     5202 ms ( 0.04 usr  0.01 sys +  4.98 cusr  0.32 csys =  5.35 CPU)
[08:32:52] t/skip.t ....................... ok       39 ms ( 0.03 usr  0.01 sys +  4.24 cusr  0.27 csys =  4.55 CPU)
[08:32:52] t/parallel.t ................... ok     5390 ms ( 0.16 usr  0.02 sys +  5.43 cusr  0.46 csys =  6.07 CPU)
[08:32:52] t/test_control_methods.t ....... ok      181 ms ( 0.04 usr  0.00 sys +  1.62 cusr  0.22 csys =  1.88 CPU)
[08:32:52] t/test_control_methods_skip.t .. ok      178 ms ( 0.03 usr  0.00 sys +  2.06 cusr  0.25 csys =  2.34 CPU)
[08:32:54] t/timing.t ..................... ok       13 ms ( 0.00 usr  0.00 sys +  0.44 cusr  0.03 csys =  0.47 CPU)
[08:32:54]
All tests successful.
Files=22, Tests=204,  9 wallclock secs ( 0.27 usr  0.04 sys + 13.06 cusr  0.96 csys = 14.33 CPU)
Result: PASS

------------------------------
PREREQUISITES
------------------------------

Prerequisite modules loaded:

    No requirements found

------------------------------
ENVIRONMENT AND OTHER CONTEXT
------------------------------

Environment variables:

    HARNESS_OPTIONS = j8
    HARNESS_TIMER = 1
    LANG = en_GB.UTF-8
    PATH = /home/ioanrogers/.plenv/versions/5.26.1/bin:/home/ioanrogers/.plenv/libexec:/home/ioanrogers/.plenv/plugins/perl-build/bin:/home/ioanrogers/.local/share/go/bin:/home/ioanrogers/.plenv/shims:~/.plenv/bin::/home/ioanrogers/.local/bin:/usr/local/bin:/usr/bin:/bin:/usr/local/sbin:/sbin:/usr/sbin:/usr/games
    PERL_CPANM_OPT = --prompt --no-man-pages --verify --mirror https://cpan.metacpan.org
    SHELL = /bin/bash
    TERM = xterm-256color

Perl special variables (and OS-specific diagnostics, for MSWin32):

    EGID = 1854000021 135 190 972 981 1854000000 1854000021 1854000040 1854100503 1854100505
    EUID = 1854000021
    EXECUTABLE_NAME = /home/ioanrogers/.plenv/versions/5.26.1/bin/perl5.26.1
    GID = 1854000021 135 190 972 981 1854000000 1854000021 1854000040 1854100503 1854100505
    UID = 1854000021

Perl module toolchain versions installed:

    Module              Have    
    ------------------- --------
    CPAN                2.18    
    CPAN::Meta          2.150010
    Cwd                 3.67    
    ExtUtils::CBuilder  0.280230
    ExtUtils::Command   7.30    
    ExtUtils::Install   2.14    
    ExtUtils::MakeMaker 7.30    
    ExtUtils::Manifest  1.70    
    ExtUtils::ParseXS   3.35    
    File::Spec          3.67    
    JSON                2.97000 
    JSON::PP            2.97000 
    Module::Build       0.4224  
    Module::Signature   0.81    
    Parse::CPAN::Meta   2.150010
    Test::Harness       3.39    
    Test::More          1.302118
    YAML                1.24    
    YAML::Syck          n/a     
    version             0.9918  


--

Summary of my perl5 (revision 5 version 26 subversion 1) configuration:
   
  Platform:
    osname=linux
    osvers=4.13.9-300.fc27.x86_64
    archname=x86_64-linux
    uname='linux ioan-desktop.eng.sophos 4.13.9-300.fc27.x86_64 #1 smp mon oct 23 13:41:58 utc 2017 x86_64 x86_64 x86_64 gnulinux '
    config_args='-Dprefix=/home/ioanrogers/.plenv/versions/5.26.1 -de -Dusedevel -Dcc=clang -Doptimize=-O3 -Dccflags-march=native -flto -fstack-protector-strong -Wformat -Werror=format-security -Wl,-z,relro -pie -fPIE -Dcppflags=-Wdate-time -D_FORTIFY_SOURCE=2 -Dldflags=-Wl,-z,relro -Dman1dir=none -Dman3dir=none -A'eval:scriptdir=/home/ioanrogers/.plenv/versions/5.26.1/bin''
    hint=recommended
    useposix=true
    d_sigaction=define
    useithreads=undef
    usemultiplicity=undef
    use64bitint=define
    use64bitall=define
    uselongdouble=undef
    usemymalloc=n
    default_inc_excludes_dot=define
    bincompat5005=undef
  Compiler:
    cc='clang'
    ccflags ='-fno-strict-aliasing -pipe -fstack-protector-strong -I/usr/local/include -D_LARGEFILE_SOURCE -D_FILE_OFFSET_BITS=64 -D_FORTIFY_SOURCE=2'
    optimize='-O3'
    cppflags='-Wdate-time -D_FORTIFY_SOURCE=2 -fno-strict-aliasing -pipe -fstack-protector-strong -I/usr/local/include'
    ccversion=''
    gccversion='4.2.1 Compatible Clang 4.0.1 (tags/RELEASE_401/final)'
    gccosandvers=''
    intsize=4
    longsize=8
    ptrsize=8
    doublesize=8
    byteorder=12345678
    doublekind=3
    d_longlong=define
    longlongsize=8
    d_longdbl=define
    longdblsize=16
    longdblkind=3
    ivtype='long'
    ivsize=8
    nvtype='double'
    nvsize=8
    Off_t='off_t'
    lseeksize=8
    alignbytes=8
    prototype=define
  Linker and Libraries:
    ld='clang'
    ldflags ='-Wl,-z,relro -fstack-protector-strong -L/usr/local/lib'
    libpth=/usr/local/lib /usr/bin/../lib64/clang/4.0.1/lib /usr/lib /lib/../lib64 /usr/lib/../lib64 /lib /lib64 /usr/lib64 /usr/local/lib64
    libs=-lpthread -lnsl -ldl -lm -lcrypt -lutil -lc
    perllibs=-lpthread -lnsl -ldl -lm -lcrypt -lutil -lc
    libc=libc-2.26.so
    so=so
    useshrplib=false
    libperl=libperl.a
    gnulibc_version='2.26'
  Dynamic Linking:
    dlsrc=dl_dlopen.xs
    dlext=so
    d_dlsymun=undef
    ccdlflags='-Wl,-E'
    cccdlflags='-fPIC'
    lddlflags='-shared -O3 -L/usr/local/lib -fstack-protector-strong'


Characteristics of this binary (from libperl): 
  Compile-time options:
    HAS_TIMES
    PERLIO_LAYERS
    PERL_COPY_ON_WRITE
    PERL_DONT_CREATE_GVSV
    PERL_MALLOC_WRAP
    PERL_OP_PARENT
    PERL_PRESERVE_IVUV
    PERL_USE_DEVEL
    USE_64_BIT_ALL
    USE_64_BIT_INT
    USE_LARGE_FILES
    USE_LOCALE
    USE_LOCALE_COLLATE
    USE_LOCALE_CTYPE
    USE_LOCALE_NUMERIC
    USE_LOCALE_TIME
    USE_PERLIO
    USE_PERL_ATOF
  Locally applied patches:
    Devel::PatchPerl 1.48
  Built under linux
  Compiled at Oct 27 2017 09:21:15
  %ENV:
    PERL_CPANM_OPT="--prompt --no-man-pages --verify --mirror https://cpan.metacpan.org"
  @INC:
    /home/ioanrogers/.plenv/versions/5.26.1/lib/perl5/site_perl/5.26.1/x86_64-linux
    /home/ioanrogers/.plenv/versions/5.26.1/lib/perl5/site_perl/5.26.1
    /home/ioanrogers/.plenv/versions/5.26.1/lib/perl5/5.26.1/x86_64-linux
    /home/ioanrogers/.plenv/versions/5.26.1/lib/perl5/5.26.1