CPANPLUS v0.9916 Perl 5 v5.18.2 amd64-freebsd

Status
Pass
From
Slaven Rezić
Dist
CPANPLUS v0.9916
Platform
Perl 5 v5.18.2 amd64-freebsd
Date
2025-02-17 00:07:28
ID
2cdc45f6-ecc3-11ef-b807-aefa6d8775ea
This distribution has been tested as part of the CPAN Testers
project, supporting the Perl programming language.  See
http://wiki.cpantesters.org/ for more information or email
questions to cpan-testers-discuss@perl.org


--
Dear Chris Williams,

This is a computer-generated report for CPANPLUS-0.9916
on perl 5.18.2, created by CPAN-Reporter-1.2019.

Thank you for uploading your work to CPAN.  Congratulations!
All tests were successful.

Sections of this report:

    * Tester comments
    * Program output
    * Prerequisites
    * Environment and other context

------------------------------
TESTER COMMENTS
------------------------------

Additional comments from tester:

none provided

------------------------------
PROGRAM OUTPUT
------------------------------

Output from '/usr/bin/make test':

PERL_DL_NONLAZY=1 "/usr/perl5.18.2/bin/perl" "-MExtUtils::Command::MM" "-MTest::Harness" "-e" "undef *Test::Harness::Switches; test_harness(0, 'inc', 'blib/lib', 'blib/arch')" t/*.t
t/08_CPANPLUS-Backend.t ....................... ok
t/00_CPANPLUS-Internals-Utils.t ............... ok
t/01_CPANPLUS-Configure.t ..................... ok
t/02_CPANPLUS-Internals.t ..................... ok
t/031_CPANPLUS-Internals-Source-SQLite.t ...... ok
t/032_CPANPLUS-Internals-Source-via-sqlite.t .. ok
t/03_CPANPLUS-Internals-Source.t .............. ok
t/04_CPANPLUS-Module.t ........................ ok
t/05_CPANPLUS-Internals-Fetch.t ............... ok
t/06_CPANPLUS-Internals-Constants.t ........... ok
t/07_CPANPLUS-Internals-Extract.t ............. ok
t/09_CPANPLUS-Internals-Search.t .............. ok
t/10_CPANPLUS-Error.t ......................... ok
t/15_CPANPLUS-Shell.t ......................... ok
t/19_CPANPLUS-Dist.t .......................... ok
t/20_CPANPLUS-Dist-MM.t ....................... ok
t/21_CPANPLUS-Dist-No-Build.t ................. ok
t/25_CPANPLUS.t ............................... ok
t/30_CPANPLUS-Internals-Selfupdate.t .......... ok
t/40_CPANPLUS-Internals-Report.t .............. ok
All tests successful.
Files=20, Tests=1842, 71 wallclock secs ( 0.18 usr  0.09 sys + 20.20 cusr 15.59 csys = 36.05 CPU)
Result: PASS

------------------------------
PREREQUISITES
------------------------------

Prerequisite modules loaded:

requires:

    Module                    Need    Have      
    ------------------------- ------- ----------
    Archive::Extract          0.16    0.88      
    Archive::Tar              1.23    3.02      
    Digest::SHA               0.0     6.02      
    ExtUtils::Install         1.42    2.22      
    File::Fetch               0.15_02 1.04      
    File::Spec                0.82    3.75      
    IO::Zlib                  1.04    1.14      
    IPC::Cmd                  0.36    1.04      
    Locale::Maketext::Simple  0.01    0.21      
    Log::Message              0.01    0.08      
    Module::CoreList          2.22    5.20240920
    Module::Load              0.10    0.36      
    Module::Load::Conditional 0.50    0.74      
    Module::Loaded            0.01    0.08      
    Module::Pluggable         2.4     5.1       
    Module::Signature         0.06    0.89      
    Object::Accessor          0.44    0.48      
    Package::Constants        0.01    0.06      
    Params::Check             0.36    0.38      
    Parse::CPAN::Meta         1.4200  2.150010  
    Storable                  0.0     3.25      
    Term::UI                  0.18    0.46      
    Test::Harness             2.62    3.50      
    Test::More                0.47    1.302209  
    version                   0.77    0.9932    

build_requires:

    Module                    Need    Have      
    ------------------------- ------- ----------
    ExtUtils::MakeMaker       6.36    7.70      


------------------------------
ENVIRONMENT AND OTHER CONTEXT
------------------------------

Environment variables:

    LC_ALL = de_DE.ISO8859-1
    PATH = /usr/local/bin:/usr/bin:/bin:/usr/local/sbin:/usr/sbin:/sbin:/home/cpansand/bin/freebsd9.3:/home/cpansand/bin/sh:/home/cpansand/bin:/usr/games:/home/cpansand/devel:/usr/home/eserte/src/srezic-misc/scripts
    PERL5LIB = 
    PERL5OPT = 
    PERL5_CPANPLUS_IS_RUNNING = 82608
    PERL5_CPAN_IS_RUNNING = 82608
    PERL5_CPAN_IS_RUNNING_IN_RECURSION = 78326,82608
    PERLDOC = -MPod::Perldoc::ToTextOverstrike
    PERL_BATCH = yes
    PERL_CANARY_STABILITY_NOPROMPT = 1
    PERL_CPAN_REPORTER_CONFIG = /var/tmp/cpansmoker-1023/2025021700/cpanreporter_000_config.ini
    PERL_EXTUTILS_AUTOINSTALL = --defaultdeps
    PERL_USE_UNSAFE_INC = 1
    SHELL = /usr/local/bin/zsh
    TERM = screen
    TMPDIR = /var/tmp/cpansmoker-1023/2025021700

Perl special variables (and OS-specific diagnostics, for MSWin32):

    $^X = /usr/perl5.18.2/bin/perl
    $UID/$EUID = 1023 / 1023
    $GID = 1023 1023
    $EGID = 1023 1023

Perl module toolchain versions installed:

    Module              Have    
    ------------------- --------
    CPAN                2.36    
    CPAN::Meta          2.150010
    Cwd                 3.75    
    ExtUtils::CBuilder  0.280236
    ExtUtils::Command   7.70    
    ExtUtils::Install   2.22    
    ExtUtils::MakeMaker 7.70    
    ExtUtils::Manifest  1.75    
    ExtUtils::ParseXS   3.51    
    File::Spec          3.75    
    JSON                4.10    
    JSON::PP            4.16    
    Module::Build       0.4234  
    Module::Signature   0.89    
    Parse::CPAN::Meta   2.150010
    Test2               1.302209
    Test::Harness       3.50    
    Test::More          1.302209
    YAML                1.30    
    YAML::Syck          1.34    
    version             0.9932  


--

Summary of my perl5 (revision 5 version 18 subversion 2) configuration:
   
  Platform:
    osname=freebsd, osvers=9.2-release-p4, archname=amd64-freebsd
    uname='freebsd cvrsnica-freebsd-92 9.2-release-p4 freebsd 9.2-release-p4 #0: tue apr 8 18:08:22 utc 2014 root@amd64-builder.daemonology.net:usrobjusrsrcsysgeneric amd64 '
    config_args='-ds -e -Dprefix=/usr/perl5.18.2'
    hint=recommended, useposix=true, d_sigaction=define
    useithreads=undef, usemultiplicity=undef
    useperlio=define, d_sfio=undef, uselargefiles=define, usesocks=undef
    use64bitint=define, use64bitall=define, uselongdouble=undef
    usemymalloc=n, bincompat5005=undef
  Compiler:
    cc='cc', ccflags ='-DHAS_FPSETMASK -DHAS_FLOATINGPOINT_H -fno-strict-aliasing -pipe -fstack-protector -I/usr/local/include',
    optimize='-O',
    cppflags='-DHAS_FPSETMASK -DHAS_FLOATINGPOINT_H -fno-strict-aliasing -pipe -fstack-protector -I/usr/local/include'
    ccversion='', gccversion='4.2.1 20070831 patched [FreeBSD]', gccosandvers=''
    intsize=4, longsize=8, ptrsize=8, doublesize=8, byteorder=12345678
    d_longlong=define, longlongsize=8, d_longdbl=define, longdblsize=16
    ivtype='long', ivsize=8, nvtype='double', nvsize=8, Off_t='off_t', lseeksize=8
    alignbytes=8, prototype=define
  Linker and Libraries:
    ld='cc', ldflags ='-Wl,-E  -fstack-protector -L/usr/local/lib'
    libpth=/usr/lib /usr/local/lib
    libs=-lgdbm -lm -lcrypt -lutil -lc
    perllibs=-lm -lcrypt -lutil -lc
    libc=, so=so, useshrplib=false, libperl=libperl.a
    gnulibc_version=''
  Dynamic Linking:
    dlsrc=dl_dlopen.xs, dlext=so, d_dlsymun=undef, ccdlflags=' '
    cccdlflags='-DPIC -fPIC', lddlflags='-shared  -L/usr/local/lib -fstack-protector'


Characteristics of this binary (from libperl): 
  Compile-time options: HAS_TIMES PERLIO_LAYERS PERL_DONT_CREATE_GVSV
                        PERL_HASH_FUNC_ONE_AT_A_TIME_HARD PERL_MALLOC_WRAP
                        PERL_PRESERVE_IVUV PERL_SAWAMPERSAND USE_64_BIT_ALL
                        USE_64_BIT_INT USE_LARGE_FILES USE_LOCALE
                        USE_LOCALE_COLLATE USE_LOCALE_CTYPE
                        USE_LOCALE_NUMERIC USE_PERLIO USE_PERL_ATOF
  Built under freebsd
  Compiled at May 16 2014 01:27:28
  %ENV:
    PERL5LIB=""
    PERL5OPT=""
    PERL5_CPANPLUS_IS_RUNNING="82608"
    PERL5_CPAN_IS_RUNNING="82608"
    PERL5_CPAN_IS_RUNNING_IN_RECURSION="78326,82608"
    PERLDOC="-MPod::Perldoc::ToTextOverstrike"
    PERL_BATCH="yes"
    PERL_CANARY_STABILITY_NOPROMPT="1"
    PERL_CPAN_REPORTER_CONFIG="/var/tmp/cpansmoker-1023/2025021700/cpanreporter_000_config.ini"
    PERL_EXTUTILS_AUTOINSTALL="--defaultdeps"
    PERL_USE_UNSAFE_INC="1"
  @INC:
    /usr/perl5.18.2/lib/site_perl/5.18.2/amd64-freebsd
    /usr/perl5.18.2/lib/site_perl/5.18.2
    /usr/perl5.18.2/lib/5.18.2/amd64-freebsd
    /usr/perl5.18.2/lib/5.18.2
    .