SPVM-IO v0.214 Perl 5 v5.32.0 i686-linux-64int

Status
Pass
From
David Cantrell (DCANTRELL)
Dist
SPVM-IO v0.214
Platform
Perl 5 v5.32.0 i686-linux-64int
Date
2024-05-22T01:04:00
ID
2c9c11a0-17d7-11ef-9262-7ef0eb31905a
This distribution has been tested as part of the CPAN Testers
project, supporting the Perl programming language.  See
http://wiki.cpantesters.org/ for more information or email
questions to cpan-testers-discuss@perl.org


--
Dear Yuki Kimoto,

This is a computer-generated report for SPVM-IO-0.214
on perl 5.32.0, created by CPAN-Reporter-1.2018.

Thank you for uploading your work to CPAN.  Congratulations!
All tests were successful.

Sections of this report:

    * Tester comments
    * Program output
    * Prerequisites
    * Environment and other context

------------------------------
TESTER COMMENTS
------------------------------

Additional comments from tester:

this report is from an automated smoke testing program
and was not reviewed by a human for accuracy

------------------------------
PROGRAM OUTPUT
------------------------------

Output from '/usr/bin/make test':

PERL_DL_NONLAZY=1 "/home/david/cpantesting/perl-5.32.0-int64/bin/perl" "-MExtUtils::Command::MM" "-MTest::Harness" "-e" "undef *Test::Harness::Switches; test_harness(0, 'blib/lib', 'blib/arch')" t/*.t
[2024-05-22 02:02:52.53502] [26071] [info] Listening at "http://*:41133"
[2024-05-22 02:02:52.60832] [26071] [trace] [BchAIPO6Mq_P] GET "/hello"
[2024-05-22 02:02:52.61451] [26071] [trace] [BchAIPO6Mq_P] 200 OK (0.006169s, 162.101/s)
t/01-01-Test-Tcp_and_Mojolicious.t ........... ok
[2024-05-22 02:03:11.84952] [26220] [info] Listening at "http://*:33923"
[2024-05-22 02:03:12.25561] [26220] [trace] [N_zbBxklSKl2] GET "/hello"
[2024-05-22 02:03:12.27394] [26220] [trace] [N_zbBxklSKl2] 200 OK (0.018264s, 54.753/s)
t/01-02-Test-Tcp_and_Mojolicious_and_SPVM.t .. ok
t/IO-File.t .................................. ok
t/IO-Select.t ................................ ok
[2024-05-22 02:03:26.08395] [26468] [info] Listening at "http://*:41275"
[2024-05-22 02:03:26.43538] [26468] [trace] [987yqghVt0Dq] GET "/hello"
[2024-05-22 02:03:26.43798] [26468] [trace] [987yqghVt0Dq] 200 OK (0.00239s, 418.410/s)
[2024-05-22 02:03:26.46122] [26468] [trace] [4y4-rV_tP34D] GET "/hello"
[2024-05-22 02:03:26.46900] [26468] [trace] [4y4-rV_tP34D] 200 OK (0.00755s, 132.450/s)
[2024-05-22 02:03:26.48772] [26468] [trace] [Vdzgk-dfTsUJ] GET "/hello"
[2024-05-22 02:03:26.50252] [26468] [trace] [Vdzgk-dfTsUJ] 200 OK (0.015182s, 65.867/s)
[2024-05-22 02:03:26.53615] [26468] [trace] [ECQ0UXqbhSpx] GET "/hello"
[2024-05-22 02:03:26.53762] [26468] [trace] [ECQ0UXqbhSpx] 200 OK (0.001445s, 692.042/s)
[2024-05-22 02:03:26.60488] [26468] [trace] [Cjk7RMckWPA3] GET "/"
[2024-05-22 02:03:26.61717] [26468] [trace] [Cjk7RMckWPA3] Template "not_found.development.html.ep" not found
[2024-05-22 02:03:26.61877] [26468] [trace] [Cjk7RMckWPA3] Template "not_found.html.ep" not found
[2024-05-22 02:03:26.62009] [26468] [trace] [Cjk7RMckWPA3] Rendering template "mojo/debug.html.ep"
[2024-05-22 02:03:26.75195] [26468] [trace] Your secret passphrase needs to be changed (see FAQ for more)
[2024-05-22 02:03:26.76340] [26468] [trace] [Cjk7RMckWPA3] 404 Not Found (0.158478s, 6.310/s)
[2024-05-22 02:03:26.81168] [26468] [trace] [lMcxdR7QUvky] GET "/"
[2024-05-22 02:03:26.81431] [26468] [trace] [lMcxdR7QUvky] Template "not_found.development.html.ep" not found
[2024-05-22 02:03:26.82068] [26468] [trace] [lMcxdR7QUvky] Template "not_found.html.ep" not found
[2024-05-22 02:03:26.82832] [26468] [trace] [lMcxdR7QUvky] Rendering cached template "mojo/debug.html.ep"
[2024-05-22 02:03:26.84827] [26468] [trace] [lMcxdR7QUvky] 404 Not Found (0.0366s, 27.322/s)
t/IO-Socket-INET.t ........................... ok
[2024-05-22 02:03:32.43859] [26685] [info] Listening at "http://[::1]:39513"
[2024-05-22 02:03:32.92348] [26685] [trace] [TAkCa_m9bqWI] GET "/hello"
[2024-05-22 02:03:32.93144] [26685] [trace] [TAkCa_m9bqWI] 200 OK (0.007925s, 126.183/s)
[2024-05-22 02:03:32.94639] [26685] [trace] [NeKRTfAiDyoS] GET "/hello"
[2024-05-22 02:03:32.96240] [26685] [trace] [NeKRTfAiDyoS] 200 OK (0.016s, 62.500/s)
[2024-05-22 02:03:32.97548] [26685] [trace] [ie6apKX4Bpj9] GET "/hello"
[2024-05-22 02:03:32.98588] [26685] [trace] [ie6apKX4Bpj9] 200 OK (0.010369s, 96.441/s)
[2024-05-22 02:03:33.11339] [26685] [trace] [3ZokswatQjam] GET "/hello"
[2024-05-22 02:03:33.11420] [26685] [trace] [3ZokswatQjam] 200 OK (0.000782s, 1278.772/s)
[2024-05-22 02:03:33.15762] [26685] [trace] [27XEKMbV4UsG] GET "/"
[2024-05-22 02:03:33.16097] [26685] [trace] [27XEKMbV4UsG] Template "not_found.development.html.ep" not found
[2024-05-22 02:03:33.16532] [26685] [trace] [27XEKMbV4UsG] Template "not_found.html.ep" not found
[2024-05-22 02:03:33.16630] [26685] [trace] [27XEKMbV4UsG] Rendering template "mojo/debug.html.ep"
[2024-05-22 02:03:33.31396] [26685] [trace] Your secret passphrase needs to be changed (see FAQ for more)
[2024-05-22 02:03:33.32543] [26685] [trace] [27XEKMbV4UsG] 404 Not Found (0.167785s, 5.960/s)
[2024-05-22 02:03:33.38651] [26685] [trace] [tRld2Fxtjuk7] GET "/"
[2024-05-22 02:03:33.38777] [26685] [trace] [tRld2Fxtjuk7] Template "not_found.development.html.ep" not found
[2024-05-22 02:03:33.38821] [26685] [trace] [tRld2Fxtjuk7] Template "not_found.html.ep" not found
[2024-05-22 02:03:33.38877] [26685] [trace] [tRld2Fxtjuk7] Rendering cached template "mojo/debug.html.ep"
[2024-05-22 02:03:33.39731] [26685] [trace] [tRld2Fxtjuk7] 404 Not Found (0.010769s, 92.859/s)
t/IO-Socket-INET6.t .......................... ok
[2024-05-22 02:03:38.99975] [26725] [info] Listening at "http://*:37401"
[2024-05-22 02:03:39.42687] [26725] [trace] [-dwYUhEdGo79] GET "/hello"
[2024-05-22 02:03:39.43325] [26725] [trace] [-dwYUhEdGo79] 200 OK (0.006342s, 157.679/s)
[2024-05-22 02:03:39.44723] [26725] [trace] [z8zfYWhbZ4Zt] GET "/hello"
[2024-05-22 02:03:39.45883] [26725] [trace] [z8zfYWhbZ4Zt] 200 OK (0.011558s, 86.520/s)
[2024-05-22 02:03:39.49724] [26725] [trace] [wA8elczufy6o] GET "/hello"
[2024-05-22 02:03:39.50188] [26725] [trace] [wA8elczufy6o] 200 OK (0.004607s, 217.061/s)
[2024-05-22 02:03:39.52645] [26725] [trace] [yGDUH8rgaKRT] GET "/hello"
[2024-05-22 02:03:39.52832] [26725] [trace] [yGDUH8rgaKRT] 200 OK (0.001824s, 548.246/s)
[2024-05-22 02:03:39.54951] [26725] [trace] [qwQuP48fZPEc] GET "/"
[2024-05-22 02:03:39.55469] [26725] [trace] [qwQuP48fZPEc] Template "not_found.development.html.ep" not found
[2024-05-22 02:03:39.56930] [26725] [trace] [qwQuP48fZPEc] Template "not_found.html.ep" not found
[2024-05-22 02:03:39.57013] [26725] [trace] [qwQuP48fZPEc] Rendering template "mojo/debug.html.ep"
[2024-05-22 02:03:39.75950] [26725] [trace] Your secret passphrase needs to be changed (see FAQ for more)
[2024-05-22 02:03:39.76563] [26725] [trace] [qwQuP48fZPEc] 404 Not Found (0.216081s, 4.628/s)
[2024-05-22 02:03:39.81502] [26725] [trace] [3xgDC0E3wG1f] GET "/"
[2024-05-22 02:03:39.81746] [26725] [trace] [3xgDC0E3wG1f] Template "not_found.development.html.ep" not found
[2024-05-22 02:03:39.82257] [26725] [trace] [3xgDC0E3wG1f] Template "not_found.html.ep" not found
[2024-05-22 02:03:39.82552] [26725] [trace] [3xgDC0E3wG1f] Rendering cached template "mojo/debug.html.ep"
[2024-05-22 02:03:39.84599] [26725] [trace] [3xgDC0E3wG1f] 404 Not Found (0.03092s, 32.342/s)
t/IO-Socket-IP.t ............................. ok
[2024-05-22 02:03:45.87109] [26753] [info] Listening at "http://[::1]:38915"
[2024-05-22 02:03:46.19006] [26753] [trace] [XkoMvNUsITtQ] GET "/hello"
[2024-05-22 02:03:46.19253] [26753] [trace] [XkoMvNUsITtQ] 200 OK (0.002428s, 411.862/s)
[2024-05-22 02:03:46.21122] [26753] [trace] [j-bwTkkcqIWN] GET "/hello"
[2024-05-22 02:03:46.21220] [26753] [trace] [j-bwTkkcqIWN] 200 OK (0.000958s, 1043.841/s)
[2024-05-22 02:03:46.23874] [26753] [trace] [jlvHZ5lmaV8M] GET "/hello"
[2024-05-22 02:03:46.23948] [26753] [trace] [jlvHZ5lmaV8M] 200 OK (0.000732s, 1366.120/s)
[2024-05-22 02:03:46.28278] [26753] [trace] [Kaf60ekhkTwk] GET "/hello"
[2024-05-22 02:03:46.28348] [26753] [trace] [Kaf60ekhkTwk] 200 OK (0.000671s, 1490.313/s)
[2024-05-22 02:03:46.31724] [26753] [trace] [CRa8ceqHZPLa] GET "/"
[2024-05-22 02:03:46.32041] [26753] [trace] [CRa8ceqHZPLa] Template "not_found.development.html.ep" not found
[2024-05-22 02:03:46.32104] [26753] [trace] [CRa8ceqHZPLa] Template "not_found.html.ep" not found
[2024-05-22 02:03:46.32153] [26753] [trace] [CRa8ceqHZPLa] Rendering template "mojo/debug.html.ep"
[2024-05-22 02:03:46.47067] [26753] [trace] Your secret passphrase needs to be changed (see FAQ for more)
[2024-05-22 02:03:46.48433] [26753] [trace] [CRa8ceqHZPLa] 404 Not Found (0.167338s, 5.976/s)
[2024-05-22 02:03:46.51149] [26753] [trace] [zhn-R1lCnM3F] GET "/"
[2024-05-22 02:03:46.53558] [26753] [trace] [zhn-R1lCnM3F] Template "not_found.development.html.ep" not found
[2024-05-22 02:03:46.53606] [26753] [trace] [zhn-R1lCnM3F] Template "not_found.html.ep" not found
[2024-05-22 02:03:46.53631] [26753] [trace] [zhn-R1lCnM3F] Rendering cached template "mojo/debug.html.ep"
[2024-05-22 02:03:46.54998] [26753] [trace] [zhn-R1lCnM3F] 404 Not Found (0.038472s, 25.993/s)
t/IO-Socket-IP_IPv6.t ........................ ok
t/IO.t ....................................... ok
All tests successful.
Files=9, Tests=52, 60 wallclock secs ( 0.10 usr  0.05 sys + 14.60 cusr  3.65 csys = 18.40 CPU)
Result: PASS

------------------------------
PREREQUISITES
------------------------------

Prerequisite modules loaded:

requires:

    Module              Need     Have    
    ------------------- -------- --------
    SPVM                0.989040 0.990006
    SPVM::Go            0.005    0.007002
    SPVM::Math          0.11     1.001   
    SPVM::Sys           0.510    0.514001

build_requires:

    Module              Need     Have    
    ------------------- -------- --------
    ExtUtils::MakeMaker 0        7.70    
    IO                  1.55     1.55    
    Mojolicious         9.36     9.37    
    Test::TCP           2.22     2.22    

configure_requires:

    Module              Need     Have    
    ------------------- -------- --------
    SPVM                0.989040 0.990006


------------------------------
ENVIRONMENT AND OTHER CONTEXT
------------------------------

Environment variables:

    AUTOMATED_TESTING = 1
    LANG = en_GB.UTF-8
    LANGUAGE = en_GB:en
    LC_TERMINAL = iTerm2
    LC_TERMINAL_VERSION = 3.4.23
    NONINTERACTIVE_TESTING = 1
    PATH = /home/david/.cargo/bin:/home/david/perl5/perlbrew/bin:/home/david/perl5/perlbrew/perls/perl-5.32.0/bin:/home/david/bin:/usr/local/bin:/usr/bin:/bin:/usr/local/games:/usr/games
    PERL = 5.32.0-int64
    PERL5LIB = 
    PERL5OPT = 
    PERL5_CPANPLUS_IS_RUNNING = 15944
    PERL5_CPAN_IS_RUNNING = 15944
    PERLBREW_HOME = /home/david/.perlbrew
    PERLBREW_MANPATH = /home/david/perl5/perlbrew/perls/perl-5.32.0/man
    PERLBREW_PATH = /home/david/perl5/perlbrew/bin:/home/david/perl5/perlbrew/perls/perl-5.32.0/bin
    PERLBREW_PERL = perl-5.32.0
    PERLBREW_ROOT = /home/david/perl5/perlbrew
    PERLBREW_SHELLRC_VERSION = 0.89
    PERLBREW_VERSION = 0.89
    PERLVER = 5.32.0-int64
    PERL_INLINE_DIRECTORY = /home/david/.Inline-5.32.0-int64
    PERL_MM_USE_DEFAULT = 1
    PERL_USE_UNSAFE_INC = 0
    SHELL = /bin/bash
    TERM = screen

Perl special variables (and OS-specific diagnostics, for MSWin32):

    $^X = /home/david/cpantesting/perl-5.32.0-int64/bin/perl
    $UID/$EUID = 1000 / 1000
    $GID = 1000 24 25 27 29 30 44 46 109 1000
    $EGID = 1000 24 25 27 29 30 44 46 109 1000

Perl module toolchain versions installed:

    Module              Have    
    ------------------- --------
    CPAN                2.27    
    CPAN::Meta          2.150010
    Cwd                 3.75    
    ExtUtils::CBuilder  0.280236
    ExtUtils::Command   7.70    
    ExtUtils::Install   2.22    
    ExtUtils::MakeMaker 7.70    
    ExtUtils::Manifest  1.75    
    ExtUtils::ParseXS   3.51    
    File::Spec          3.75    
    JSON                4.10    
    JSON::PP            4.16    
    Module::Build       0.4234  
    Module::Signature   n/a     
    Parse::CPAN::Meta   2.150010
    Test::Harness       3.48    
    Test::More          1.302198
    YAML                1.30    
    YAML::Syck          n/a     
    version             0.9930  


--

Summary of my perl5 (revision 5 version 32 subversion 0) configuration:
   
  Platform:
    osname=linux
    osvers=5.10.0-11-686-pae
    archname=i686-linux-64int
    uname='linux cpantesting-linux-32bit-utm 5.10.0-11-686-pae #1 smp debian 5.10.92-1 (2022-01-18) i686 gnulinux '
    config_args='-de -Dprefix=/home/david/cpantesting/perl-5.32.0-int64 -Duse64bitint'
    hint=recommended
    useposix=true
    d_sigaction=define
    useithreads=undef
    usemultiplicity=undef
    use64bitint=define
    use64bitall=undef
    uselongdouble=undef
    usemymalloc=n
    default_inc_excludes_dot=define
    bincompat5005=undef
  Compiler:
    cc='cc'
    ccflags ='-fwrapv -fno-strict-aliasing -pipe -fstack-protector-strong -I/usr/local/include -D_LARGEFILE_SOURCE -D_FILE_OFFSET_BITS=64 -D_FORTIFY_SOURCE=2'
    optimize='-O2'
    cppflags='-fwrapv -fno-strict-aliasing -pipe -fstack-protector-strong -I/usr/local/include'
    ccversion=''
    gccversion='10.2.1 20210110'
    gccosandvers=''
    intsize=4
    longsize=4
    ptrsize=4
    doublesize=8
    byteorder=12345678
    doublekind=3
    d_longlong=define
    longlongsize=8
    d_longdbl=define
    longdblsize=12
    longdblkind=3
    ivtype='long long'
    ivsize=8
    nvtype='double'
    nvsize=8
    Off_t='off_t'
    lseeksize=8
    alignbytes=4
    prototype=define
  Linker and Libraries:
    ld='cc'
    ldflags =' -fstack-protector-strong -L/usr/local/lib'
    libpth=/usr/local/lib /usr/include/i386-linux-gnu /usr/lib /lib/i386-linux-gnu /lib/../lib /usr/lib/i386-linux-gnu /usr/lib/../lib /lib /lib64 /usr/lib64
    libs=-lpthread -lnsl -ldl -lm -lcrypt -lutil -lc
    perllibs=-lpthread -lnsl -ldl -lm -lcrypt -lutil -lc
    libc=libc-2.31.so
    so=so
    useshrplib=false
    libperl=libperl.a
    gnulibc_version='2.31'
  Dynamic Linking:
    dlsrc=dl_dlopen.xs
    dlext=so
    d_dlsymun=undef
    ccdlflags='-Wl,-E'
    cccdlflags='-fPIC'
    lddlflags='-shared -O2 -L/usr/local/lib -fstack-protector-strong'


Characteristics of this binary (from libperl): 
  Compile-time options:
    HAS_TIMES
    PERLIO_LAYERS
    PERL_COPY_ON_WRITE
    PERL_DONT_CREATE_GVSV
    PERL_MALLOC_WRAP
    PERL_OP_PARENT
    PERL_PRESERVE_IVUV
    USE_64_BIT_INT
    USE_LARGE_FILES
    USE_LOCALE
    USE_LOCALE_COLLATE
    USE_LOCALE_CTYPE
    USE_LOCALE_NUMERIC
    USE_LOCALE_TIME
    USE_PERLIO
    USE_PERL_ATOF
  Built under linux
  Compiled at Feb  8 2022 19:01:41
  %ENV:
    PERL="5.32.0-int64"
    PERL5LIB=""
    PERL5OPT=""
    PERL5_CPANPLUS_IS_RUNNING="15944"
    PERL5_CPAN_IS_RUNNING="15944"
    PERLBREW_HOME="/home/david/.perlbrew"
    PERLBREW_MANPATH="/home/david/perl5/perlbrew/perls/perl-5.32.0/man"
    PERLBREW_PATH="/home/david/perl5/perlbrew/bin:/home/david/perl5/perlbrew/perls/perl-5.32.0/bin"
    PERLBREW_PERL="perl-5.32.0"
    PERLBREW_ROOT="/home/david/perl5/perlbrew"
    PERLBREW_SHELLRC_VERSION="0.89"
    PERLBREW_VERSION="0.89"
    PERLVER="5.32.0-int64"
    PERL_INLINE_DIRECTORY="/home/david/.Inline-5.32.0-int64"
    PERL_MM_USE_DEFAULT="1"
    PERL_USE_UNSAFE_INC="0"
  @INC:
    /home/david/cpantesting/perl-5.32.0-int64/lib/site_perl/5.32.0/i686-linux-64int
    /home/david/cpantesting/perl-5.32.0-int64/lib/site_perl/5.32.0
    /home/david/cpantesting/perl-5.32.0-int64/lib/5.32.0/i686-linux-64int
    /home/david/cpantesting/perl-5.32.0-int64/lib/5.32.0