Dist-Zilla-Plugin-Git v2.043 Perl 5 v5.22.4 x86_64-linux
- Status
- Pass
- From
- Slaven Rezić (SREZIC)
- Dist
-
Dist-Zilla-Plugin-Git v2.043
- Platform
- Perl 5 v5.22.4 x86_64-linux
- Date
- 2017-12-10 01:05:11
- ID
- 2c4528fe-dd46-11e7-880e-8cb40cad8f49
This distribution has been tested as part of the CPAN Testers
project, supporting the Perl programming language. See
http://wiki.cpantesters.org/ for more information or email
questions to cpan-testers-discuss@perl.org
--
Dear Karen Etheridge,
This is a computer-generated report for Dist-Zilla-Plugin-Git-2.043
on perl 5.22.4, created by CPAN-Reporter-1.2018.
Thank you for uploading your work to CPAN. Congratulations!
All tests were successful.
Sections of this report:
* Tester comments
* Program output
* Prerequisites
* Environment and other context
------------------------------
TESTER COMMENTS
------------------------------
Additional comments from tester:
none provided
------------------------------
PROGRAM OUTPUT
------------------------------
Output from '/usr/bin/make test':
"/opt/perl-5.22.4/bin/perl5.22.4" "-Iblib/arch" "-Iblib/lib" Makefile_git.PL Makefile_git
PERL_DL_NONLAZY=1 "/opt/perl-5.22.4/bin/perl5.22.4" "-MExtUtils::Command::MM" "-MTest::Harness" "-e" "undef *Test::Harness::Switches; test_harness(0, 'blib/lib', 'blib/arch')" t/*.t
#
# Versions for all modules listed in MYMETA.json (including optional ones):
#
# === Configure Requires ===
#
# Module Want Have
# ------------------- ---- ------
# ExtUtils::MakeMaker any 7.30
# Text::ParseWords any 3.30
# version any 0.9918
#
# === Build Requires ===
#
# Module Want Have
# ------------------- ---- ----
# ExtUtils::MakeMaker any 7.30
#
# === Test Requires ===
#
# Module Want Have
# -------------------------------- ----- --------
# CPAN::Meta::Check 0.011 0.014
# CPAN::Meta::Requirements any 2.140
# Devel::SimpleTrace any 0.08
# Dist::Zilla::File::InMemory any 6.010
# Dist::Zilla::Plugin::Config::Git any 0.92
# Dist::Zilla::Role::Releaser any 6.010
# Dist::Zilla::Tester any 6.010
# Encode any 2.93
# Exporter any 5.72
# ExtUtils::MakeMaker any 7.30
# File::Copy any 2.30
# File::Copy::Recursive any 0.38
# File::Path 2.07 2.15
# File::Spec any 3.62
# File::Which any 1.22
# File::pushd any 1.014
# Log::Dispatchouli any 2.015
# Test::DZil any 6.010
# Test::Fatal any 0.014
# Test::More 0.88 1.302120
# lib any 0.63
# utf8 any 1.17
#
# === Test Recommends ===
#
# Module Want Have
# ---------- -------- --------
# CPAN::Meta 2.120900 2.150010
#
# === Runtime Requires ===
#
# Module Want Have
# ---------------------------------- -------- --------
# Cwd any 3.62
# DateTime any 1.44
# Dist::Zilla 4 6.010
# Dist::Zilla::Plugin::GatherDir 4.200016 6.010
# Dist::Zilla::Role::AfterBuild any 6.010
# Dist::Zilla::Role::AfterMint any 6.010
# Dist::Zilla::Role::AfterRelease any 6.010
# Dist::Zilla::Role::BeforeRelease any 6.010
# Dist::Zilla::Role::FilePruner any 6.010
# Dist::Zilla::Role::GitConfig any 0.92
# Dist::Zilla::Role::PluginBundle any 6.010
# Dist::Zilla::Role::VersionProvider any 6.010
# File::Spec::Functions any 3.62
# File::Temp any 0.2304
# File::chdir any 0.1010
# Git::Wrapper 0.021 0.047
# IPC::Open3 any 1.18
# IPC::System::Simple any 1.25
# List::Util 1.45 1.49
# Module::Runtime any 0.015
# Moose any 2.2006
# Moose::Role any 2.2006
# Moose::Util::TypeConstraints any 2.2006
# MooseX::Has::Sugar any 1.000006
# MooseX::Types::Moose any 0.50
# MooseX::Types::Path::Tiny 0.010 0.012
# Path::Tiny 0.048 0.104
# String::Formatter any 0.102084
# Try::Tiny any 0.28
# Version::Next any 1.000
# constant any 1.33
# namespace::autoclean 0.09 0.28
# strict any 1.09
# version 0.80 0.9918
# warnings any 1.34
#
# === Other Modules ===
#
# Module Have
# ------------- ----
# JSON::PP 2.95
# Pod::Coverage 0.23
# Sub::Name 0.21
# YAML 1.24
# autodie 2.29
#
t/00-report-prereqs.t ........... ok
# git version 2.11.0
t/000-report-git-version.t ...... ok
t/check.t ....................... ok
t/commit-build-custom.t ......... ok
t/commit-build-src-as-parent.t .. ok
t/commit-build.t ................ ok
t/commit-dirtydir.t ............. ok
t/commit-message.t .............. ok
t/commit-utf8.t ................. ok
t/commit-ws.t ................... ok
t/commit.t ...................... ok
t/gatherdir-multi.t ............. ok
t/gatherdir.t ................... ok
t/push-gitconfig.t .............. ok
t/push-multi.t .................. ok
t/push.t ........................ ok
t/repo-dir.t .................... ok
t/tag-signed.t .................. ok
t/tag.t ......................... ok
t/version-by-branch.t ........... ok
t/version-default.t ............. ok
t/version-extraction.t .......... ok
t/version-regexp.t .............. ok
t/zzz-check-breaks.t ............ ok
All tests successful.
Files=24, Tests=207, 28 wallclock secs ( 0.07 usr 0.07 sys + 13.10 cusr 13.18 csys = 26.42 CPU)
Result: PASS
------------------------------
PREREQUISITES
------------------------------
Prerequisite modules loaded:
requires:
Module Need Have
---------------------------------- -------- --------
constant 0 1.33
Cwd 0 3.62
DateTime 0 1.44
Dist::Zilla 4 6.010
Dist::Zilla::Plugin::GatherDir 4.200016 6.010
Dist::Zilla::Role::AfterBuild 0 6.010
Dist::Zilla::Role::AfterMint 0 6.010
Dist::Zilla::Role::AfterRelease 0 6.010
Dist::Zilla::Role::BeforeRelease 0 6.010
Dist::Zilla::Role::FilePruner 0 6.010
Dist::Zilla::Role::GitConfig 0 0.92
Dist::Zilla::Role::PluginBundle 0 6.010
Dist::Zilla::Role::VersionProvider 0 6.010
File::chdir 0 0.1010
File::Spec::Functions 0 3.62
File::Temp 0 0.2304
Git::Wrapper 0.021 0.047
IPC::Open3 0 1.18
IPC::System::Simple 0 1.25
List::Util 1.45 1.49
Module::Runtime 0 0.015
Moose 0 2.2006
Moose::Role 0 2.2006
Moose::Util::TypeConstraints 0 2.2006
MooseX::Has::Sugar 0 1.000006
MooseX::Types::Moose 0 0.50
MooseX::Types::Path::Tiny 0.010 0.012
namespace::autoclean 0.09 0.28
Path::Tiny 0.048 0.104
perl 5.010 5.022004
strict 0 1.09
String::Formatter 0 0.102084
Try::Tiny 0 0.28
version 0.80 0.9918
Version::Next 0 1.000
warnings 0 1.34
build_requires:
Module Need Have
---------------------------------- -------- --------
CPAN::Meta::Check 0.011 0.014
CPAN::Meta::Requirements 0 2.140
Devel::SimpleTrace 0 0.08
Dist::Zilla::File::InMemory 0 6.010
Dist::Zilla::Plugin::Config::Git 0 0.92
Dist::Zilla::Role::Releaser 0 6.010
Dist::Zilla::Tester 0 6.010
Encode 0 2.93
Exporter 0 5.72
ExtUtils::MakeMaker 0 7.30
File::Copy 0 2.30
File::Copy::Recursive 0 0.38
File::Path 2.07 2.15
File::pushd 0 1.014
File::Spec 0 3.62
File::Which 0 1.22
lib 0 0.63
Log::Dispatchouli 0 2.015
Test::DZil 0 6.010
Test::Fatal 0 0.014
Test::More 0.88 1.302120
utf8 0 1.17
configure_requires:
Module Need Have
---------------------------------- -------- --------
ExtUtils::MakeMaker 0 7.30
perl 5.010 5.022004
Text::ParseWords 0 3.30
version 0 0.9918
opt_build_requires:
Module Need Have
---------------------------------- -------- --------
CPAN::Meta 2.120900 2.150010
------------------------------
ENVIRONMENT AND OTHER CONTEXT
------------------------------
Environment variables:
LANG = C
PATH = /usr/local/bin:/usr/bin:/bin:/usr/local/sbin:/usr/sbin:/sbin:/home/cpansand/bin/linux-gnu:/home/cpansand/bin/sh:/home/cpansand/bin:/usr/games:/home/cpansand/devel:/home/eserte/src/srezic-misc/scripts
PERL5LIB =
PERL5OPT =
PERL5_CPANPLUS_IS_RUNNING = 4536
PERL5_CPAN_IS_RUNNING = 4536
PERL5_CPAN_IS_RUNNING_IN_RECURSION = 4415,4536
PERLDOC = -MPod::Perldoc::ToTextOverstrike
PERL_BATCH = yes
PERL_CANARY_STABILITY_NOPROMPT = 1
PERL_CPAN_REPORTER_CONFIG = /var/tmp/cpansmoker-1023/2017121000/cpanreporter_000_config.ini
PERL_EXTUTILS_AUTOINSTALL = --defaultdeps
PERL_USE_UNSAFE_INC = 1
SHELL = /usr/bin/zsh
TERM = screen
TMPDIR = /var/tmp/cpansmoker-1023/2017121000
Perl special variables (and OS-specific diagnostics, for MSWin32):
$^X = /opt/perl-5.22.4/bin/perl5.22.4
$UID/$EUID = 1023 / 1023
$GID = 1023 1023
$EGID = 1023 1023
Perl module toolchain versions installed:
Module Have
------------------- --------
CPAN 2.16
CPAN::Meta 2.150010
Cwd 3.62
ExtUtils::CBuilder 0.280230
ExtUtils::Command 7.30
ExtUtils::Install 2.06
ExtUtils::MakeMaker 7.30
ExtUtils::Manifest 1.70
ExtUtils::ParseXS 3.35
File::Spec 3.62
JSON 2.96
JSON::PP 2.95
Module::Build 0.4224
Module::Signature 0.81
Parse::CPAN::Meta 2.150010
Test::Harness 3.39
Test::More 1.302120
YAML 1.24
YAML::Syck 1.30
version 0.9918
--
Summary of my perl5 (revision 5 version 22 subversion 4) configuration:
Platform:
osname=linux, osvers=4.9.0-3-amd64, archname=x86_64-linux
uname='linux debian9 4.9.0-3-amd64 #1 smp debian 4.9.30-2+deb9u2 (2017-06-26) x86_64 gnulinux '
config_args='-ds -e -Dprefix=/opt/perl-5.22.4 -Dcf_email=srezic@cpan.org'
hint=recommended, useposix=true, d_sigaction=define
useithreads=undef, usemultiplicity=undef
use64bitint=define, use64bitall=define, uselongdouble=undef
usemymalloc=n, bincompat5005=undef
Compiler:
cc='cc', ccflags ='-fwrapv -fno-strict-aliasing -pipe -fstack-protector-strong -I/usr/local/include -D_LARGEFILE_SOURCE -D_FILE_OFFSET_BITS=64',
optimize='-O2',
cppflags='-fwrapv -fno-strict-aliasing -pipe -fstack-protector-strong -I/usr/local/include'
ccversion='', gccversion='6.3.0 20170516', gccosandvers=''
intsize=4, longsize=8, ptrsize=8, doublesize=8, byteorder=12345678, doublekind=3
d_longlong=define, longlongsize=8, d_longdbl=define, longdblsize=16, longdblkind=3
ivtype='long', ivsize=8, nvtype='double', nvsize=8, Off_t='off_t', lseeksize=8
alignbytes=8, prototype=define
Linker and Libraries:
ld='cc', ldflags =' -fstack-protector-strong -L/usr/local/lib'
libpth=/usr/local/lib /usr/lib/gcc/x86_64-linux-gnu/6/include-fixed /usr/include/x86_64-linux-gnu /usr/lib /lib/x86_64-linux-gnu /lib/../lib /usr/lib/x86_64-linux-gnu /usr/lib/../lib /lib
libs=-lpthread -lnsl -lgdbm -ldb -ldl -lm -lcrypt -lutil -lc -lgdbm_compat
perllibs=-lpthread -lnsl -ldl -lm -lcrypt -lutil -lc
libc=libc-2.24.so, so=so, useshrplib=false, libperl=libperl.a
gnulibc_version='2.24'
Dynamic Linking:
dlsrc=dl_dlopen.xs, dlext=so, d_dlsymun=undef, ccdlflags='-Wl,-E'
cccdlflags='-fPIC', lddlflags='-shared -O2 -L/usr/local/lib -fstack-protector-strong'
Characteristics of this binary (from libperl):
Compile-time options: HAS_TIMES PERLIO_LAYERS PERL_DONT_CREATE_GVSV
PERL_HASH_FUNC_ONE_AT_A_TIME_HARD PERL_MALLOC_WRAP
PERL_NEW_COPY_ON_WRITE PERL_PRESERVE_IVUV
USE_64_BIT_ALL USE_64_BIT_INT USE_LARGE_FILES
USE_LOCALE USE_LOCALE_COLLATE USE_LOCALE_CTYPE
USE_LOCALE_NUMERIC USE_LOCALE_TIME USE_PERLIO
USE_PERL_ATOF
Locally applied patches:
Devel::PatchPerl 1.48
Built under linux
Compiled at Jul 16 2017 05:24:52
%ENV:
PERL5LIB=""
PERL5OPT=""
PERL5_CPANPLUS_IS_RUNNING="4536"
PERL5_CPAN_IS_RUNNING="4536"
PERL5_CPAN_IS_RUNNING_IN_RECURSION="4415,4536"
PERLDOC="-MPod::Perldoc::ToTextOverstrike"
PERL_BATCH="yes"
PERL_CANARY_STABILITY_NOPROMPT="1"
PERL_CPAN_REPORTER_CONFIG="/var/tmp/cpansmoker-1023/2017121000/cpanreporter_000_config.ini"
PERL_EXTUTILS_AUTOINSTALL="--defaultdeps"
PERL_USE_UNSAFE_INC="1"
@INC:
/opt/perl-5.22.4/lib/site_perl/5.22.4/x86_64-linux
/opt/perl-5.22.4/lib/site_perl/5.22.4
/opt/perl-5.22.4/lib/5.22.4/x86_64-linux
/opt/perl-5.22.4/lib/5.22.4
.