LaTeXML v0.8.6_3 Perl 5 v5.18.0 amd64-freebsd

Status
Pass
From
Chris Williams (BINGOS)
Dist
LaTeXML v0.8.6_3
Platform
Perl 5 v5.18.0 amd64-freebsd
Date
2021-10-03 23:46:46
ID
2bc59b26-24a4-11ec-bc66-57723b537541
This distribution has been tested as part of the CPAN Testers
project, supporting the Perl programming language.  See
http://wiki.cpantesters.org/ for more information or email
questions to cpan-testers-discuss@perl.org


--

Dear BRMILLER,

This is a computer-generated error report created automatically by
CPANPLUS, version 0.9912. Testers personal comments may appear
at the end of this report.


Thank you for uploading your work to CPAN.  Congratulations!
All tests were successful.

TEST RESULTS:

Below is the error stack from stage 'make test':

PERL_DL_NONLAZY=1 "/usr/home/cpan/pit/bare/perl-5.18.0/bin/perl" "-MExtUtils::Command::MM" "-MTest::Harness" "-e" "undef *Test::Harness::Switches; test_harness(0, 'blib/lib', 'blib/arch')" t/*.t
# 
#   LaTeXML version 0.8.6_3
#   XML::LibXML 2.0207; libxml2 20912
#   XML::LibXSLT 1.99; libxslt 10134
#   No TeX
t/000_test_context.t ...... ok
t/002_unit_findfile.t ..... ok
t/00_unittest.t ........... ok
t/05_tokenize.t ........... ok
# Skip: Missing requirement etoolbox.sty for t/expansion/etoolbox
# Skip: Missing requirement ifthen.sty for t/expansion/ifthen
# Skip: Missing requirement t1enc.def for t/expansion/meaning
# Skip: Missing requirement textcase.sty for t/expansion/textcase
t/10_expansion.t .......... ok
t/12_grouping.t ........... ok
t/170_grammar_coverage.t .. skipped: Only checked in continuous integration.
t/20_digestion.t .......... ok
t/22_fonts.t .............. ok
# Skip: Missing requirement ansinew.def for t/encoding/ansinew
# Skip: Missing requirement applemac.def for t/encoding/applemac
# Skip: Missing requirement cp1250.def for t/encoding/cp1250
# Skip: Missing requirement cp1252.def for t/encoding/cp1252
# Skip: Missing requirement cp437.def for t/encoding/cp437
# Skip: Missing requirement cp437de.def for t/encoding/cp437de
# Skip: Missing requirement cp850.def for t/encoding/cp850
# Skip: Missing requirement cp852.def for t/encoding/cp852
# Skip: Missing requirement cp858.def for t/encoding/cp858
# Skip: Missing requirement cp865.def for t/encoding/cp865
# Skip: Missing requirement decmulti.def for t/encoding/decmulti
# Skip: Missing requirement latin1.def for t/encoding/latin1
# Skip: Missing requirement latin10.def for t/encoding/latin10
# Skip: Missing requirement latin2.def for t/encoding/latin2
# Skip: Missing requirement latin3.def for t/encoding/latin3
# Skip: Missing requirement latin4.def for t/encoding/latin4
# Skip: Missing requirement latin5.def for t/encoding/latin5
# Skip: Missing requirement latin9.def for t/encoding/latin9
# Skip: Missing requirement ly1enc.def for t/encoding/ly1
# Skip: Missing requirement ot1enc.def for t/encoding/ot1
# Skip: Missing requirement t1enc.def for t/encoding/t1
# Skip: Missing requirement t2aenc.def for t/encoding/t2a
# Skip: Missing requirement t2benc.def for t/encoding/t2b
# Skip: Missing requirement t2cenc.def for t/encoding/t2c
# Skip: Missing requirement ts1enc.def for t/encoding/ts1
t/30_encoding.t ........... ok
# Skip: Missing requirement xkvview.sty for t/keyval/xkeyvalview
t/32_keyval.t ............. ok
t/33_keyval_options.t ..... ok
t/40_math.t ............... ok
# Skip: Missing requirement amsart.cls for t/structure/amsarticle
# Skip: Missing requirement csquotes.sty for t/structure/csquotes
# Skip: Missing requirement glossaries.sty for t/structure/glossary
t/50_structure.t .......... ok
t/52_namespace.t .......... ok
# Skip: Missing requirement algorithm.sty for t/alignment/algx
# Skip: Missing requirement makecell.sty for t/alignment/cells
# Skip: Missing requirement listings.cfg for t/alignment/listing
t/53_alignment.t .......... ok
# Skip: Missing requirement ntheorem.std for t/theorem/ntheorem
t/55_theorem.t ............ ok
t/56_ams.t ................ ok
# Skip: Missing requirement dvipsnam.def for t/graphics/colors
# Skip: Missing requirement dvipsnam.def for t/graphics/xcolors
t/65_graphics.t ........... ok
t/70_parse.t .............. ok
# Skip: Missing requirement cleveref.sty for t/complex/cleveref_minimal
# Skip: Missing requirement siunitx.sty for t/complex/si
t/80_complex.t ............ ok
# Skip: Missing requirement babel.sty for t/babel/csquotes
# Skip: Missing requirement babel.sty for t/babel/french
# Skip: Missing requirement babel.sty for t/babel/german
# Skip: Missing requirement babel.sty for t/babel/greek
# Skip: Missing requirement babel.sty for t/babel/numprints
# Skip: Missing requirement babel.sty for t/babel/page545
t/81_babel.t .............. ok
t/82_moderncv.t ........... ok
# Skip: Missing requirement expl3.sty for t/expl3/tilde_tricks
# Skip: Missing requirement expl3.sty for t/expl3/xparse
t/83_expl3.t .............. ok
t/90_latexmlpost.t ........ ok
t/91_latexmlc_api.t ....... ok
# Skip: Missing requirement dvipsnam.def for t/daemon/profiles/fragment
# Skip: Missing requirement dvipsnam.def for t/daemon/profiles/math
t/92_profiles.t ........... ok
t/931_epub.t .............. ok
# Skip: Missing requirement amsart.cls for t/daemon/formats/jats
# Skip: Missing requirement amsart.cls for t/daemon/formats/tei
t/93_formats.t ............ ok
t/94_runtimes.t ........... ok
t/95_complex_config.t ..... ok
t/96_fatal.t .............. ok
t/97_manifest.t ........... skipped: Only checked in continuous integration.
All tests successful.
Files=33, Tests=422, 1243 wallclock secs ( 0.50 usr  0.15 sys + 1208.01 cusr 21.98 csys = 1230.64 CPU)
Result: PASS


PREREQUISITES:

Here is a list of prerequisites you specified and versions we
managed to load:

	  Module Name                        Have     Want
	  Archive::Zip                       1.68        0
	  DB_File                           1.827        0
	  ExtUtils::MakeMaker                7.62        0
	  File::Which                        1.27        0
	  Getopt::Long                       2.39     2.37
	  IO::Handle                         1.34        0
	  IO::String                         1.08        0
	  Image::Size                       3.300        0
	  JSON::XS                           4.03        0
	  LWP                                6.57        0
	  MIME::Base64                       3.13        0
	  Parse::RecDescent              1.967015        0
	  Pod::Parser                        1.60        0
	  Test::More                     1.302187        0
	  Text::Unidecode                    1.30        0
	  Time::HiRes                      1.9725        0
	  URI                                5.09        0
	  XML::LibXML                      2.0207     1.61
	  XML::LibXSLT                       1.99     1.58
	  version                          0.9929        0

Perl module toolchain versions installed:
	Module Name                        Have
	CPANPLUS                         0.9912
	CPANPLUS::Dist::Build              0.90
	Cwd                                3.75
	ExtUtils::CBuilder             0.280236
	ExtUtils::Command                  7.62
	ExtUtils::Install                  2.20
	ExtUtils::MakeMaker                7.62
	ExtUtils::Manifest                 1.73
	ExtUtils::ParseXS                  3.35
	File::Spec                         3.75
	Module::Build                    0.4231
	Pod::Parser                        1.60
	Pod::Simple                        3.28
	Test2                          1.302187
	Test::Harness                      3.42
	Test::More                     1.302187
	version                          0.9929

******************************** NOTE ********************************
The comments above are created mechanically, possibly without manual
checking by the sender.  As there are many people performing automatic
tests on each upload to CPAN, it is likely that you will receive
identical messages about the same problem.

If you believe that the message is mistaken, please reply to the first
one with correction and/or additional informations, and do not take
it personally.  We appreciate your patience. :)
**********************************************************************

Additional comments:


This report was machine-generated by CPANPLUS::Dist::YACSmoke 1.08.
Powered by minismokebox version 0.68

CPANPLUS is prefering Build.PL

------------------------------
ENVIRONMENT AND OTHER CONTEXT
------------------------------

Environment variables:

    AUTOMATED_TESTING = 1
    LANG = C.UTF-8
    NONINTERACTIVE_TESTING = 1
    PATH = /usr/home/cpan/pit/bare/conf/perl-5.18.0/.cpanplus/5.18.0/build/cuNNpd4g2l/LaTeXML-0.8.6_3/blib/script:/sbin:/bin:/usr/sbin:/usr/bin:/usr/local/sbin:/usr/local/bin:/home/cpan/bin
    PERL5LIB = /usr/home/cpan/pit/jail/sztuRh4a9B/lib/perl5:/usr/home/cpan/pit/bare/conf/perl-5.18.0/.cpanplus/5.18.0/build/cuNNpd4g2l/LaTeXML-0.8.6_3/blib/lib:/usr/home/cpan/pit/bare/conf/perl-5.18.0/.cpanplus/5.18.0/build/cuNNpd4g2l/LaTeXML-0.8.6_3/blib/arch
    PERL5_CPANPLUS_IS_RUNNING = 68795
    PERL5_CPANPLUS_IS_VERSION = 0.9912
    PERL5_MINISMOKEBOX = 0.68
    PERL5_YACSMOKE_BASE = /usr/home/cpan/pit/bare/conf/perl-5.18.0
    PERL_EXTUTILS_AUTOINSTALL = --defaultdeps
    PERL_LOCAL_LIB_ROOT = /usr/home/cpan/pit/jail/sztuRh4a9B
    PERL_MB_OPT = --install_base "/usr/home/cpan/pit/jail/sztuRh4a9B"
    PERL_MM_OPT = INSTALL_BASE=/usr/home/cpan/pit/jail/sztuRh4a9B
    PERL_MM_USE_DEFAULT = 1
    SHELL = /usr/local/bin/bash
    TERM = screen

Perl special variables (and OS-specific diagnostics, for MSWin32):

    Perl: $^X = /usr/home/cpan/pit/bare/perl-5.18.0/bin/perl
    UID:  $<  = 1002
    EUID: $>  = 1002
    GID:  $(  = 1002 1002
    EGID: $)  = 1002 1002


-------------------------------


--

Summary of my perl5 (revision 5 version 18 subversion 0) configuration:
   
  Platform:
    osname=freebsd, osvers=13.0-release, archname=amd64-freebsd
    uname='freebsd fever 13.0-release freebsd 13.0-release #0 releng13.0-n244733-ea31abc261f: fri apr 9 04:24:09 utc 2021 root@releng1.nyi.freebsd.org:usrobjusrsrcamd64.amd64sysgeneric amd64 '
    config_args='-des -Dprefix=/usr/home/cpan/pit/bare/perl-5.18.0'
    hint=recommended, useposix=true, d_sigaction=define
    useithreads=undef, usemultiplicity=undef
    useperlio=define, d_sfio=undef, uselargefiles=define, usesocks=undef
    use64bitint=define, use64bitall=define, uselongdouble=undef
    usemymalloc=n, bincompat5005=undef
  Compiler:
    cc='cc', ccflags ='-DHAS_FPSETMASK -DHAS_FLOATINGPOINT_H -fno-strict-aliasing -pipe -fstack-protector -I/usr/local/include',
    optimize='-O2',
    cppflags='-DHAS_FPSETMASK -DHAS_FLOATINGPOINT_H -fno-strict-aliasing -pipe -fstack-protector -I/usr/local/include'
    ccversion='', gccversion='FreeBSD Clang 11.0.1 (git@github.com:llvm/llvm-project.git llvmorg-11.0.1-0-g43ff75f2c3fe)', gccosandvers=''
    intsize=4, longsize=8, ptrsize=8, doublesize=8, byteorder=12345678
    d_longlong=define, longlongsize=8, d_longdbl=define, longdblsize=16
    ivtype='long', ivsize=8, nvtype='double', nvsize=8, Off_t='off_t', lseeksize=8
    alignbytes=8, prototype=define
  Linker and Libraries:
    ld='cc', ldflags ='-Wl,-E  -fstack-protector -L/usr/local/lib'
    libpth=/usr/lib /usr/local/lib
    libs=-lgdbm -ldl -lm -lcrypt -lutil -lc
    perllibs=-ldl -lm -lcrypt -lutil -lc
    libc=, so=so, useshrplib=false, libperl=libperl.a
    gnulibc_version=''
  Dynamic Linking:
    dlsrc=dl_dlopen.xs, dlext=so, d_dlsymun=undef, ccdlflags=' '
    cccdlflags='-DPIC -fPIC', lddlflags='-shared  -L/usr/local/lib -fstack-protector'


Characteristics of this binary (from libperl): 
  Compile-time options: HAS_TIMES PERLIO_LAYERS PERL_DONT_CREATE_GVSV
                        PERL_HASH_FUNC_ONE_AT_A_TIME_HARD PERL_MALLOC_WRAP
                        PERL_PRESERVE_IVUV PERL_SAWAMPERSAND USE_64_BIT_ALL
                        USE_64_BIT_INT USE_LARGE_FILES USE_LOCALE
                        USE_LOCALE_COLLATE USE_LOCALE_CTYPE
                        USE_LOCALE_NUMERIC USE_PERLIO USE_PERL_ATOF
  Locally applied patches:
	Devel::PatchPerl 2.08
  Built under freebsd
  Compiled at Apr 14 2021 19:39:18
  %ENV:
    PERL5LIB="/usr/home/cpan/pit/jail/sztuRh4a9B/lib/perl5:/usr/home/cpan/pit/bare/conf/perl-5.18.0/.cpanplus/5.18.0/build/cuNNpd4g2l/LaTeXML-0.8.6_3/blib/lib:/usr/home/cpan/pit/bare/conf/perl-5.18.0/.cpanplus/5.18.0/build/cuNNpd4g2l/LaTeXML-0.8.6_3/blib/arch"
    PERL5_CPANPLUS_IS_RUNNING="68795"
    PERL5_CPANPLUS_IS_VERSION="0.9912"
    PERL5_MINISMOKEBOX="0.68"
    PERL5_YACSMOKE_BASE="/usr/home/cpan/pit/bare/conf/perl-5.18.0"
    PERL_EXTUTILS_AUTOINSTALL="--defaultdeps"
    PERL_LOCAL_LIB_ROOT="/usr/home/cpan/pit/jail/sztuRh4a9B"
    PERL_MB_OPT="--install_base "/usr/home/cpan/pit/jail/sztuRh4a9B""
    PERL_MM_OPT="INSTALL_BASE=/usr/home/cpan/pit/jail/sztuRh4a9B"
    PERL_MM_USE_DEFAULT="1"
  @INC:
    /usr/home/cpan/pit/jail/sztuRh4a9B/lib/perl5/5.18.0/amd64-freebsd
    /usr/home/cpan/pit/jail/sztuRh4a9B/lib/perl5/5.18.0
    /usr/home/cpan/pit/jail/sztuRh4a9B/lib/perl5/amd64-freebsd
    /usr/home/cpan/pit/jail/sztuRh4a9B/lib/perl5
    /usr/home/cpan/pit/bare/conf/perl-5.18.0/.cpanplus/5.18.0/build/cuNNpd4g2l/LaTeXML-0.8.6_3/blib/lib
    /usr/home/cpan/pit/bare/conf/perl-5.18.0/.cpanplus/5.18.0/build/cuNNpd4g2l/LaTeXML-0.8.6_3/blib/arch
    /usr/home/cpan/pit/bare/perl-5.18.0/lib/site_perl/5.18.0/amd64-freebsd
    /usr/home/cpan/pit/bare/perl-5.18.0/lib/site_perl/5.18.0
    /usr/home/cpan/pit/bare/perl-5.18.0/lib/5.18.0/amd64-freebsd
    /usr/home/cpan/pit/bare/perl-5.18.0/lib/5.18.0
    .