SPVM-IO v0.214 Perl 5 v5.39.11 darwin-2level

Status
Pass
From
David Cantrell (DCANTRELL)
Dist
SPVM-IO v0.214
Platform
Perl 5 v5.39.11 darwin-2level
Date
2024-05-21T23:59:33
ID
2bbfc898-17ce-11ef-a3cb-a0602563e39a
This distribution has been tested as part of the CPAN Testers
project, supporting the Perl programming language.  See
http://wiki.cpantesters.org/ for more information or email
questions to cpan-testers-discuss@perl.org


--
Dear Yuki Kimoto,

This is a computer-generated report for SPVM-IO-0.214
on perl 5.39.11, created by CPAN-Reporter-1.2019.

Thank you for uploading your work to CPAN.  Congratulations!
All tests were successful.

Sections of this report:

    * Tester comments
    * Program output
    * Prerequisites
    * Environment and other context

------------------------------
TESTER COMMENTS
------------------------------

Additional comments from tester:

this report is from an automated smoke testing program
and was not reviewed by a human for accuracy

------------------------------
PROGRAM OUTPUT
------------------------------

Output from '/usr/bin/make test':

PERL_DL_NONLAZY=1 "/Users/cpantesting/cpantesting/perl-blead/bin/perl5.39.11" "-MExtUtils::Command::MM" "-MTest::Harness" "-e" "undef *Test::Harness::Switches; test_harness(0, 'blib/lib', 'blib/arch')" t/*.t
[2024-05-22 00:59:10.88374] [61798] [info] Listening at "http://*:52030"
[2024-05-22 00:59:10.93122] [61798] [trace] [MuCaDkU6uxsT] GET "/hello"
[2024-05-22 00:59:10.93255] [61798] [trace] [MuCaDkU6uxsT] 200 OK (0.001297s, 771.010/s)
t/01-01-Test-Tcp_and_Mojolicious.t ........... ok
ld: warning: ignoring duplicate libraries: '-lc++'
ld: warning: ignoring duplicate libraries: '-lc++'
[2024-05-22 00:59:20.30015] [62017] [info] Listening at "http://*:52041"
[2024-05-22 00:59:20.32473] [62017] [trace] [vYVxM2aMCCle] GET "/hello"
[2024-05-22 00:59:20.32619] [62017] [trace] [vYVxM2aMCCle] 200 OK (0.001418s, 705.219/s)
t/01-02-Test-Tcp_and_Mojolicious_and_SPVM.t .. ok
t/IO-File.t .................................. ok
t/IO-Select.t ................................ ok
[2024-05-22 00:59:25.13200] [62116] [info] Listening at "http://*:52051"
[2024-05-22 00:59:25.14912] [62116] [trace] [0aNUMI0ercC_] GET "/hello"
[2024-05-22 00:59:25.15020] [62116] [trace] [0aNUMI0ercC_] 200 OK (0.001031s, 969.932/s)
[2024-05-22 00:59:25.15610] [62116] [trace] [0J14ifNs6UTN] GET "/hello"
[2024-05-22 00:59:25.15711] [62116] [trace] [0J14ifNs6UTN] 200 OK (0.000992s, 1008.065/s)
[2024-05-22 00:59:25.16225] [62116] [trace] [M9pLJkiiPwXg] GET "/hello"
[2024-05-22 00:59:25.16320] [62116] [trace] [M9pLJkiiPwXg] 200 OK (0.000939s, 1064.963/s)
[2024-05-22 00:59:25.16980] [62116] [trace] [wQOXBvxzYbUD] GET "/hello"
[2024-05-22 00:59:25.17090] [62116] [trace] [wQOXBvxzYbUD] 200 OK (0.001074s, 931.099/s)
[2024-05-22 00:59:25.18017] [62116] [trace] [APTIrjeT2-7f] GET "/"
[2024-05-22 00:59:25.18201] [62116] [trace] [APTIrjeT2-7f] Template "not_found.development.html.ep" not found
[2024-05-22 00:59:25.18286] [62116] [trace] [APTIrjeT2-7f] Template "not_found.html.ep" not found
[2024-05-22 00:59:25.18362] [62116] [trace] [APTIrjeT2-7f] Rendering template "mojo/debug.html.ep"
[2024-05-22 00:59:25.22094] [62116] [trace] Your secret passphrase needs to be changed (see FAQ for more)
[2024-05-22 00:59:25.22830] [62116] [trace] [APTIrjeT2-7f] 404 Not Found (0.048103s, 20.789/s)
[2024-05-22 00:59:25.23444] [62116] [trace] [otVH6610BtRk] GET "/"
[2024-05-22 00:59:25.23570] [62116] [trace] [otVH6610BtRk] Template "not_found.development.html.ep" not found
[2024-05-22 00:59:25.23646] [62116] [trace] [otVH6610BtRk] Template "not_found.html.ep" not found
[2024-05-22 00:59:25.23707] [62116] [trace] [otVH6610BtRk] Rendering cached template "mojo/debug.html.ep"
[2024-05-22 00:59:25.24621] [62116] [trace] [otVH6610BtRk] 404 Not Found (0.011736s, 85.208/s)
t/IO-Socket-INET.t ........................... ok
[2024-05-22 00:59:26.79541] [62164] [info] Listening at "http://[::1]:52068"
[2024-05-22 00:59:26.81540] [62164] [trace] [UE5HRMTOU1on] GET "/hello"
[2024-05-22 00:59:26.81673] [62164] [trace] [UE5HRMTOU1on] 200 OK (0.001285s, 778.210/s)
[2024-05-22 00:59:26.82224] [62164] [trace] [zWqAC6WpQqaE] GET "/hello"
[2024-05-22 00:59:26.82321] [62164] [trace] [zWqAC6WpQqaE] 200 OK (0.000953s, 1049.318/s)
[2024-05-22 00:59:26.82857] [62164] [trace] [1nPv7rS-t3Gq] GET "/hello"
[2024-05-22 00:59:26.82956] [62164] [trace] [1nPv7rS-t3Gq] 200 OK (0.000954s, 1048.218/s)
[2024-05-22 00:59:26.83597] [62164] [trace] [LEoC-sHFXHm2] GET "/hello"
[2024-05-22 00:59:26.83700] [62164] [trace] [LEoC-sHFXHm2] 200 OK (0.001006s, 994.036/s)
[2024-05-22 00:59:26.84638] [62164] [trace] [wmQ7t4jLMdLZ] GET "/"
[2024-05-22 00:59:26.84836] [62164] [trace] [wmQ7t4jLMdLZ] Template "not_found.development.html.ep" not found
[2024-05-22 00:59:26.84906] [62164] [trace] [wmQ7t4jLMdLZ] Template "not_found.html.ep" not found
[2024-05-22 00:59:26.84969] [62164] [trace] [wmQ7t4jLMdLZ] Rendering template "mojo/debug.html.ep"
[2024-05-22 00:59:26.88913] [62164] [trace] Your secret passphrase needs to be changed (see FAQ for more)
[2024-05-22 00:59:26.89662] [62164] [trace] [wmQ7t4jLMdLZ] 404 Not Found (0.050213s, 19.915/s)
[2024-05-22 00:59:26.90323] [62164] [trace] [fVP7pYaG6PoP] GET "/"
[2024-05-22 00:59:26.90443] [62164] [trace] [fVP7pYaG6PoP] Template "not_found.development.html.ep" not found
[2024-05-22 00:59:26.90522] [62164] [trace] [fVP7pYaG6PoP] Template "not_found.html.ep" not found
[2024-05-22 00:59:26.90579] [62164] [trace] [fVP7pYaG6PoP] Rendering cached template "mojo/debug.html.ep"
[2024-05-22 00:59:26.91531] [62164] [trace] [fVP7pYaG6PoP] 404 Not Found (0.012051s, 82.981/s)
t/IO-Socket-INET6.t .......................... ok
[2024-05-22 00:59:28.43165] [62210] [info] Listening at "http://*:52084"
[2024-05-22 00:59:28.44071] [62210] [trace] [TWvJxNIEsVV6] GET "/hello"
[2024-05-22 00:59:28.44218] [62210] [trace] [TWvJxNIEsVV6] 200 OK (0.001425s, 701.754/s)
[2024-05-22 00:59:28.44792] [62210] [trace] [HJC7FUtgnJhe] GET "/hello"
[2024-05-22 00:59:28.44887] [62210] [trace] [HJC7FUtgnJhe] 200 OK (0.000932s, 1072.961/s)
[2024-05-22 00:59:28.45371] [62210] [trace] [ZGSZBMGoM174] GET "/hello"
[2024-05-22 00:59:28.45454] [62210] [trace] [ZGSZBMGoM174] 200 OK (0.000814s, 1228.501/s)
[2024-05-22 00:59:28.46098] [62210] [trace] [Qw7F5RSTw0fv] GET "/hello"
[2024-05-22 00:59:28.46194] [62210] [trace] [Qw7F5RSTw0fv] 200 OK (0.000936s, 1068.376/s)
[2024-05-22 00:59:28.46990] [62210] [trace] [h0wDePCv4X6R] GET "/"
[2024-05-22 00:59:28.47198] [62210] [trace] [h0wDePCv4X6R] Template "not_found.development.html.ep" not found
[2024-05-22 00:59:28.47273] [62210] [trace] [h0wDePCv4X6R] Template "not_found.html.ep" not found
[2024-05-22 00:59:28.47340] [62210] [trace] [h0wDePCv4X6R] Rendering template "mojo/debug.html.ep"
[2024-05-22 00:59:28.50945] [62210] [trace] Your secret passphrase needs to be changed (see FAQ for more)
[2024-05-22 00:59:28.51595] [62210] [trace] [h0wDePCv4X6R] 404 Not Found (0.046031s, 21.724/s)
[2024-05-22 00:59:28.52284] [62210] [trace] [PUg8jhEtlSRH] GET "/"
[2024-05-22 00:59:28.52408] [62210] [trace] [PUg8jhEtlSRH] Template "not_found.development.html.ep" not found
[2024-05-22 00:59:28.52478] [62210] [trace] [PUg8jhEtlSRH] Template "not_found.html.ep" not found
[2024-05-22 00:59:28.52539] [62210] [trace] [PUg8jhEtlSRH] Rendering cached template "mojo/debug.html.ep"
[2024-05-22 00:59:28.53481] [62210] [trace] [PUg8jhEtlSRH] 404 Not Found (0.011951s, 83.675/s)
t/IO-Socket-IP.t ............................. ok
[2024-05-22 00:59:30.07516] [62254] [info] Listening at "http://[::1]:52101"
[2024-05-22 00:59:30.21747] [62254] [trace] [Tka9_H6EYYVQ] GET "/hello"
[2024-05-22 00:59:30.21903] [62254] [trace] [Tka9_H6EYYVQ] 200 OK (0.001512s, 661.376/s)
[2024-05-22 00:59:30.22653] [62254] [trace] [WYv-qdrUUD7R] GET "/hello"
[2024-05-22 00:59:30.22755] [62254] [trace] [WYv-qdrUUD7R] 200 OK (0.001s, 1000.000/s)
[2024-05-22 00:59:30.23442] [62254] [trace] [0s__tr4EQ0l4] GET "/hello"
[2024-05-22 00:59:30.23543] [62254] [trace] [0s__tr4EQ0l4] 200 OK (0.000994s, 1006.036/s)
[2024-05-22 00:59:30.24267] [62254] [trace] [ybkQ9NLUaEni] GET "/hello"
[2024-05-22 00:59:30.24363] [62254] [trace] [ybkQ9NLUaEni] 200 OK (0.000943s, 1060.445/s)
[2024-05-22 00:59:30.25259] [62254] [trace] [_RwQfMRt5E6g] GET "/"
[2024-05-22 00:59:30.25452] [62254] [trace] [_RwQfMRt5E6g] Template "not_found.development.html.ep" not found
[2024-05-22 00:59:30.25524] [62254] [trace] [_RwQfMRt5E6g] Template "not_found.html.ep" not found
[2024-05-22 00:59:30.25590] [62254] [trace] [_RwQfMRt5E6g] Rendering template "mojo/debug.html.ep"
[2024-05-22 00:59:30.29662] [62254] [trace] Your secret passphrase needs to be changed (see FAQ for more)
[2024-05-22 00:59:30.30426] [62254] [trace] [_RwQfMRt5E6g] 404 Not Found (0.051651s, 19.361/s)
[2024-05-22 00:59:30.31264] [62254] [trace] [R3iIc92Hl_dD] GET "/"
[2024-05-22 00:59:30.31371] [62254] [trace] [R3iIc92Hl_dD] Template "not_found.development.html.ep" not found
[2024-05-22 00:59:30.31436] [62254] [trace] [R3iIc92Hl_dD] Template "not_found.html.ep" not found
[2024-05-22 00:59:30.31490] [62254] [trace] [R3iIc92Hl_dD] Rendering cached template "mojo/debug.html.ep"
[2024-05-22 00:59:30.32402] [62254] [trace] [R3iIc92Hl_dD] 404 Not Found (0.01136s, 88.028/s)
t/IO-Socket-IP_IPv6.t ........................ ok
t/IO.t ....................................... ok
All tests successful.
Files=9, Tests=52, 21 wallclock secs ( 0.06 usr  0.04 sys + 11.70 cusr  3.40 csys = 15.20 CPU)
Result: PASS

------------------------------
PREREQUISITES
------------------------------

Prerequisite modules loaded:

requires:

    Module              Need     Have    
    ------------------- -------- --------
    SPVM                0.989040 0.990006
    SPVM::Go            0.005    0.007002
    SPVM::Math          0.11     1.001   
    SPVM::Sys           0.510    0.514001

build_requires:

    Module              Need     Have    
    ------------------- -------- --------
    ExtUtils::MakeMaker 0        7.70    
    IO                  1.55     1.55    
    Mojolicious         9.36     9.37    
    Test::TCP           2.22     2.22    

configure_requires:

    Module              Need     Have    
    ------------------- -------- --------
    SPVM                0.989040 0.990006


------------------------------
ENVIRONMENT AND OTHER CONTEXT
------------------------------

Environment variables:

    AUTOMATED_TESTING = 1
    NONINTERACTIVE_TESTING = 1
    PATH = /Users/cpantesting/perl5/perlbrew/bin:/Users/cpantesting/perl5/perlbrew/perls/perl-5.32.0/bin:/usr/local/bin:/System/Cryptexes/App/usr/bin:/usr/bin:/bin:/usr/sbin:/sbin:/var/run/com.apple.security.cryptexd/codex.system/bootstrap/usr/local/bin:/var/run/com.apple.security.cryptexd/codex.system/bootstrap/usr/bin:/var/run/com.apple.security.cryptexd/codex.system/bootstrap/usr/appleinternal/bin:/Library/Apple/usr/bin:/Users/cpantesting/.cargo/bin
    PERL = blead
    PERL5LIB = 
    PERL5OPT = 
    PERL5_CPANPLUS_IS_RUNNING = 14213
    PERL5_CPAN_IS_RUNNING = 14213
    PERLBREW_HOME = /Users/cpantesting/.perlbrew
    PERLBREW_MANPATH = /Users/cpantesting/perl5/perlbrew/perls/perl-5.32.0/man
    PERLBREW_PATH = /Users/cpantesting/perl5/perlbrew/bin:/Users/cpantesting/perl5/perlbrew/perls/perl-5.32.0/bin
    PERLBREW_PERL = perl-5.32.0
    PERLBREW_ROOT = /Users/cpantesting/perl5/perlbrew
    PERLBREW_SHELLRC_VERSION = 0.94
    PERLBREW_VERSION = 0.94
    PERLVER = blead
    PERL_INLINE_DIRECTORY = /Users/cpantesting/.Inline-blead
    PERL_MM_USE_DEFAULT = 1
    PERL_USE_UNSAFE_INC = 0
    SHELL = /bin/bash
    TERM = screen

Perl special variables (and OS-specific diagnostics, for MSWin32):

    $^X = /Users/cpantesting/cpantesting/perl-blead/bin/perl5.39.11
    $UID/$EUID = 503 / 503
    $GID = 20 20 12 61 703 702 701 100
    $EGID = 20 20 12 61 703 702 701 100

Perl module toolchain versions installed:

    Module              Have    
    ------------------- --------
    CPAN                2.36    
    CPAN::Meta          2.150010
    Cwd                 3.90    
    ExtUtils::CBuilder  0.280240
    ExtUtils::Command   7.70    
    ExtUtils::Install   2.22    
    ExtUtils::MakeMaker 7.70    
    ExtUtils::Manifest  1.75    
    ExtUtils::ParseXS   3.51    
    File::Spec          3.90    
    JSON                4.10    
    JSON::PP            4.16    
    Module::Build       0.4234  
    Module::Signature   n/a     
    Parse::CPAN::Meta   2.150010
    Test2               1.302199
    Test::Harness       3.48    
    Test::More          1.302199
    YAML                1.31    
    YAML::Syck          n/a     
    version             0.9930  


--

Summary of my perl5 (revision 5 version 39 subversion 11) configuration:
  Commit id: e3f226d5c6ed541239e77ee339cd04d121da4411
  Platform:
    osname=darwin
    osvers=23.5.0
    archname=darwin-2level
    uname='darwin harrow.local 23.5.0 darwin kernel version 23.5.0: wed may 1 20:09:52 pdt 2024; root:xnu-10063.121.3~5release_x86_64 x86_64 '
    config_args='-de -Dprefix=/Users/cpantesting/cpantesting/perl-blead -Dusedevel'
    hint=recommended
    useposix=true
    d_sigaction=define
    useithreads=undef
    usemultiplicity=undef
    use64bitint=define
    use64bitall=define
    uselongdouble=undef
    usemymalloc=n
    default_inc_excludes_dot=define
  Compiler:
    cc='cc'
    ccflags ='-fno-common -DPERL_DARWIN -mmacosx-version-min=14.5 -DNO_THREAD_SAFE_QUERYLOCALE -DNO_POSIX_2008_LOCALE -fno-strict-aliasing -pipe -fstack-protector-strong -I/usr/local/include'
    optimize='-O3'
    cppflags='-fno-common -DPERL_DARWIN -mmacosx-version-min=14.5 -DNO_THREAD_SAFE_QUERYLOCALE -DNO_POSIX_2008_LOCALE -fno-strict-aliasing -pipe -fstack-protector-strong -I/usr/local/include'
    ccversion=''
    gccversion='Apple LLVM 15.0.0 (clang-1500.3.9.4)'
    gccosandvers=''
    intsize=4
    longsize=8
    ptrsize=8
    doublesize=8
    byteorder=12345678
    doublekind=3
    d_longlong=define
    longlongsize=8
    d_longdbl=define
    longdblsize=16
    longdblkind=3
    ivtype='long'
    ivsize=8
    nvtype='double'
    nvsize=8
    Off_t='off_t'
    lseeksize=8
    alignbytes=8
    prototype=define
  Linker and Libraries:
    ld='cc'
    ldflags =' -mmacosx-version-min=14.5 -fstack-protector-strong -L/usr/local/lib'
    libpth=/usr/local/lib /Applications/Xcode.app/Contents/Developer/Toolchains/XcodeDefault.xctoolchain/usr/lib/clang/15.0.0/lib /Applications/Xcode.app/Contents/Developer/Platforms/MacOSX.platform/Developer/SDKs/MacOSX.sdk/usr/lib /Applications/Xcode.app/Contents/Developer/Toolchains/XcodeDefault.xctoolchain/usr/lib /usr/lib
    libs=-lgdbm
    perllibs=
    libc=
    so=dylib
    useshrplib=false
    libperl=libperl.a
    gnulibc_version=''
  Dynamic Linking:
    dlsrc=dl_dlopen.xs
    dlext=bundle
    d_dlsymun=undef
    ccdlflags=' '
    cccdlflags=' '
    lddlflags=' -mmacosx-version-min=14.5 -bundle -undefined dynamic_lookup -L/usr/local/lib -fstack-protector-strong'


Characteristics of this binary (from libperl): 
  Compile-time options:
    HAS_LONG_DOUBLE
    HAS_STRTOLD
    HAS_TIMES
    PERLIO_LAYERS
    PERL_COPY_ON_WRITE
    PERL_DONT_CREATE_GVSV
    PERL_HASH_FUNC_SIPHASH13
    PERL_HASH_USE_SBOX32
    PERL_MALLOC_WRAP
    PERL_OP_PARENT
    PERL_PRESERVE_IVUV
    PERL_USE_DEVEL
    PERL_USE_SAFE_PUTENV
    USE_64_BIT_ALL
    USE_64_BIT_INT
    USE_LARGE_FILES
    USE_LOCALE
    USE_LOCALE_COLLATE
    USE_LOCALE_CTYPE
    USE_LOCALE_NUMERIC
    USE_LOCALE_TIME
    USE_PERLIO
    USE_PERL_ATOF
  Built under darwin
  Compiled at May 17 2024 01:32:36
  %ENV:
    PERL="blead"
    PERL5LIB=""
    PERL5OPT=""
    PERL5_CPANPLUS_IS_RUNNING="14213"
    PERL5_CPAN_IS_RUNNING="14213"
    PERLBREW_HOME="/Users/cpantesting/.perlbrew"
    PERLBREW_MANPATH="/Users/cpantesting/perl5/perlbrew/perls/perl-5.32.0/man"
    PERLBREW_PATH="/Users/cpantesting/perl5/perlbrew/bin:/Users/cpantesting/perl5/perlbrew/perls/perl-5.32.0/bin"
    PERLBREW_PERL="perl-5.32.0"
    PERLBREW_ROOT="/Users/cpantesting/perl5/perlbrew"
    PERLBREW_SHELLRC_VERSION="0.94"
    PERLBREW_VERSION="0.94"
    PERLVER="blead"
    PERL_INLINE_DIRECTORY="/Users/cpantesting/.Inline-blead"
    PERL_MM_USE_DEFAULT="1"
    PERL_USE_UNSAFE_INC="0"
  @INC:
    /Users/cpantesting/cpantesting/perl-blead/lib/site_perl/5.39.11/darwin-2level
    /Users/cpantesting/cpantesting/perl-blead/lib/site_perl/5.39.11
    /Users/cpantesting/cpantesting/perl-blead/lib/5.39.11/darwin-2level
    /Users/cpantesting/cpantesting/perl-blead/lib/5.39.11