PathTools v3.75 Perl 5 v5.8.3 OpenBSD.amd64-openbsd

Status
Pass
From
Nigel Horne
Dist
PathTools v3.75
Platform
Perl 5 v5.8.3 OpenBSD.amd64-openbsd
Date
2019-03-21 20:59:08
ID
2b6d5d7a-4c1c-11e9-bf31-80c71e9d5857
This distribution has been tested as part of the CPAN Testers
project, supporting the Perl programming language.  See
http://wiki.cpantesters.org/ for more information or email
questions to cpan-testers-discuss@perl.org


--
Dear Sawyer X,

This is a computer-generated report for PathTools-3.75
on perl 5.8.3, created by CPAN-Reporter-1.2018.

Thank you for uploading your work to CPAN.  Congratulations!
All tests were successful.

Sections of this report:

    * Tester comments
    * Program output
    * Prerequisites
    * Environment and other context

------------------------------
TESTER COMMENTS
------------------------------

Additional comments from tester:

none provided

------------------------------
PROGRAM OUTPUT
------------------------------

Output from '/usr/bin/make test':

"/home/njh/perl5/perlbrew/perls/perl-5.8.3/bin/perl" -MExtUtils::Command::MM -e 'cp_nonempty' -- Cwd.bs blib/arch/auto/Cwd/Cwd.bs 644
PERL_DL_NONLAZY=1 "/home/njh/perl5/perlbrew/perls/perl-5.8.3/bin/perl" "-MExtUtils::Command::MM" "-MTest::Harness" "-e" "undef *Test::Harness::Switches; test_harness(0, 'blib/lib', 'blib/arch')" t/*.t
perl:/home/njh/perl5/perlbrew/perls/perl-5.8.3/lib/5.8.3/OpenBSD.amd64-openbsd/auto/Cwd/Cwd.so: undefined symbol 'croak_xs_usage'
perl:/home/njh/perl5/perlbrew/perls/perl-5.8.3/lib/5.8.3/OpenBSD.amd64-openbsd/auto/Cwd/Cwd.so: undefined symbol 'croak_xs_usage'
t/crossplatform.t .. ok
t/abs2rel.t ........ ok
t/cwd.t ............ ok
cannot remove path when cwd is /tmp/8Y454Skdqi for /tmp/8Y454Skdqi:  at /home/njh/perl5/perlbrew/perls/perl-5.8.3/lib/5.8.3/File/Temp.pm line 902.
t/cwd_enoent.t ..... ok
t/Functions.t ...... ok
t/Spec-taint.t ..... ok
t/rel2abs2rel.t .... ok
t/taint.t .......... ok
t/tmpdir.t ......... ok
t/Spec.t ........... ok
t/win32.t .......... skipped: this is not win32
All tests successful.
Files=11, Tests=847, 10 wallclock secs ( 0.77 usr  0.36 sys +  4.71 cusr  2.27 csys =  8.11 CPU)
Result: PASS

------------------------------
PREREQUISITES
------------------------------

Prerequisite modules loaded:

requires:

    Module              Need Have    
    ------------------- ---- --------
    Carp                0    1.38    
    File::Basename      0    2.72    
    Scalar::Util        0    1.13    
    Test::More          0.88 1.302120

build_requires:

    Module              Need Have    
    ------------------- ---- --------
    ExtUtils::MakeMaker 0    7.30    

configure_requires:

    Module              Need Have    
    ------------------- ---- --------
    ExtUtils::MakeMaker 0    7.30    


------------------------------
ENVIRONMENT AND OTHER CONTEXT
------------------------------

Environment variables:

    HARNESS_OPTIONS = j2:c
    NONINTERACTIVE_TESTING = 1
    PATH = /home/njh/perl5/perlbrew/bin:/home/njh/perl5/perlbrew/perls/perl-5.8.3/bin:/home/njh/perl5/perlbrew/bin:/home/njh/bin:/bin:/sbin:/usr/bin:/usr/sbin:/usr/X11R6/bin:/usr/local/bin:/usr/local/sbin:/usr/games:.
    PERL5LIB = 
    PERL5OPT = 
    PERL5_CPANPLUS_IS_RUNNING = 88918
    PERL5_CPAN_IS_RUNNING = 88918
    PERLBREW_HOME = /home/njh/.perlbrew
    PERLBREW_LIB = 
    PERLBREW_MANPATH = /home/njh/perl5/perlbrew/perls/perl-5.8.3/man
    PERLBREW_PATH = /home/njh/perl5/perlbrew/bin:/home/njh/perl5/perlbrew/perls/perl-5.8.3/bin
    PERLBREW_PERL = perl-5.8.3
    PERLBREW_ROOT = /home/njh/perl5/perlbrew
    PERLBREW_SHELLRC_VERSION = 0.84
    PERLBREW_VERSION = 0.84
    PERL_LOCAL_LIB_ROOT = 
    PERL_MM_USE_DEFAULT = 1
    SHELL = /usr/local/bin/bash
    TERM = dumb

Perl special variables (and OS-specific diagnostics, for MSWin32):

    $^X = /home/njh/perl5/perlbrew/perls/perl-5.8.3/bin/perl
    $UID/$EUID = 1000 / 1000
    $GID = 1000 0 1000
    $EGID = 1000 0 1000

Perl module toolchain versions installed:

    Module              Have    
    ------------------- --------
    CPAN                2.16    
    CPAN::Meta          2.143240
    Cwd                 3.62    
    ExtUtils::CBuilder  n/a     
    ExtUtils::Command   7.30    
    ExtUtils::Install   2.06    
    ExtUtils::MakeMaker 7.30    
    ExtUtils::Manifest  1.70    
    ExtUtils::ParseXS   n/a     
    File::Spec          3.62    
    JSON                4.02    
    JSON::PP            4.02    
    Module::Build       n/a     
    Module::Signature   n/a     
    Parse::CPAN::Meta   1.4414  
    Test::Harness       3.39    
    Test::More          1.302120
    YAML                1.27    
    YAML::Syck          1.30    
    version             0.9918  


--

Summary of my perl5 (revision 5.0 version 8 subversion 3) configuration:
  Platform:
    osname=openbsd, osvers=6.2, archname=OpenBSD.amd64-openbsd
    uname='openbsd netgate1.bandsman.co.uk 6.2 generic.mp#2 amd64 '
    config_args='-de -Dprefix=/home/njh/perl5/perlbrew/perls/perl-5.8.3 -Aeval:scriptdir=/home/njh/perl5/perlbrew/perls/perl-5.8.3/bin'
    hint=recommended, useposix=true, d_sigaction=define
    usethreads=undef use5005threads=undef useithreads=undef usemultiplicity=undef
    useperlio=define d_sfio=undef uselargefiles=define usesocks=undef
    use64bitint=define use64bitall=define uselongdouble=undef
    usemymalloc=n, bincompat5005=undef
  Compiler:
    cc='cc', ccflags ='-fno-strict-aliasing -I/usr/local/include',
    optimize='-O2',
    cppflags='-fno-strict-aliasing -I/usr/local/include'
    ccversion='', gccversion='4.2.1 Compatible OpenBSD Clang 4.0.0 (tags/RELEASE_400/final)', gccosandvers=''
    intsize=4, longsize=8, ptrsize=8, doublesize=8, byteorder=12345678
    d_longlong=define, longlongsize=8, d_longdbl=define, longdblsize=16
    ivtype='long', ivsize=8, nvtype='double', nvsize=8, Off_t='off_t', lseeksize=8
    alignbytes=8, prototype=define
  Linker and Libraries:
    ld='cc', ldflags ='-Wl,-E  -L/usr/local/lib'
    libpth=/usr/local/lib /usr/lib
    libs=-lm -lutil -lc
    perllibs=-lm -lutil -lc
    libc=/usr/lib/libc.so.90.0, so=so, useshrplib=false, libperl=libperl.a
    gnulibc_version=''
  Dynamic Linking:
    dlsrc=dl_dlopen.xs, dlext=so, d_dlsymun=undef, ccdlflags=' '
    cccdlflags='-DPIC -fPIC ', lddlflags='-shared -fPIC  -L/usr/local/lib'


Characteristics of this binary (from libperl): 
  Compile-time options: USE_64_BIT_INT USE_64_BIT_ALL USE_LARGE_FILES
  Locally applied patches:
  	Devel::PatchPerl 1.48
  Built under openbsd
  Compiled at Jan 22 2018 20:12:40
  %ENV:
    PERL5LIB=""
    PERL5OPT=""
    PERL5_CPANPLUS_IS_RUNNING="88918"
    PERL5_CPAN_IS_RUNNING="88918"
    PERLBREW_HOME="/home/njh/.perlbrew"
    PERLBREW_LIB=""
    PERLBREW_MANPATH="/home/njh/perl5/perlbrew/perls/perl-5.8.3/man"
    PERLBREW_PATH="/home/njh/perl5/perlbrew/bin:/home/njh/perl5/perlbrew/perls/perl-5.8.3/bin"
    PERLBREW_PERL="perl-5.8.3"
    PERLBREW_ROOT="/home/njh/perl5/perlbrew"
    PERLBREW_SHELLRC_VERSION="0.84"
    PERLBREW_VERSION="0.84"
    PERL_LOCAL_LIB_ROOT=""
    PERL_MM_USE_DEFAULT="1"
  @INC:
    /home/njh/perl5/perlbrew/perls/perl-5.8.3/lib/5.8.3/OpenBSD.amd64-openbsd
    /home/njh/perl5/perlbrew/perls/perl-5.8.3/lib/5.8.3
    /home/njh/perl5/perlbrew/perls/perl-5.8.3/lib/site_perl/5.8.3/OpenBSD.amd64-openbsd
    /home/njh/perl5/perlbrew/perls/perl-5.8.3/lib/site_perl/5.8.3
    /home/njh/perl5/perlbrew/perls/perl-5.8.3/lib/site_perl
    .