Report for Algorithm-AM-3.05

Back
From: metabase:user:30ae4450-2aae-11df-837a-5e0a49663a4f
Subject: PASS Algorithm-AM-3.05 v5.14.3 
Date: 2014-10-28T00:03:53Z

This distribution has been tested as part of the CPAN Testers
project, supporting the Perl programming language.  See
http://wiki.cpantesters.org/ for more information or email
questions to cpan-testers-discuss@perl.org


--
Dear Nathan Gary Glenn,

This is a computer-generated report for Algorithm-AM-3.05
on perl 5.14.3, created by CPAN-Reporter-1.2010_01.

Thank you for uploading your work to CPAN.  Congratulations!
All tests were successful.

Sections of this report:

    * Tester comments
    * Program output
    * Prerequisites
    * Environment and other context

------------------------------
TESTER COMMENTS
------------------------------

Additional comments from tester:

this report is from an automated smoke testing program
and was not reviewed by a human for accuracy

------------------------------
PROGRAM OUTPUT
------------------------------

Output from 'C:\strawberry5143\c\bin\dmake.exe test':

C:\strawberry5143\perl\bin\perl.exe "-MExtUtils::Command::MM" "-e" "test_harness(0, 'blib\lib', 'blib\arch')" t/*.t
t/0-use_AM.t ........... ok
t/0-use_Batch.t ........ ok
# 
# Versions for all modules listed in MYMETA.json (including optional ones):
# 
# === Configure Requires ===
# 
#     Module              Want Have
#     ------------------- ---- ----
#     ExtUtils::MakeMaker 6.17 6.62
# 
# === Build Requires ===
# 
#     Module              Want Have
#     ------------------- ---- ----
#     ExtUtils::MakeMaker  any 6.62
# 
# === Test Requires ===
# 
#     Module              Want  Have
#     ------------------- ---- -----
#     ExtUtils::MakeMaker  any  6.62
#     File::Spec           any  3.47
#     FindBin              any  1.50
#     Test::Deep           any 0.110
#     Test::Exception      any  0.31
#     Test::LongString     any  0.15
#     Test::More          0.88  0.98
#     Test::NoWarnings     any  1.04
# 
# === Test Recommends ===
# 
#     Module         Want     Have
#     ---------- -------- --------
#     CPAN::Meta 2.120900 2.120921
# 
# === Runtime Requires ===
# 
#     Module              Want     Have
#     ------------------- ---- --------
#     Carp                 any     1.26
#     Class::Tiny          any    1.000
#     Crypt::PRNG          any    undef
#     Exporter::Easy       any     0.16
#     ExtUtils::MakeMaker  any     6.62
#     File::Spec           any     3.47
#     FindBin              any     1.50
#     Import::Into         any 1.001000
#     Log::Any             any     0.14
#     Path::Tiny           any    0.059
#     Test::Deep           any    0.110
#     Test::Exception      any     0.31
#     Test::LongString     any     0.15
#     Test::More          0.88     0.98
#     Test::NoWarnings     any     1.04
#     Text::Table          any    1.126
#     XSLoader             any     0.16
#     feature              any     1.20
#     integer              any     1.00
#     strict               any     1.04
#     warnings             any     1.12
# 
t/00-report-prereqs.t .. ok
t/01-Item.t ............ ok
t/02-DataSet.t ......... ok
t/03-AM.t .............. ok
t/04-Result.t .......... ok
t/05-Bigint.t .......... ok
t/06-Batch.t ........... ok
t/07-Batch_hooks.t ..... ok
t/08-finnverb.t ........ ok
All tests successful.
Files=11, Tests=138,  5 wallclock secs ( 0.12 usr +  0.07 sys =  0.19 CPU)
Result: PASS

------------------------------
PREREQUISITES
------------------------------

Prerequisite modules loaded:

requires:

    Module              Need Have    
    ------------------- ---- --------
    Carp                0    1.26    
    Class::Tiny         0    1.000   
    Crypt::PRNG         0    0       
    Exporter::Easy      0    0.16    
    ExtUtils::MakeMaker 0    6.62    
    feature             0    1.20    
    File::Spec          0    3.47    
    FindBin             0    1.50    
    Import::Into        0    1.001000
    integer             0    1.00    
    Log::Any            0    0.14    
    Path::Tiny          0    0.059   
    strict              0    1.04    
    Test::Deep          0    0.110   
    Test::Exception     0    0.31    
    Test::LongString    0    0.15    
    Test::More          0.88 0.98    
    Test::NoWarnings    0    1.04    
    Text::Table         0    1.126   
    warnings            0    1.12    
    XSLoader            0    0.16    

build_requires:

    Module              Need Have    
    ------------------- ---- --------
    ExtUtils::MakeMaker 0    6.62    

configure_requires:

    Module              Need Have    
    ------------------- ---- --------
    ExtUtils::MakeMaker 6.17 6.62    


------------------------------
ENVIRONMENT AND OTHER CONTEXT
------------------------------

Environment variables:

    AUTOMATED_TESTING = 1
    COMSPEC = C:\WINDOWS\system32\cmd.exe
    NUMBER_OF_PROCESSORS = 1
    PATH = C:\Program Files\Far Manager\;C:\IM\ImageMagick-6.8.2-Q16;C:\WINDOWS\system32;C:\WINDOWS;C:\WINDOWS\System32\Wbem;C:\strawberry5143\c\bin;C:\strawberry5143\perl\site\bin;C:\strawberry5143\perl\bin
    PERL5LIB = C:\strawberry5143\cpan\build\CryptX-0.021-Gi2QgL/blib/arch;C:\strawberry5143\cpan\build\CryptX-0.021-Gi2QgL/blib/lib;C:\strawberry5143\cpan\build\Path-Tiny-0.059-LDYHo5/blib/arch;C:\strawberry5143\cpan\build\Path-Tiny-0.059-LDYHo5/blib/lib;C:\strawberry5143\cpan\build\PathTools-3.47-g15Wad/blib/arch;C:\strawberry5143\cpan\build\PathTools-3.47-g15Wad/blib/lib;C:\strawberry5143\cpan\build\Class-Tiny-1.000-oWpJ_p/blib/arch;C:\strawberry5143\cpan\build\Class-Tiny-1.000-oWpJ_p/blib/lib
    PERL5OPT = 
    PERL5_CPANPLUS_IS_RUNNING = 26412
    PERL5_CPAN_IS_RUNNING = 26412
    PERL5_CPAN_IS_RUNNING_IN_RECURSION = 1196,26412
    PERL_CR_SMOKER_CURRENT = Algorithm-AM-3.05
    PERL_EXTUTILS_AUTOINSTALL = --defaultdeps
    PERL_MM_USE_DEFAULT = 1
    PROCESSOR_IDENTIFIER = x86 Family 18 Model 1 Stepping 0, AuthenticAMD
    TEMP = C:\DOCUME~1\c\LOCALS~1\Temp
    TERM = dumb

Perl special variables (and OS-specific diagnostics, for MSWin32):

    $^X = C:\strawberry5143\perl\bin\perl.exe
    $UID/$EUID = 0 / 0
    $GID = 0
    $EGID = 0
    Win32::GetOSName = WinXP/.Net
    Win32::GetOSVersion = Service Pack 3, 5, 1, 2600, 2, 3, 0, 256, 1
    Win32::FsType = NTFS
    Win32::IsAdminUser = 1

Perl module toolchain versions installed:

    Module              Have    
    ------------------- --------
    CPAN                1.9800  
    CPAN::Meta          2.120921
    Cwd                 3.47    
    ExtUtils::CBuilder  0.280205
    ExtUtils::Command   1.17    
    ExtUtils::Install   1.56    
    ExtUtils::MakeMaker 6.62    
    ExtUtils::Manifest  1.61    
    ExtUtils::ParseXS   3.15    
    File::Spec          3.47    
    JSON                2.53    
    JSON::PP            2.27200 
    Module::Build       0.4003  
    Module::Signature   0.68    
    Parse::CPAN::Meta   1.4404  
    Test::Harness       3.25    
    Test::More          0.98    
    YAML                0.84    
    YAML::Syck          1.22    
    version             0.9901  


--

Summary of my perl5 (revision 5 version 14 subversion 3) configuration:
   
  Platform:
    osname=MSWin32, osvers=4.0, archname=MSWin32-x86-multi-thread
    uname='Win32 strawberry-perl 5.14.3.1 #1 Wed Oct 17 22:51:55 2012 i386'
    config_args='undef'
    hint=recommended, useposix=true, d_sigaction=undef
    useithreads=define, usemultiplicity=define
    useperlio=define, d_sfio=undef, uselargefiles=define, usesocks=undef
    use64bitint=undef, use64bitall=undef, uselongdouble=undef
    usemymalloc=n, bincompat5005=undef
  Compiler:
    cc='gcc', ccflags =' -s -O2 -DWIN32  -DPERL_TEXTMODE_SCRIPTS -DPERL_IMPLICIT_CONTEXT -DPERL_IMPLICIT_SYS -fno-strict-aliasing -mms-bitfields',
    optimize='-s -O2',
    cppflags='-DWIN32'
    ccversion='', gccversion='4.6.3', gccosandvers=''
    intsize=4, longsize=4, ptrsize=4, doublesize=8, byteorder=1234
    d_longlong=undef, longlongsize=8, d_longdbl=define, longdblsize=12
    ivtype='long', ivsize=4, nvtype='double', nvsize=8, Off_t='long long', lseeksize=8
    alignbytes=8, prototype=define
  Linker and Libraries:
    ld='g++', ldflags ='-s -L"C:\strawberry5143\perl\lib\CORE" -L"C:\strawberry5143\c\lib"'
    libpth=C:\strawberry5143\c\lib C:\strawberry5143\c\i686-w64-mingw32\lib
    libs=-lmoldname -lkernel32 -luser32 -lgdi32 -lwinspool -lcomdlg32 -ladvapi32 -lshell32 -lole32 -loleaut32 -lnetapi32 -luuid -lws2_32 -lmpr -lwinmm -lversion -lodbc32 -lodbccp32 -lcomctl32
    perllibs=-lmoldname -lkernel32 -luser32 -lgdi32 -lwinspool -lcomdlg32 -ladvapi32 -lshell32 -lole32 -loleaut32 -lnetapi32 -luuid -lws2_32 -lmpr -lwinmm -lversion -lodbc32 -lodbccp32 -lcomctl32
    libc=, so=dll, useshrplib=true, libperl=libperl514.a
    gnulibc_version=''
  Dynamic Linking:
    dlsrc=dl_win32.xs, dlext=dll, d_dlsymun=undef, ccdlflags=' '
    cccdlflags=' ', lddlflags='-mdll -s -L"C:\strawberry5143\perl\lib\CORE" -L"C:\strawberry5143\c\lib"'


Characteristics of this binary (from libperl): 
  Compile-time options: MULTIPLICITY PERL_DONT_CREATE_GVSV
                        PERL_IMPLICIT_CONTEXT PERL_IMPLICIT_SYS
                        PERL_MALLOC_WRAP PERL_PRESERVE_IVUV PL_OP_SLAB_ALLOC
                        USE_ITHREADS USE_LARGE_FILES USE_PERLIO
                        USE_PERL_ATOF
  Built under MSWin32
  Compiled at Oct 17 2012 23:05:06
  %ENV:
    PERL5LIB="C:\strawberry5143\cpan\build\CryptX-0.021-Gi2QgL/blib/arch;C:\strawberry5143\cpan\build\CryptX-0.021-Gi2QgL/blib/lib;C:\strawberry5143\cpan\build\Path-Tiny-0.059-LDYHo5/blib/arch;C:\strawberry5143\cpan\build\Path-Tiny-0.059-LDYHo5/blib/lib;C:\strawberry5143\cpan\build\PathTools-3.47-g15Wad/blib/arch;C:\strawberry5143\cpan\build\PathTools-3.47-g15Wad/blib/lib;C:\strawberry5143\cpan\build\Class-Tiny-1.000-oWpJ_p/blib/arch;C:\strawberry5143\cpan\build\Class-Tiny-1.000-oWpJ_p/blib/lib"
    PERL5_CPANPLUS_IS_RUNNING="26412"
    PERL5_CPAN_IS_RUNNING="26412"
    PERL5_CPAN_IS_RUNNING_IN_RECURSION="1196,26412"
    PERL_CR_SMOKER_CURRENT="Algorithm-AM-3.05"
    PERL_EXTUTILS_AUTOINSTALL="--defaultdeps"
    PERL_MM_USE_DEFAULT="1"
  @INC:
    C:\strawberry5143\cpan\build\CryptX-0.021-Gi2QgL/blib/arch
    C:\strawberry5143\cpan\build\CryptX-0.021-Gi2QgL/blib/lib
    C:\strawberry5143\cpan\build\Path-Tiny-0.059-LDYHo5/blib/arch
    C:\strawberry5143\cpan\build\Path-Tiny-0.059-LDYHo5/blib/lib
    C:\strawberry5143\cpan\build\PathTools-3.47-g15Wad/blib/arch
    C:\strawberry5143\cpan\build\PathTools-3.47-g15Wad/blib/lib
    C:\strawberry5143\cpan\build\Class-Tiny-1.000-oWpJ_p/blib/arch
    C:\strawberry5143\cpan\build\Class-Tiny-1.000-oWpJ_p/blib/lib
    C:/strawberry5143/perl/site/lib
    C:/strawberry5143/perl/vendor/lib
    C:/strawberry5143/perl/lib
    .