Test-Class-Moose v0.92 Perl 5 v5.16.3 x86_64-linux-thread-multi
- Status
- Pass
- From
- Nigel Horne
- Dist
-
Test-Class-Moose v0.92
- Platform
- Perl 5 v5.16.3 x86_64-linux-thread-multi
- Date
- 2017-12-28 21:36:30
- ID
- 2ad08092-ec17-11e7-828c-814b49db78b7
This distribution has been tested as part of the CPAN Testers
project, supporting the Perl programming language. See
http://wiki.cpantesters.org/ for more information or email
questions to cpan-testers-discuss@perl.org
--
Dear Dave Rolsky,
This is a computer-generated report for Test-Class-Moose-0.92
on perl 5.16.3, created by CPAN-Reporter-1.2018.
Thank you for uploading your work to CPAN. Congratulations!
All tests were successful.
Sections of this report:
* Tester comments
* Program output
* Prerequisites
* Environment and other context
------------------------------
TESTER COMMENTS
------------------------------
Additional comments from tester:
none provided
------------------------------
PROGRAM OUTPUT
------------------------------
Output from '/usr/bin/make test':
PERL_DL_NONLAZY=1 "/usr/bin/perl" "-MExtUtils::Command::MM" "-MTest::Harness" "-e" "undef *Test::Harness::Switches; test_harness(0, 'blib/lib', 'blib/arch')" t/*.t
t/load.t ....................... ok
t/environment.t ................ ok
#
# Versions for all modules listed in MYMETA.json (including optional ones):
#
# === Configure Requires ===
#
# Module Want Have
# ------------------- ---- ----
# ExtUtils::MakeMaker any 7.30
#
# === Build Requires ===
#
# Module Want Have
# ------------------- ---- ----
# ExtUtils::MakeMaker any 7.30
#
# === Test Requires ===
#
# Module Want Have
# --------------------- -------- --------
# ExtUtils::MakeMaker any 7.30
# File::Spec any 3.62
# File::Temp any 0.2304
# Test2::Tools::Basic any 0.000097
# Test2::Tools::Class any 0.000097
# Test2::Tools::Compare any 0.000097
# Test2::Tools::Subtest any 0.000097
# Test2::V0 any 0.000097
# Test::Builder any 1.302120
# Test::More 1.302015 1.302120
# Test::Requires any 0.10
# Test::Warnings any 0.026
# lib any 0.63
#
# === Test Recommends ===
#
# Module Want Have
# ------------ -------- --------
# CPAN::Meta 2.120900 2.150010
# Test::Output 0.0005 1.031
#
# === Runtime Requires ===
#
# Module Want Have
# ---------------------------- --------- --------
# Benchmark any 1.13
# Carp any 1.38
# Class::MOP any 2.2009
# Exporter any 5.72
# File::Find any 1.20
# File::Spec any 3.62
# Import::Into any 1.002005
# JSON any 2.97001
# List::SomeUtils any 0.56
# List::Util any 1.49
# Module::Runtime any 0.016
# Module::Util any 1.09
# Moose 2.0000 2.2009
# Moose::Role 2.0000 2.2009
# Moose::Util any 2.2009
# Moose::Util::TypeConstraints any 2.2009
# MooseX::Getopt 0.71 0.71
# MooseX::Getopt::Dashes any 0.71
# Package::DeprecationManager 0.16 0.17
# Parallel::ForkManager any 1.19
# Scalar::Util any 1.49
# Sub::Attribute any 0.06
# TAP::Formatter::Color 3.29 3.39
# Test2 1.1302118 1.302120
# Test2::API any 1.302120
# Test2::AsyncSubtest 0.000018 0.000097
# Test2::IPC any 1.302120
# Test2::Tools::AsyncSubtest any 0.000097
# Test::Most any 0.35
# Try::Tiny any 0.28
# namespace::autoclean any 0.28
# strict any 1.07
# warnings any 1.13
#
# === Runtime Recommends ===
#
# Module Want Have
# --------------------- ------ ----
# Parallel::ForkManager v0.7.6 1.19
#
t/00-report-prereqs.t .......... ok
t/basic.t ...................... ok
t/include_classes.t ............ ok
t/autouse.t .................... ok
t/include_exclude.t ............ ok
t/parameterized.t .............. ok
[32m.[0m[32m.[0m[32m.[0m[32m.[0m[32m.[0m[32m.[0m[32m.[0m[32m.[0m[32m.[0m[32m.[0m[32m.[0m[32m.[0m[32m.[0m[32m.[0m[32m.[0m[32m.[0m[32m.[0m[32m.[0m[32m.[0m[32m.[0m[32m.[0m[32m.[0m[31mX[0m[31mX[0m[32m.[0m[32m.[0mt/plans.t ...................... ok
t/test_control_methods.t ....... ok
t/process_name.t ............... ok
t/tags.t ....................... ok
t/todo.t ....................... ok
t/test_control_methods_skip.t .. ok
t/skip.t ....................... ok
t/bare.t ....................... ok
t/parallel.t ................... ok
t/timing.t ..................... ok
t/executor_roles.t ............. ok
t/cli.t ........................ ok
t/no_tests_run.t ............... ok
t/non_randomize_classes.t ...... ok
t/test_class_is_not_loaded.t ... ok
t/reportpassed.t ............... ok
All tests successful.
Files=24, Tests=209, 60 wallclock secs ( 0.45 usr 0.06 sys + 19.03 cusr 12.27 csys = 31.81 CPU)
Result: PASS
------------------------------
PREREQUISITES
------------------------------
Prerequisite modules loaded:
requires:
Module Need Have
---------------------------- --------- --------
Benchmark 0 1.13
Carp 0 1.38
Class::MOP 0 2.2009
Exporter 0 5.72
File::Find 0 1.20
File::Spec 0 3.62
Import::Into 0 1.002005
JSON 0 2.97001
List::SomeUtils 0 0.56
List::Util 0 1.49
Module::Runtime 0 0.016
Module::Util 0 1.09
Moose 2.0000 2.2009
Moose::Role 2.0000 2.2009
Moose::Util 0 2.2009
Moose::Util::TypeConstraints 0 2.2009
MooseX::Getopt 0.71 0.71
MooseX::Getopt::Dashes 0 0.71
namespace::autoclean 0 0.28
Package::DeprecationManager 0.16 0.17
Parallel::ForkManager 0 1.19
perl 5.010000 5.016003
Scalar::Util 0 1.49
strict 0 1.07
Sub::Attribute 0 0.06
TAP::Formatter::Color 3.29 3.39
Test2 1.1302118 1.302120
Test2::API 0 1.302120
Test2::AsyncSubtest 0.000018 0.000097
Test2::IPC 0 1.302120
Test2::Tools::AsyncSubtest 0 0.000097
Test::Most 0 0.35
Try::Tiny 0 0.28
warnings 0 1.13
build_requires:
Module Need Have
---------------------------- --------- --------
ExtUtils::MakeMaker 0 7.30
File::Spec 0 3.62
File::Temp 0 0.2304
lib 0 0.63
Test2::Tools::Basic 0 0.000097
Test2::Tools::Class 0 0.000097
Test2::Tools::Compare 0 0.000097
Test2::Tools::Subtest 0 0.000097
Test2::V0 0 0.000097
Test::Builder 0 1.302120
Test::More 1.302015 1.302120
Test::Requires 0 0.10
Test::Warnings 0 0.026
configure_requires:
Module Need Have
---------------------------- --------- --------
ExtUtils::MakeMaker 0 7.30
------------------------------
ENVIRONMENT AND OTHER CONTEXT
------------------------------
Environment variables:
HARNESS_OPTIONS = c:j24
LANG = en_US.UTF-8
LC_ALL = POSIX
LD_LIBRARY_PATH = /opt/ghostscript/lib64:/usr/local/intel/Compiler/15.0/composer_xe_2015.3.187/compiler/lib/intel64:/usr/local/intel/Compiler/15.0/composer_xe_2015.3.187/mpirt/lib/intel64:/usr/local/intel/Compiler/15.0/composer_xe_2015.3.187/debugger/libipt/intel64/lib:/usr/local/R/3.2.0/lib64/R/lib/:/usr/local/gsl/1.12/lib
PATH = /home/hornenj/perl5/bin:/home/hornenj/bin:/net/snowman/vol/projects/sanity:/opt/python-all/bin:/opt/perl/5.16.3/bin:/opt/fcron/bin:/usr/local/intel/Compiler/15.0/composer_xe_2015.3.187/bin/intel64:/usr/local/intel/Compiler/15.0/composer_xe_2015.3.187/debugger/gdb/intel64_mic/bin:/usr/local/intel/Compiler/15.0/bin:/usr/local/R/3.2.0/bin:/usr/local/netcdf/4.3.3/bin:/usr/local/gsl/1.12/bin:/usr/local/purify/7.0.1.0-006/releases/PurifyPlus.7.0.1.0-006/i386_linux2/bin:/usr/local/purify/7.0.1.0-006/bin:/netmnt/uge/bin/lx-amd64:/opt/ruby/2.0/bin:/usr/local/subversion/1.7.22/bin:/usr/local/svnmucc/1.5.7/bin:/usr/local/ninja/1.7.2/bin:/usr/local/nedit/5.5/bin:/netopt/ncbi_tools64/bin:/am/ncbiapdata/bin:/usr/local/joe/3.7/bin:/usr/local/git/latest/bin:/opt/ncbi/gcc/4.9.3/bin:/usr/local/ddd/3.3.12/bin:/usr/local/ctags/5.8/bin:/usr/lib64/ccache:/usr/local/bin:/usr/bin:/usr/local/sbin:/usr/sbin:/usr/sbin:/sbin:/usr/local/sbin:/opt/sybase/clients/current/bin:/opt/sybase/utils/bin:/opt/dell/srvadmin/bin
PERL5LIB = /home/hornenj/perl5/lib/perl5:
PERL5OPT =
PERL5_CPANPLUS_IS_RUNNING = 86600
PERL5_CPAN_IS_RUNNING = 86600
PERL_LOCAL_LIB_ROOT = :/home/hornenj/perl5
PERL_MB_OPT = --install_base /home/hornenj/perl5
PERL_MM_OPT = INSTALL_BASE=/home/hornenj/perl5
SHELL = /bin/bash
TERM = xterm-256color
Perl special variables (and OS-specific diagnostics, for MSWin32):
$^X = /usr/bin/perl
$UID/$EUID = 12481 / 12481
$GID = 14 14 241 527 5344 37191 37223
$EGID = 14 14 241 527 5344 37191 37223
Perl module toolchain versions installed:
Module Have
------------------- --------
CPAN 2.16
CPAN::Meta 2.150010
Cwd 3.62
ExtUtils::CBuilder 0.280230
ExtUtils::Command 7.30
ExtUtils::Install 2.14
ExtUtils::MakeMaker 7.30
ExtUtils::Manifest 1.70
ExtUtils::ParseXS 3.35
File::Spec 3.62
JSON 2.97001
JSON::PP 2.97001
Module::Build 0.4224
Module::Signature 0.81
Parse::CPAN::Meta 2.150010
Test::Harness 3.39
Test::More 1.302120
YAML 1.24
YAML::Syck 1.30
version 0.9918
--
Summary of my perl5 (revision 5 version 16 subversion 3) configuration:
Platform:
osname=linux, osvers=3.10.0-514.16.1.el7.x86_64, archname=x86_64-linux-thread-multi
uname='linux c1bm.rdu2.centos.org 3.10.0-514.16.1.el7.x86_64 #1 smp wed apr 12 15:04:24 utc 2017 x86_64 x86_64 x86_64 gnulinux '
config_args='-des -Doptimize=-O2 -g -pipe -Wall -Wp,-D_FORTIFY_SOURCE=2 -fexceptions -fstack-protector-strong --param=ssp-buffer-size=4 -grecord-gcc-switches -m64 -mtune=generic -Dccdlflags=-Wl,--enable-new-dtags -Dlddlflags=-shared -O2 -g -pipe -Wall -Wp,-D_FORTIFY_SOURCE=2 -fexceptions -fstack-protector-strong --param=ssp-buffer-size=4 -grecord-gcc-switches -m64 -mtune=generic -Wl,-z,relro -DDEBUGGING=-g -Dversion=5.16.3 -Dmyhostname=localhost -Dperladmin=root@localhost -Dcc=gcc -Dcf_by=Red Hat, Inc. -Dprefix=/usr -Dvendorprefix=/usr -Dsiteprefix=/usr/local -Dsitelib=/usr/local/share/perl5 -Dsitearch=/usr/local/lib64/perl5 -Dprivlib=/usr/share/perl5 -Dvendorlib=/usr/share/perl5/vendor_perl -Darchlib=/usr/lib64/perl5 -Dvendorarch=/usr/lib64/perl5/vendor_perl -Darchname=x86_64-linux-thread-multi -Dlibpth=/usr/local/lib64 /lib64 /usr/lib64 -Duseshrplib -Dusethreads -Duseithreads -Dusedtrace=/usr/bin/dtrace -Duselargefiles -Dd_semctl_semun -Di_db -Ui_ndbm -Di_gdbm -Di_shadow -Di_syslog -Dman3ext=3pm -Duseperlio -Dinstallusrbinperl=n -Ubincompat5005 -Uversiononly -Dpager=/usr/bin/less -isr -Dd_gethostent_r_proto -Ud_endhostent_r_proto -Ud_sethostent_r_proto -Ud_endprotoent_r_proto -Ud_setprotoent_r_proto -Ud_endservent_r_proto -Ud_setservent_r_proto -Dscriptdir=/usr/bin -Dusesitecustomize'
hint=recommended, useposix=true, d_sigaction=define
useithreads=define, usemultiplicity=define
useperlio=define, d_sfio=undef, uselargefiles=define, usesocks=undef
use64bitint=define, use64bitall=define, uselongdouble=undef
usemymalloc=n, bincompat5005=undef
Compiler:
cc='gcc', ccflags ='-D_REENTRANT -D_GNU_SOURCE -fno-strict-aliasing -pipe -fstack-protector -I/usr/local/include -D_LARGEFILE_SOURCE -D_FILE_OFFSET_BITS=64',
optimize='-O2 -g -pipe -Wall -Wp,-D_FORTIFY_SOURCE=2 -fexceptions -fstack-protector-strong --param=ssp-buffer-size=4 -grecord-gcc-switches -m64 -mtune=generic',
cppflags='-D_REENTRANT -D_GNU_SOURCE -fno-strict-aliasing -pipe -fstack-protector -I/usr/local/include'
ccversion='', gccversion='4.8.5 20150623 (Red Hat 4.8.5-16)', gccosandvers=''
intsize=4, longsize=8, ptrsize=8, doublesize=8, byteorder=12345678
d_longlong=define, longlongsize=8, d_longdbl=define, longdblsize=16
ivtype='long', ivsize=8, nvtype='double', nvsize=8, Off_t='off_t', lseeksize=8
alignbytes=8, prototype=define
Linker and Libraries:
ld='gcc', ldflags =' -fstack-protector'
libpth=/usr/local/lib64 /lib64 /usr/lib64
libs=-lresolv -lnsl -lgdbm -ldb -ldl -lm -lcrypt -lutil -lpthread -lc -lgdbm_compat
perllibs=-lresolv -lnsl -ldl -lm -lcrypt -lutil -lpthread -lc
libc=, so=so, useshrplib=true, libperl=libperl.so
gnulibc_version='2.17'
Dynamic Linking:
dlsrc=dl_dlopen.xs, dlext=so, d_dlsymun=undef, ccdlflags='-Wl,--enable-new-dtags -Wl,-rpath,/usr/lib64/perl5/CORE'
cccdlflags='-fPIC', lddlflags='-shared -O2 -g -pipe -Wall -Wp,-D_FORTIFY_SOURCE=2 -fexceptions -fstack-protector-strong --param=ssp-buffer-size=4 -grecord-gcc-switches -m64 -mtune=generic -Wl,-z,relro '
Characteristics of this binary (from libperl):
Compile-time options: HAS_TIMES MULTIPLICITY PERLIO_LAYERS
PERL_DONT_CREATE_GVSV PERL_IMPLICIT_CONTEXT
PERL_MALLOC_WRAP PERL_PRESERVE_IVUV USE_64_BIT_ALL
USE_64_BIT_INT USE_ITHREADS USE_LARGE_FILES
USE_LOCALE USE_LOCALE_COLLATE USE_LOCALE_CTYPE
USE_LOCALE_NUMERIC USE_PERLIO USE_PERL_ATOF
USE_REENTRANT_API USE_SITECUSTOMIZE
Locally applied patches:
Fedora Patch1: Removes date check, Fedora/RHEL specific
Fedora Patch3: support for libdir64
Fedora Patch4: use libresolv instead of libbind
Fedora Patch5: USE_MM_LD_RUN_PATH
Fedora Patch6: Skip hostname tests, due to builders not being network capable
Fedora Patch7: Dont run one io test due to random builder failures
Fedora Patch9: Fix find2perl to translate ? glob properly (RT#113054)
Fedora Patch10: Fix broken atof (RT#109318)
Fedora Patch13: Clear $@ before "do" I/O error (RT#113730)
Fedora Patch14: Do not truncate syscall() return value to 32 bits (RT#113980)
Fedora Patch15: Override the Pod::Simple::parse_file (CPANRT#77530)
Fedora Patch16: Do not leak with attribute on my variable (RT#114764)
Fedora Patch17: Allow operator after numeric keyword argument (RT#105924)
Fedora Patch18: Extend stack in File::Glob::glob, (RT#114984)
Fedora Patch19: Do not crash when vivifying $|
Fedora Patch20: Fix misparsing of maketext strings (CVE-2012-6329)
Fedora Patch21: Add NAME headings to CPAN modules (CPANRT#73396)
Fedora Patch22: Fix leaking tied hashes (RT#107000) [1]
Fedora Patch23: Fix leaking tied hashes (RT#107000) [2]
Fedora Patch24: Fix leaking tied hashes (RT#107000) [3]
Fedora Patch25: Fix dead lock in PerlIO after fork from thread (RT#106212)
Fedora Patch26: Make regexp safe in a signal handler (RT#114878)
Fedora Patch27: Update h2ph(1) documentation (RT#117647)
Fedora Patch28: Update pod2html(1) documentation (RT#117623)
Fedora Patch29: Document Math::BigInt::CalcEmu requires Math::BigInt (CPAN RT#85015)
RHEL Patch30: Use stronger algorithm needed for FIPS in t/op/crypt.t (RT#121591)
RHEL Patch31: Make *DBM_File desctructors thread-safe (RT#61912)
RHEL Patch32: Use stronger algorithm needed for FIPS in t/op/taint.t (RT#123338)
RHEL Patch33: Remove CPU-speed-sensitive test in Benchmark test
RHEL Patch34: Make File::Glob work with threads again
RHEL Patch35: Fix CRLF conversion in ASCII FTP upload (CPAN RT#41642)
RHEL Patch36: Do not leak the temp utf8 copy of namepv (CPAN RT#123786)
RHEL Patch37: Fix duplicating PerlIO::encoding when spawning threads (RT#31923)
Built under linux
Compiled at Aug 2 2017 17:45:03
%ENV:
PERL5LIB="/home/hornenj/perl5/lib/perl5:"
PERL5OPT=""
PERL5_CPANPLUS_IS_RUNNING="86600"
PERL5_CPAN_IS_RUNNING="86600"
PERL_LOCAL_LIB_ROOT=":/home/hornenj/perl5"
PERL_MB_OPT="--install_base /home/hornenj/perl5"
PERL_MM_OPT="INSTALL_BASE=/home/hornenj/perl5"
@INC:
/home/hornenj/perl5/lib/perl5/5.16.3/x86_64-linux-thread-multi
/home/hornenj/perl5/lib/perl5/5.16.3
/home/hornenj/perl5/lib/perl5/x86_64-linux-thread-multi
/home/hornenj/perl5/lib/perl5
/usr/local/lib64/perl5
/usr/local/share/perl5
/usr/lib64/perl5/vendor_perl
/usr/share/perl5/vendor_perl
/usr/lib64/perl5
/usr/share/perl5
.