Report for Rose-DB-Object-0.815

Back
From: metabase:user:0d96120c-29e2-11e5-b049-ede3035d37de
Subject: PASS Rose-DB-Object-0.815 v5.22.0 GNU/Linux
Date: 2015-07-20T04:59:56Z

This distribution has been tested as part of the CPAN Testers
project, supporting the Perl programming language.  See
http://wiki.cpantesters.org/ for more information or email
questions to cpan-testers-discuss@perl.org


--
Dear John Siracusa,

This is a computer-generated report for Rose-DB-Object-0.815
on perl 5.22.0, created by CPAN-Reporter-1.2014.

Thank you for uploading your work to CPAN.  Congratulations!
All tests were successful.

Sections of this report:

    * Tester comments
    * Program output
    * Prerequisites
    * Environment and other context

------------------------------
TESTER COMMENTS
------------------------------

Additional comments from tester:

this report is from an automated smoke testing program
and was not reviewed by a human for accuracy

------------------------------
PROGRAM OUTPUT
------------------------------

Output from '/usr/bin/make test':

PERL_DL_NONLAZY=1 "/data/perl5/perlbrew/perls/perl-5.22.0-thread-multi/bin/perl" "-MExtUtils::Command::MM" "-MTest::Harness" "-e" "undef *Test::Harness::Switches; test_harness(0, 'blib/lib', 'blib/arch')" t/*.t

##
## DBI             1.633
## DBD::SQLite     1.48
## JSON            2.90
##
## WARNING: Almost all the tests in this module distribution need to connect
## to a database in order to run.  The tests need full privileges on this
## database: the ability to create and drop tables, insert, update, and delete
## rows, create schemas, sequences, functions, triggers, the works.
## 
## By default, the tests will try to connect to the database named "test"
## running on "localhost" using the default superuser username for each
## database type and an empty password.
## 
## If you have setup your database in a secure manner, these connection
## attempts will fail, and the tests will be skipped.  If you want to override
## these values, set the following environment variables before running tests.
## (The current values are shown in parentheses.)
## 
## PostgreSQL:
## 
##     RDBO_PG_DSN      (dbi:Pg:dbname=test;host=localhost)
##     RDBO_PG_USER     (postgres)
##     RDBO_PG_PASS     (<none>)
## 
## MySQL:
## 
##     RDBO_MYSQL_DSN   (dbi:mysql:database=test;host=localhost)
##     RDBO_MYSQL_USER  (root)
##     RDBO_MYSQL_PASS  (<none>)
##
## Oracle:
## 
##     RDBO_ORACLE_DSN  (dbi:Oracle:dbname=test)
##     RDBO_ORACLE_USER (<none>)
##     RDBO_ORACLE_PASS (<none>)
##
## Informix:
## 
##     RDBO_INFORMIX_DSN   (dbi:Informix:test@test)
##     RDBO_INFORMIX_USER  (<none>)
##     RDBO_INFORMIX_PASS  (<none>)
## 
## SQLite: To disable the SQLite tests, set this environment varible
##
##     RDBO_NO_SQLITE  (<undef>)
##
## Press return to continue (or wait 60 seconds)
t/00-warning.t ..................... ok
Unescaped left brace in regex is deprecated, passed through in regex; marked by <-- HERE in m/
                    (%{ <-- HERE \w+})
                / at /home/perltest/.cpan/build/Convert-NLS_DATE_FORMAT-0.05-b0tkzg/blib/lib/Convert/NLS_DATE_FORMAT.pm line 116.
t/as-tree.t ........................ ok
Unescaped left brace in regex is deprecated, passed through in regex; marked by <-- HERE in m/
                    (%{ <-- HERE \w+})
                / at /home/perltest/.cpan/build/Convert-NLS_DATE_FORMAT-0.05-b0tkzg/blib/lib/Convert/NLS_DATE_FORMAT.pm line 116.
t/auto-setup.t ..................... ok
Unescaped left brace in regex is deprecated, passed through in regex; marked by <-- HERE in m/
                    (%{ <-- HERE \w+})
                / at /home/perltest/.cpan/build/Convert-NLS_DATE_FORMAT-0.05-b0tkzg/blib/lib/Convert/NLS_DATE_FORMAT.pm line 116.
t/bind-param.t ..................... ok
Unescaped left brace in regex is deprecated, passed through in regex; marked by <-- HERE in m/
                    (%{ <-- HERE \w+})
                / at /home/perltest/.cpan/build/Convert-NLS_DATE_FORMAT-0.05-b0tkzg/blib/lib/Convert/NLS_DATE_FORMAT.pm line 116.
t/column-triggers.t ................ ok
Unescaped left brace in regex is deprecated, passed through in regex; marked by <-- HERE in m/
                    (%{ <-- HERE \w+})
                / at /home/perltest/.cpan/build/Convert-NLS_DATE_FORMAT-0.05-b0tkzg/blib/lib/Convert/NLS_DATE_FORMAT.pm line 116.
t/column-values.t .................. ok
Unescaped left brace in regex is deprecated, passed through in regex; marked by <-- HERE in m/
                    (%{ <-- HERE \w+})
                / at /home/perltest/.cpan/build/Convert-NLS_DATE_FORMAT-0.05-b0tkzg/blib/lib/Convert/NLS_DATE_FORMAT.pm line 116.
t/db-migration.t ................... ok
Unescaped left brace in regex is deprecated, passed through in regex; marked by <-- HERE in m/
                    (%{ <-- HERE \w+})
                / at /home/perltest/.cpan/build/Convert-NLS_DATE_FORMAT-0.05-b0tkzg/blib/lib/Convert/NLS_DATE_FORMAT.pm line 116.
t/db-object-auto.t ................. ok
Unescaped left brace in regex is deprecated, passed through in regex; marked by <-- HERE in m/
                    (%{ <-- HERE \w+})
                / at /home/perltest/.cpan/build/Convert-NLS_DATE_FORMAT-0.05-b0tkzg/blib/lib/Convert/NLS_DATE_FORMAT.pm line 116.
t/db-object-cached.t ............... ok
Unescaped left brace in regex is deprecated, passed through in regex; marked by <-- HERE in m/
                    (%{ <-- HERE \w+})
                / at /home/perltest/.cpan/build/Convert-NLS_DATE_FORMAT-0.05-b0tkzg/blib/lib/Convert/NLS_DATE_FORMAT.pm line 116.
t/db-object-changes-only-1.t ....... ok
Unescaped left brace in regex is deprecated, passed through in regex; marked by <-- HERE in m/
                    (%{ <-- HERE \w+})
                / at /home/perltest/.cpan/build/Convert-NLS_DATE_FORMAT-0.05-b0tkzg/blib/lib/Convert/NLS_DATE_FORMAT.pm line 116.
t/db-object-changes-only-2.t ....... ok
Unescaped left brace in regex is deprecated, passed through in regex; marked by <-- HERE in m/
                    (%{ <-- HERE \w+})
                / at /home/perltest/.cpan/build/Convert-NLS_DATE_FORMAT-0.05-b0tkzg/blib/lib/Convert/NLS_DATE_FORMAT.pm line 116.
t/db-object-convention.t ........... ok
Unescaped left brace in regex is deprecated, passed through in regex; marked by <-- HERE in m/
                    (%{ <-- HERE \w+})
                / at /home/perltest/.cpan/build/Convert-NLS_DATE_FORMAT-0.05-b0tkzg/blib/lib/Convert/NLS_DATE_FORMAT.pm line 116.
t/db-object-foreign-key-auto.t ..... ok
Unescaped left brace in regex is deprecated, passed through in regex; marked by <-- HERE in m/
                    (%{ <-- HERE \w+})
                / at /home/perltest/.cpan/build/Convert-NLS_DATE_FORMAT-0.05-b0tkzg/blib/lib/Convert/NLS_DATE_FORMAT.pm line 116.
t/db-object-foreign-key.t .......... ok
Unescaped left brace in regex is deprecated, passed through in regex; marked by <-- HERE in m/
                    (%{ <-- HERE \w+})
                / at /home/perltest/.cpan/build/Convert-NLS_DATE_FORMAT-0.05-b0tkzg/blib/lib/Convert/NLS_DATE_FORMAT.pm line 116.
t/db-object-helpers.t .............. ok
Unescaped left brace in regex is deprecated, passed through in regex; marked by <-- HERE in m/
                    (%{ <-- HERE \w+})
                / at /home/perltest/.cpan/build/Convert-NLS_DATE_FORMAT-0.05-b0tkzg/blib/lib/Convert/NLS_DATE_FORMAT.pm line 116.
t/db-object-loader-2.t ............. ok
Unescaped left brace in regex is deprecated, passed through in regex; marked by <-- HERE in m/
                    (%{ <-- HERE \w+})
                / at /home/perltest/.cpan/build/Convert-NLS_DATE_FORMAT-0.05-b0tkzg/blib/lib/Convert/NLS_DATE_FORMAT.pm line 116.
t/db-object-loader-3.t ............. ok
Unescaped left brace in regex is deprecated, passed through in regex; marked by <-- HERE in m/
                    (%{ <-- HERE \w+})
                / at /home/perltest/.cpan/build/Convert-NLS_DATE_FORMAT-0.05-b0tkzg/blib/lib/Convert/NLS_DATE_FORMAT.pm line 116.
t/db-object-loader-4.t ............. ok
Unescaped left brace in regex is deprecated, passed through in regex; marked by <-- HERE in m/
                    (%{ <-- HERE \w+})
                / at /home/perltest/.cpan/build/Convert-NLS_DATE_FORMAT-0.05-b0tkzg/blib/lib/Convert/NLS_DATE_FORMAT.pm line 116.
t/db-object-loader-5.t ............. ok
Unescaped left brace in regex is deprecated, passed through in regex; marked by <-- HERE in m/
                    (%{ <-- HERE \w+})
                / at /home/perltest/.cpan/build/Convert-NLS_DATE_FORMAT-0.05-b0tkzg/blib/lib/Convert/NLS_DATE_FORMAT.pm line 116.
t/db-object-loader-6.t ............. ok
Unescaped left brace in regex is deprecated, passed through in regex; marked by <-- HERE in m/
                    (%{ <-- HERE \w+})
                / at /home/perltest/.cpan/build/Convert-NLS_DATE_FORMAT-0.05-b0tkzg/blib/lib/Convert/NLS_DATE_FORMAT.pm line 116.
t/db-object-loader-7.t ............. ok
Unescaped left brace in regex is deprecated, passed through in regex; marked by <-- HERE in m/
                    (%{ <-- HERE \w+})
                / at /home/perltest/.cpan/build/Convert-NLS_DATE_FORMAT-0.05-b0tkzg/blib/lib/Convert/NLS_DATE_FORMAT.pm line 116.
t/db-object-loader-8.t ............. ok
Unescaped left brace in regex is deprecated, passed through in regex; marked by <-- HERE in m/
                    (%{ <-- HERE \w+})
                / at /home/perltest/.cpan/build/Convert-NLS_DATE_FORMAT-0.05-b0tkzg/blib/lib/Convert/NLS_DATE_FORMAT.pm line 116.
t/db-object-loader-9.t ............. ok
Unescaped left brace in regex is deprecated, passed through in regex; marked by <-- HERE in m/
                    (%{ <-- HERE \w+})
                / at /home/perltest/.cpan/build/Convert-NLS_DATE_FORMAT-0.05-b0tkzg/blib/lib/Convert/NLS_DATE_FORMAT.pm line 116.
t/db-object-loader.t ............... ok
Unescaped left brace in regex is deprecated, passed through in regex; marked by <-- HERE in m/
                    (%{ <-- HERE \w+})
                / at /home/perltest/.cpan/build/Convert-NLS_DATE_FORMAT-0.05-b0tkzg/blib/lib/Convert/NLS_DATE_FORMAT.pm line 116.
t/db-object-manager-bulk-ops.t ..... ok
Unescaped left brace in regex is deprecated, passed through in regex; marked by <-- HERE in m/
                    (%{ <-- HERE \w+})
                / at /home/perltest/.cpan/build/Convert-NLS_DATE_FORMAT-0.05-b0tkzg/blib/lib/Convert/NLS_DATE_FORMAT.pm line 116.
t/db-object-manager.t .............. ok
Unescaped left brace in regex is deprecated, passed through in regex; marked by <-- HERE in m/
                    (%{ <-- HERE \w+})
                / at /home/perltest/.cpan/build/Convert-NLS_DATE_FORMAT-0.05-b0tkzg/blib/lib/Convert/NLS_DATE_FORMAT.pm line 116.
t/db-object-mapper.t ............... ok
Unescaped left brace in regex is deprecated, passed through in regex; marked by <-- HERE in m/
                    (%{ <-- HERE \w+})
                / at /home/perltest/.cpan/build/Convert-NLS_DATE_FORMAT-0.05-b0tkzg/blib/lib/Convert/NLS_DATE_FORMAT.pm line 116.
t/db-object-metadata.t ............. ok
Unescaped left brace in regex is deprecated, passed through in regex; marked by <-- HERE in m/
                    (%{ <-- HERE \w+})
                / at /home/perltest/.cpan/build/Convert-NLS_DATE_FORMAT-0.05-b0tkzg/blib/lib/Convert/NLS_DATE_FORMAT.pm line 116.
t/db-object-relationship-auto-2.t .. ok
Unescaped left brace in regex is deprecated, passed through in regex; marked by <-- HERE in m/
                    (%{ <-- HERE \w+})
                / at /home/perltest/.cpan/build/Convert-NLS_DATE_FORMAT-0.05-b0tkzg/blib/lib/Convert/NLS_DATE_FORMAT.pm line 116.
t/db-object-relationship-auto.t .... ok
Unescaped left brace in regex is deprecated, passed through in regex; marked by <-- HERE in m/
                    (%{ <-- HERE \w+})
                / at /home/perltest/.cpan/build/Convert-NLS_DATE_FORMAT-0.05-b0tkzg/blib/lib/Convert/NLS_DATE_FORMAT.pm line 116.
t/db-object-relationship.t ......... ok
Unescaped left brace in regex is deprecated, passed through in regex; marked by <-- HERE in m/
                    (%{ <-- HERE \w+})
                / at /home/perltest/.cpan/build/Convert-NLS_DATE_FORMAT-0.05-b0tkzg/blib/lib/Convert/NLS_DATE_FORMAT.pm line 116.
t/db-object-std-cached.t ........... ok
Unescaped left brace in regex is deprecated, passed through in regex; marked by <-- HERE in m/
                    (%{ <-- HERE \w+})
                / at /home/perltest/.cpan/build/Convert-NLS_DATE_FORMAT-0.05-b0tkzg/blib/lib/Convert/NLS_DATE_FORMAT.pm line 116.
t/db-object-std.t .................. ok
Unescaped left brace in regex is deprecated, passed through in regex; marked by <-- HERE in m/
                    (%{ <-- HERE \w+})
                / at /home/perltest/.cpan/build/Convert-NLS_DATE_FORMAT-0.05-b0tkzg/blib/lib/Convert/NLS_DATE_FORMAT.pm line 116.
t/db-object.t ...................... ok
Unescaped left brace in regex is deprecated, passed through in regex; marked by <-- HERE in m/
                    (%{ <-- HERE \w+})
                / at /home/perltest/.cpan/build/Convert-NLS_DATE_FORMAT-0.05-b0tkzg/blib/lib/Convert/NLS_DATE_FORMAT.pm line 116.
t/deep-joins.t ..................... ok
Unescaped left brace in regex is deprecated, passed through in regex; marked by <-- HERE in m/
                    (%{ <-- HERE \w+})
                / at /home/perltest/.cpan/build/Convert-NLS_DATE_FORMAT-0.05-b0tkzg/blib/lib/Convert/NLS_DATE_FORMAT.pm line 116.
t/inheritance.t .................... ok
Unescaped left brace in regex is deprecated, passed through in regex; marked by <-- HERE in m/
                    (%{ <-- HERE \w+})
                / at /home/perltest/.cpan/build/Convert-NLS_DATE_FORMAT-0.05-b0tkzg/blib/lib/Convert/NLS_DATE_FORMAT.pm line 116.
t/lazy-columns.t ................... ok
Unescaped left brace in regex is deprecated, passed through in regex; marked by <-- HERE in m/
                    (%{ <-- HERE \w+})
                / at /home/perltest/.cpan/build/Convert-NLS_DATE_FORMAT-0.05-b0tkzg/blib/lib/Convert/NLS_DATE_FORMAT.pm line 116.
t/leaks.t .......................... ok
Unescaped left brace in regex is deprecated, passed through in regex; marked by <-- HERE in m/
                    (%{ <-- HERE \w+})
                / at /home/perltest/.cpan/build/Convert-NLS_DATE_FORMAT-0.05-b0tkzg/blib/lib/Convert/NLS_DATE_FORMAT.pm line 116.
Unescaped left brace in regex is deprecated, passed through in regex; marked by <-- HERE in m/
                    (%{ <-- HERE \w+})
                / at /home/perltest/.cpan/build/Convert-NLS_DATE_FORMAT-0.05-b0tkzg/blib/lib/Convert/NLS_DATE_FORMAT.pm line 116.
t/make-modules.t ................... ok
Unescaped left brace in regex is deprecated, passed through in regex; marked by <-- HERE in m/
                    (%{ <-- HERE \w+})
                / at /home/perltest/.cpan/build/Convert-NLS_DATE_FORMAT-0.05-b0tkzg/blib/lib/Convert/NLS_DATE_FORMAT.pm line 116.
t/makemethods-db.t ................. ok
Unescaped left brace in regex is deprecated, passed through in regex; marked by <-- HERE in m/
                    (%{ <-- HERE \w+})
                / at /home/perltest/.cpan/build/Convert-NLS_DATE_FORMAT-0.05-b0tkzg/blib/lib/Convert/NLS_DATE_FORMAT.pm line 116.
t/makemethods.t .................... ok
Unescaped left brace in regex is deprecated, passed through in regex; marked by <-- HERE in m/
                    (%{ <-- HERE \w+})
                / at /home/perltest/.cpan/build/Convert-NLS_DATE_FORMAT-0.05-b0tkzg/blib/lib/Convert/NLS_DATE_FORMAT.pm line 116.
t/multi-many-the-hard-way.t ........ ok
Unescaped left brace in regex is deprecated, passed through in regex; marked by <-- HERE in m/
                    (%{ <-- HERE \w+})
                / at /home/perltest/.cpan/build/Convert-NLS_DATE_FORMAT-0.05-b0tkzg/blib/lib/Convert/NLS_DATE_FORMAT.pm line 116.
t/multi-pk-sequences.t ............. ok
Unescaped left brace in regex is deprecated, passed through in regex; marked by <-- HERE in m/
                    (%{ <-- HERE \w+})
                / at /home/perltest/.cpan/build/Convert-NLS_DATE_FORMAT-0.05-b0tkzg/blib/lib/Convert/NLS_DATE_FORMAT.pm line 116.
t/nested-joins.t ................... ok
Unescaped left brace in regex is deprecated, passed through in regex; marked by <-- HERE in m/
                    (%{ <-- HERE \w+})
                / at /home/perltest/.cpan/build/Convert-NLS_DATE_FORMAT-0.05-b0tkzg/blib/lib/Convert/NLS_DATE_FORMAT.pm line 116.
t/one-to-many-reset.t .............. ok
Unescaped left brace in regex is deprecated, passed through in regex; marked by <-- HERE in m/
                    (%{ <-- HERE \w+})
                / at /home/perltest/.cpan/build/Convert-NLS_DATE_FORMAT-0.05-b0tkzg/blib/lib/Convert/NLS_DATE_FORMAT.pm line 116.
t/pk-fk-columns.t .................. ok
t/pod.t ............................ ok
Unescaped left brace in regex is deprecated, passed through in regex; marked by <-- HERE in m/
                    (%{ <-- HERE \w+})
                / at /home/perltest/.cpan/build/Convert-NLS_DATE_FORMAT-0.05-b0tkzg/blib/lib/Convert/NLS_DATE_FORMAT.pm line 116.
t/query-builder.t .................. ok
Unescaped left brace in regex is deprecated, passed through in regex; marked by <-- HERE in m/
                    (%{ <-- HERE \w+})
                / at /home/perltest/.cpan/build/Convert-NLS_DATE_FORMAT-0.05-b0tkzg/blib/lib/Convert/NLS_DATE_FORMAT.pm line 116.
t/rt-cpan-45836.t .................. ok
Unescaped left brace in regex is deprecated, passed through in regex; marked by <-- HERE in m/
                    (%{ <-- HERE \w+})
                / at /home/perltest/.cpan/build/Convert-NLS_DATE_FORMAT-0.05-b0tkzg/blib/lib/Convert/NLS_DATE_FORMAT.pm line 116.
t/save-cascade.t ................... ok
Unescaped left brace in regex is deprecated, passed through in regex; marked by <-- HERE in m/
                    (%{ <-- HERE \w+})
                / at /home/perltest/.cpan/build/Convert-NLS_DATE_FORMAT-0.05-b0tkzg/blib/lib/Convert/NLS_DATE_FORMAT.pm line 116.
t/schema-override.t ................ ok
Unescaped left brace in regex is deprecated, passed through in regex; marked by <-- HERE in m/
                    (%{ <-- HERE \w+})
                / at /home/perltest/.cpan/build/Convert-NLS_DATE_FORMAT-0.05-b0tkzg/blib/lib/Convert/NLS_DATE_FORMAT.pm line 116.
t/spot-check-01.t .................. ok
Unescaped left brace in regex is deprecated, passed through in regex; marked by <-- HERE in m/
                    (%{ <-- HERE \w+})
                / at /home/perltest/.cpan/build/Convert-NLS_DATE_FORMAT-0.05-b0tkzg/blib/lib/Convert/NLS_DATE_FORMAT.pm line 116.
t/spot-check-02.t .................. ok
t/spot-check-03.t .................. ok
Unescaped left brace in regex is deprecated, passed through in regex; marked by <-- HERE in m/
                    (%{ <-- HERE \w+})
                / at /home/perltest/.cpan/build/Convert-NLS_DATE_FORMAT-0.05-b0tkzg/blib/lib/Convert/NLS_DATE_FORMAT.pm line 116.
t/spot-check-04.t .................. ok
Unescaped left brace in regex is deprecated, passed through in regex; marked by <-- HERE in m/
                    (%{ <-- HERE \w+})
                / at /home/perltest/.cpan/build/Convert-NLS_DATE_FORMAT-0.05-b0tkzg/blib/lib/Convert/NLS_DATE_FORMAT.pm line 116.
t/spot-check-05.t .................. ok
Unescaped left brace in regex is deprecated, passed through in regex; marked by <-- HERE in m/
                    (%{ <-- HERE \w+})
                / at /home/perltest/.cpan/build/Convert-NLS_DATE_FORMAT-0.05-b0tkzg/blib/lib/Convert/NLS_DATE_FORMAT.pm line 116.
t/spot-check-06.t .................. ok
Unescaped left brace in regex is deprecated, passed through in regex; marked by <-- HERE in m/
                    (%{ <-- HERE \w+})
                / at /home/perltest/.cpan/build/Convert-NLS_DATE_FORMAT-0.05-b0tkzg/blib/lib/Convert/NLS_DATE_FORMAT.pm line 116.
t/spot-check-07.t .................. ok
Unescaped left brace in regex is deprecated, passed through in regex; marked by <-- HERE in m/
                    (%{ <-- HERE \w+})
                / at /home/perltest/.cpan/build/Convert-NLS_DATE_FORMAT-0.05-b0tkzg/blib/lib/Convert/NLS_DATE_FORMAT.pm line 116.
t/spot-check-08.t .................. ok
Unescaped left brace in regex is deprecated, passed through in regex; marked by <-- HERE in m/
                    (%{ <-- HERE \w+})
                / at /home/perltest/.cpan/build/Convert-NLS_DATE_FORMAT-0.05-b0tkzg/blib/lib/Convert/NLS_DATE_FORMAT.pm line 116.
t/spot-check-09.t .................. ok
Unescaped left brace in regex is deprecated, passed through in regex; marked by <-- HERE in m/
                    (%{ <-- HERE \w+})
                / at /home/perltest/.cpan/build/Convert-NLS_DATE_FORMAT-0.05-b0tkzg/blib/lib/Convert/NLS_DATE_FORMAT.pm line 116.
t/spot-check-10.t .................. ok
Unescaped left brace in regex is deprecated, passed through in regex; marked by <-- HERE in m/
                    (%{ <-- HERE \w+})
                / at /home/perltest/.cpan/build/Convert-NLS_DATE_FORMAT-0.05-b0tkzg/blib/lib/Convert/NLS_DATE_FORMAT.pm line 116.
t/spot-check-11.t .................. ok
Unescaped left brace in regex is deprecated, passed through in regex; marked by <-- HERE in m/
                    (%{ <-- HERE \w+})
                / at /home/perltest/.cpan/build/Convert-NLS_DATE_FORMAT-0.05-b0tkzg/blib/lib/Convert/NLS_DATE_FORMAT.pm line 116.
t/spot-check-12.t .................. ok
Unescaped left brace in regex is deprecated, passed through in regex; marked by <-- HERE in m/
                    (%{ <-- HERE \w+})
                / at /home/perltest/.cpan/build/Convert-NLS_DATE_FORMAT-0.05-b0tkzg/blib/lib/Convert/NLS_DATE_FORMAT.pm line 116.
t/spot-check-13.t .................. ok
Unescaped left brace in regex is deprecated, passed through in regex; marked by <-- HERE in m/
                    (%{ <-- HERE \w+})
                / at /home/perltest/.cpan/build/Convert-NLS_DATE_FORMAT-0.05-b0tkzg/blib/lib/Convert/NLS_DATE_FORMAT.pm line 116.
t/spot-check-14.t .................. ok
Unescaped left brace in regex is deprecated, passed through in regex; marked by <-- HERE in m/
                    (%{ <-- HERE \w+})
                / at /home/perltest/.cpan/build/Convert-NLS_DATE_FORMAT-0.05-b0tkzg/blib/lib/Convert/NLS_DATE_FORMAT.pm line 116.
t/undef-overrides-default.t ........ ok
Unescaped left brace in regex is deprecated, passed through in regex; marked by <-- HERE in m/
                    (%{ <-- HERE \w+})
                / at /home/perltest/.cpan/build/Convert-NLS_DATE_FORMAT-0.05-b0tkzg/blib/lib/Convert/NLS_DATE_FORMAT.pm line 116.
t/unique-key-prefs.t ............... ok
All tests successful.
Files=67, Tests=15335, 49 wallclock secs ( 1.26 usr  0.08 sys + 24.92 cusr  2.56 csys = 28.82 CPU)
Result: PASS

------------------------------
PREREQUISITES
------------------------------

Prerequisite modules loaded:

requires:

    Module               Need     Have    
    -------------------- -------- --------
    Bit::Vector          0        7.4     
    Clone                0.29     0.38    
    Cwd                  0        3.56    
    Data::Dumper         2.121    2.158   
    DateTime             0        1.20    
    DBI                  1.40     1.633   
    File::Path           0        2.09    
    File::Spec           0        3.56    
    List::MoreUtils      0        0.413   
    Math::BigInt         1.77     1.9997  
    perl                 5.006000 5.022000
    Rose::DateTime::Util 0.532    0.540   
    Rose::DB             0.763    0.777   
    Rose::Object         0.854    0.860   
    Scalar::Util         0        1.41    
    Test::More           0        1.001014
    Time::Clock          1.00     1.03    

build_requires:

    Module               Need     Have    
    -------------------- -------- --------
    ExtUtils::MakeMaker  0        7.04_01 

configure_requires:

    Module               Need     Have    
    -------------------- -------- --------
    ExtUtils::MakeMaker  0        7.04_01 


------------------------------
ENVIRONMENT AND OTHER CONTEXT
------------------------------

Environment variables:

    AUTOMATED_TESTING = 1
    LANG = en_US.UTF-8
    NONINTERACTIVE_TESTING = 1
    PATH = /home/perltest/sysperl/bin:/home/perltest/perl5/perlbrew/bin:/home/perltest/perl5/perlbrew/perls/perl-5.22.0-thread-multi/bin:/home/perltest/perltest/bin:/home/perltest/perl5/perlbrew/bin:/home/perltest/perl5/perlbrew/perls/perl-5.23.0/bin:/usr/local/sbin:/usr/local/bin:/usr/sbin:/usr/bin:/sbin:/bin:/usr/games:/usr/local/games:/home/perltest/perltest/bin
    PERL5LIB = /home/perltest/.cpan/build/Rose-DBx-TestDB-0.05-prd37P/blib/arch:/home/perltest/.cpan/build/Rose-DBx-TestDB-0.05-prd37P/blib/lib:/home/perltest/.cpan/build/Rose-DB-0.777-dNqL7B/blib/arch:/home/perltest/.cpan/build/Rose-DB-0.777-dNqL7B/blib/lib:/home/perltest/.cpan/build/DateTime-Format-Oracle-0.06-X6wsjr/blib/arch:/home/perltest/.cpan/build/DateTime-Format-Oracle-0.06-X6wsjr/blib/lib:/home/perltest/.cpan/build/Convert-NLS_DATE_FORMAT-0.05-b0tkzg/blib/arch:/home/perltest/.cpan/build/Convert-NLS_DATE_FORMAT-0.05-b0tkzg/blib/lib:/home/perltest/.cpan/build/Bit-Vector-7.4-nIPNS3/blib/arch:/home/perltest/.cpan/build/Bit-Vector-7.4-nIPNS3/blib/lib:/home/perltest/.cpan/build/DateTime-Format-Pg-0.16011-W9Afqm/blib/arch:/home/perltest/.cpan/build/DateTime-Format-Pg-0.16011-W9Afqm/blib/lib:/home/perltest/.cpan/build/SQL-ReservedWords-0.8-Pm_iIF/blib/arch:/home/perltest/.cpan/build/SQL-ReservedWords-0.8-Pm_iIF/blib/lib:/home/perltest/.cpan/build/DateTime-Format-MySQL-0.05-UaWrpF/blib/arch:/home/perltest/.cpan/build/DateTime-Format-MySQL-0.05-UaWrpF/blib/lib:/home/perltest/.cpan/build/DateTime-Format-Builder-0.81-1pAfgh/blib/arch:/home/perltest/.cpan/build/DateTime-Format-Builder-0.81-1pAfgh/blib/lib:/home/perltest/.cpan/build/Class-Factory-Util-1.7-tmbiWC/blib/arch:/home/perltest/.cpan/build/Class-Factory-Util-1.7-tmbiWC/blib/lib:/home/perltest/.cpan/build/Time-Clock-1.03-vckgB_/blib/arch:/home/perltest/.cpan/build/Time-Clock-1.03-vckgB_/blib/lib:/home/perltest/.cpan/build/Rose-DateTime-0.540-EYUOra/blib/arch:/home/perltest/.cpan/build/Rose-DateTime-0.540-EYUOra/blib/lib:/home/perltest/.cpan/build/Rose-Object-0.860-AYmXOu/blib/arch:/home/perltest/.cpan/build/Rose-Object-0.860-AYmXOu/blib/lib:/home/perltest/sysperl/lib/perl5
    PERL5OPT = 
    PERL5_CPANPLUS_IS_RUNNING = 5210
    PERL5_CPAN_IS_RUNNING = 5210
    PERL5_CPAN_IS_RUNNING_IN_RECURSION = 1281,5210
    PERLBREW_BASHRC_VERSION = 0.73
    PERLBREW_HOME = /home/perltest/.perlbrew
    PERLBREW_LIB = 
    PERLBREW_MANPATH = /home/perltest/perl5/perlbrew/perls/perl-5.22.0-thread-multi/man
    PERLBREW_PATH = /home/perltest/perl5/perlbrew/bin:/home/perltest/perl5/perlbrew/perls/perl-5.22.0-thread-multi/bin
    PERLBREW_PERL = perl-5.22.0-thread-multi
    PERLBREW_ROOT = /home/perltest/perl5/perlbrew
    PERLBREW_VERSION = 0.73
    PERL_CR_SMOKER_CURRENT = Rose-DBx-Object-MakeMethods-EKSBlowfish-0.07
    PERL_EXTUTILS_AUTOINSTALL = --defaultdeps
    PERL_LOCAL_LIB_ROOT = /home/perltest/sysperl:
    PERL_MB_OPT = --install_base "//home/perltest/sysperl"
    PERL_MM_OPT = INSTALL_BASE=/home/perltest/sysperl
    PERL_MM_USE_DEFAULT = 1
    SHELL = /bin/bash
    TERM = screen

Perl special variables (and OS-specific diagnostics, for MSWin32):

    $^X = /data/perl5/perlbrew/perls/perl-5.22.0-thread-multi/bin/perl
    $UID/$EUID = 2000 / 2000
    $GID = 2000 2000
    $EGID = 2000 2000

Perl module toolchain versions installed:

    Module              Have    
    ------------------- --------
    CPAN                2.11    
    CPAN::Meta          2.150001
    Cwd                 3.56    
    ExtUtils::CBuilder  0.280221
    ExtUtils::Command   1.20    
    ExtUtils::Install   2.04    
    ExtUtils::MakeMaker 7.04_01 
    ExtUtils::Manifest  1.70    
    ExtUtils::ParseXS   3.28    
    File::Spec          3.56    
    JSON                2.90    
    JSON::PP            2.27300 
    Module::Build       0.4214  
    Module::Signature   n/a     
    Parse::CPAN::Meta   1.4414  
    Test::Harness       3.35    
    Test::More          1.001014
    YAML                1.15    
    YAML::Syck          n/a     
    version             0.9909  


--

Summary of my perl5 (revision 5 version 22 subversion 0) configuration:
   
  Platform:
    osname=linux, osvers=3.19.0-18-generic, archname=x86_64-linux-thread-multi
    uname='linux perltest.antelope.net 3.19.0-18-generic #18-ubuntu smp tue may 19 18:31:35 utc 2015 x86_64 x86_64 x86_64 gnulinux '
    config_args='-de -Dprefix=/home/perltest/perl5/perlbrew/perls/perl-5.22.0-thread-multi -Dusethreads -Dusemultiplicity -Aeval:scriptdir=/home/perltest/perl5/perlbrew/perls/perl-5.22.0-thread-multi/bin'
    hint=recommended, useposix=true, d_sigaction=define
    useithreads=define, usemultiplicity=define
    use64bitint=define, use64bitall=define, uselongdouble=undef
    usemymalloc=n, bincompat5005=undef
  Compiler:
    cc='cc', ccflags ='-D_REENTRANT -D_GNU_SOURCE -fwrapv -fno-strict-aliasing -pipe -fstack-protector-strong -I/usr/local/include -D_LARGEFILE_SOURCE -D_FILE_OFFSET_BITS=64',
    optimize='-O2',
    cppflags='-D_REENTRANT -D_GNU_SOURCE -fwrapv -fno-strict-aliasing -pipe -fstack-protector-strong -I/usr/local/include'
    ccversion='', gccversion='4.9.2', gccosandvers=''
    intsize=4, longsize=8, ptrsize=8, doublesize=8, byteorder=12345678, doublekind=3
    d_longlong=define, longlongsize=8, d_longdbl=define, longdblsize=16, longdblkind=3
    ivtype='long', ivsize=8, nvtype='double', nvsize=8, Off_t='off_t', lseeksize=8
    alignbytes=8, prototype=define
  Linker and Libraries:
    ld='cc', ldflags =' -fstack-protector-strong -L/usr/local/lib'
    libpth=/usr/local/lib /usr/lib/gcc/x86_64-linux-gnu/4.9/include-fixed /usr/include/x86_64-linux-gnu /usr/lib /lib/x86_64-linux-gnu /lib/../lib /usr/lib/x86_64-linux-gnu /usr/lib/../lib /lib
    libs=-lpthread -lnsl -ldb -ldl -lm -lcrypt -lutil -lc
    perllibs=-lpthread -lnsl -ldl -lm -lcrypt -lutil -lc
    libc=libc-2.21.so, so=so, useshrplib=false, libperl=libperl.a
    gnulibc_version='2.21'
  Dynamic Linking:
    dlsrc=dl_dlopen.xs, dlext=so, d_dlsymun=undef, ccdlflags='-Wl,-E'
    cccdlflags='-fPIC', lddlflags='-shared -O2 -L/usr/local/lib -fstack-protector-strong'


Characteristics of this binary (from libperl): 
  Compile-time options: HAS_TIMES MULTIPLICITY PERLIO_LAYERS
                        PERL_DONT_CREATE_GVSV
                        PERL_HASH_FUNC_ONE_AT_A_TIME_HARD
                        PERL_IMPLICIT_CONTEXT PERL_MALLOC_WRAP
                        PERL_NEW_COPY_ON_WRITE PERL_PRESERVE_IVUV
                        USE_64_BIT_ALL USE_64_BIT_INT USE_ITHREADS
                        USE_LARGE_FILES USE_LOCALE USE_LOCALE_COLLATE
                        USE_LOCALE_CTYPE USE_LOCALE_NUMERIC USE_LOCALE_TIME
                        USE_PERLIO USE_PERL_ATOF USE_REENTRANT_API
  Locally applied patches:
	Devel::PatchPerl 1.38
  Built under linux
  Compiled at Jul 15 2015 23:29:02
  %ENV:
    PERL5LIB="/home/perltest/.cpan/build/Rose-DBx-TestDB-0.05-prd37P/blib/arch:/home/perltest/.cpan/build/Rose-DBx-TestDB-0.05-prd37P/blib/lib:/home/perltest/.cpan/build/Rose-DB-0.777-dNqL7B/blib/arch:/home/perltest/.cpan/build/Rose-DB-0.777-dNqL7B/blib/lib:/home/perltest/.cpan/build/DateTime-Format-Oracle-0.06-X6wsjr/blib/arch:/home/perltest/.cpan/build/DateTime-Format-Oracle-0.06-X6wsjr/blib/lib:/home/perltest/.cpan/build/Convert-NLS_DATE_FORMAT-0.05-b0tkzg/blib/arch:/home/perltest/.cpan/build/Convert-NLS_DATE_FORMAT-0.05-b0tkzg/blib/lib:/home/perltest/.cpan/build/Bit-Vector-7.4-nIPNS3/blib/arch:/home/perltest/.cpan/build/Bit-Vector-7.4-nIPNS3/blib/lib:/home/perltest/.cpan/build/DateTime-Format-Pg-0.16011-W9Afqm/blib/arch:/home/perltest/.cpan/build/DateTime-Format-Pg-0.16011-W9Afqm/blib/lib:/home/perltest/.cpan/build/SQL-ReservedWords-0.8-Pm_iIF/blib/arch:/home/perltest/.cpan/build/SQL-ReservedWords-0.8-Pm_iIF/blib/lib:/home/perltest/.cpan/build/DateTime-Format-MySQL-0.05-UaWrpF/blib/arch:/home/perltest/.cpan/build/DateTime-Format-MySQL-0.05-UaWrpF/blib/lib:/home/perltest/.cpan/build/DateTime-Format-Builder-0.81-1pAfgh/blib/arch:/home/perltest/.cpan/build/DateTime-Format-Builder-0.81-1pAfgh/blib/lib:/home/perltest/.cpan/build/Class-Factory-Util-1.7-tmbiWC/blib/arch:/home/perltest/.cpan/build/Class-Factory-Util-1.7-tmbiWC/blib/lib:/home/perltest/.cpan/build/Time-Clock-1.03-vckgB_/blib/arch:/home/perltest/.cpan/build/Time-Clock-1.03-vckgB_/blib/lib:/home/perltest/.cpan/build/Rose-DateTime-0.540-EYUOra/blib/arch:/home/perltest/.cpan/build/Rose-DateTime-0.540-EYUOra/blib/lib:/home/perltest/.cpan/build/Rose-Object-0.860-AYmXOu/blib/arch:/home/perltest/.cpan/build/Rose-Object-0.860-AYmXOu/blib/lib:/home/perltest/sysperl/lib/perl5"
    PERL5OPT=""
    PERL5_CPANPLUS_IS_RUNNING="5210"
    PERL5_CPAN_IS_RUNNING="5210"
    PERL5_CPAN_IS_RUNNING_IN_RECURSION="1281,5210"
    PERLBREW_BASHRC_VERSION="0.73"
    PERLBREW_HOME="/home/perltest/.perlbrew"
    PERLBREW_LIB=""
    PERLBREW_MANPATH="/home/perltest/perl5/perlbrew/perls/perl-5.22.0-thread-multi/man"
    PERLBREW_PATH="/home/perltest/perl5/perlbrew/bin:/home/perltest/perl5/perlbrew/perls/perl-5.22.0-thread-multi/bin"
    PERLBREW_PERL="perl-5.22.0-thread-multi"
    PERLBREW_ROOT="/home/perltest/perl5/perlbrew"
    PERLBREW_VERSION="0.73"
    PERL_CR_SMOKER_CURRENT="Rose-DBx-Object-MakeMethods-EKSBlowfish-0.07"
    PERL_EXTUTILS_AUTOINSTALL="--defaultdeps"
    PERL_LOCAL_LIB_ROOT="/home/perltest/sysperl:"
    PERL_MB_OPT="--install_base "//home/perltest/sysperl""
    PERL_MM_OPT="INSTALL_BASE=/home/perltest/sysperl"
    PERL_MM_USE_DEFAULT="1"
  @INC:
    /home/perltest/.cpan/build/Rose-DBx-TestDB-0.05-prd37P/blib/arch
    /home/perltest/.cpan/build/Rose-DBx-TestDB-0.05-prd37P/blib/lib
    /home/perltest/.cpan/build/Rose-DB-0.777-dNqL7B/blib/arch
    /home/perltest/.cpan/build/Rose-DB-0.777-dNqL7B/blib/lib
    /home/perltest/.cpan/build/DateTime-Format-Oracle-0.06-X6wsjr/blib/arch
    /home/perltest/.cpan/build/DateTime-Format-Oracle-0.06-X6wsjr/blib/lib
    /home/perltest/.cpan/build/Convert-NLS_DATE_FORMAT-0.05-b0tkzg/blib/arch
    /home/perltest/.cpan/build/Convert-NLS_DATE_FORMAT-0.05-b0tkzg/blib/lib
    /home/perltest/.cpan/build/Bit-Vector-7.4-nIPNS3/blib/arch
    /home/perltest/.cpan/build/Bit-Vector-7.4-nIPNS3/blib/lib
    /home/perltest/.cpan/build/DateTime-Format-Pg-0.16011-W9Afqm/blib/arch
    /home/perltest/.cpan/build/DateTime-Format-Pg-0.16011-W9Afqm/blib/lib
    /home/perltest/.cpan/build/SQL-ReservedWords-0.8-Pm_iIF/blib/arch
    /home/perltest/.cpan/build/SQL-ReservedWords-0.8-Pm_iIF/blib/lib
    /home/perltest/.cpan/build/DateTime-Format-MySQL-0.05-UaWrpF/blib/arch
    /home/perltest/.cpan/build/DateTime-Format-MySQL-0.05-UaWrpF/blib/lib
    /home/perltest/.cpan/build/DateTime-Format-Builder-0.81-1pAfgh/blib/arch
    /home/perltest/.cpan/build/DateTime-Format-Builder-0.81-1pAfgh/blib/lib
    /home/perltest/.cpan/build/Class-Factory-Util-1.7-tmbiWC/blib/arch
    /home/perltest/.cpan/build/Class-Factory-Util-1.7-tmbiWC/blib/lib
    /home/perltest/.cpan/build/Time-Clock-1.03-vckgB_/blib/arch
    /home/perltest/.cpan/build/Time-Clock-1.03-vckgB_/blib/lib
    /home/perltest/.cpan/build/Rose-DateTime-0.540-EYUOra/blib/arch
    /home/perltest/.cpan/build/Rose-DateTime-0.540-EYUOra/blib/lib
    /home/perltest/.cpan/build/Rose-Object-0.860-AYmXOu/blib/arch
    /home/perltest/.cpan/build/Rose-Object-0.860-AYmXOu/blib/lib
    /home/perltest/sysperl/lib/perl5
    /home/perltest/perl5/perlbrew/perls/perl-5.22.0-thread-multi/lib/site_perl/5.22.0/x86_64-linux-thread-multi
    /home/perltest/perl5/perlbrew/perls/perl-5.22.0-thread-multi/lib/site_perl/5.22.0
    /home/perltest/perl5/perlbrew/perls/perl-5.22.0-thread-multi/lib/5.22.0/x86_64-linux-thread-multi
    /home/perltest/perl5/perlbrew/perls/perl-5.22.0-thread-multi/lib/5.22.0
    .