Report for libapreq2-2.13

Back
From: metabase:user:15c6debe-b638-11e6-8ec8-f42bcddd27ba
Subject: FAIL libapreq2-2.13 v5.20.2 GNU/Linux
Date: 2016-12-04T02:48:41Z

This distribution has been tested as part of the CPAN Testers
project, supporting the Perl programming language.  See
http://wiki.cpantesters.org/ for more information or email
questions to cpan-testers-discuss@perl.org


--
Dear Issac Goldstand,

This is a computer-generated report for libapreq2-2.13
on perl 5.20.2, created by CPAN-Reporter-1.2018.

Thank you for uploading your work to CPAN.  However, there was a problem
testing your distribution.

If you think this report is invalid, please consult the CPAN Testers Wiki
for suggestions on how to avoid getting FAIL reports for missing library
or binary dependencies, unsupported operating systems, and so on:

http://wiki.cpantesters.org/wiki/CPANAuthorNotes

Sections of this report:

    * Tester comments
    * Program output
    * Prerequisites
    * Environment and other context

------------------------------
TESTER COMMENTS
------------------------------

Additional comments from tester:

this report is from an automated smoke testing program
and was not reviewed by a human for accuracy

------------------------------
PROGRAM OUTPUT
------------------------------

Output from '/usr/bin/make test':

Making all in .
make[1]: Entering directory '/home/mb/.cpan/build/libapreq2-2.13-0'
make[1]: Nothing to be done for 'all-am'.
make[1]: Leaving directory '/home/mb/.cpan/build/libapreq2-2.13-0'
Making all in include
make[1]: Entering directory '/home/mb/.cpan/build/libapreq2-2.13-0/include'
/usr/bin/make  all-am
make[2]: Entering directory '/home/mb/.cpan/build/libapreq2-2.13-0/include'
make[2]: Leaving directory '/home/mb/.cpan/build/libapreq2-2.13-0/include'
make[1]: Leaving directory '/home/mb/.cpan/build/libapreq2-2.13-0/include'
Making all in library
make[1]: Entering directory '/home/mb/.cpan/build/libapreq2-2.13-0/library'
/usr/bin/make  all-am
make[2]: Entering directory '/home/mb/.cpan/build/libapreq2-2.13-0/library'
make[2]: Nothing to be done for 'all-am'.
make[2]: Leaving directory '/home/mb/.cpan/build/libapreq2-2.13-0/library'
make[1]: Leaving directory '/home/mb/.cpan/build/libapreq2-2.13-0/library'
Making all in module
make[1]: Entering directory '/home/mb/.cpan/build/libapreq2-2.13-0/module'
Making all in apache2
make[2]: Entering directory '/home/mb/.cpan/build/libapreq2-2.13-0/module/apache2'
make[2]: Nothing to be done for 'all'.
make[2]: Leaving directory '/home/mb/.cpan/build/libapreq2-2.13-0/module/apache2'
make[2]: Entering directory '/home/mb/.cpan/build/libapreq2-2.13-0/module'
make[2]: Nothing to be done for 'all-am'.
make[2]: Leaving directory '/home/mb/.cpan/build/libapreq2-2.13-0/module'
make[1]: Leaving directory '/home/mb/.cpan/build/libapreq2-2.13-0/module'
Making all in glue
make[1]: Entering directory '/home/mb/.cpan/build/libapreq2-2.13-0/glue'
cd perl; /usr/bin/make
make[2]: Entering directory '/home/mb/.cpan/build/libapreq2-2.13-0/glue/perl'
make[3]: Entering directory '/home/mb/.cpan/build/libapreq2-2.13-0/glue/perl/xs'
make[4]: Entering directory '/home/mb/.cpan/build/libapreq2-2.13-0/glue/perl/xs/APR'
make[5]: Entering directory '/home/mb/.cpan/build/libapreq2-2.13-0/glue/perl/xs/APR/Request'
make[6]: Entering directory '/home/mb/.cpan/build/libapreq2-2.13-0/glue/perl/xs/APR/Request/Apache2'
"/usr/bin/perl" -MExtUtils::Command::MM -e 'cp_nonempty' -- Apache2.bs ../../../../blib/arch/auto/APR/Request/Apache2/Apache2.bs 644
Manifying 1 pod document
make[6]: Leaving directory '/home/mb/.cpan/build/libapreq2-2.13-0/glue/perl/xs/APR/Request/Apache2'
make[6]: Entering directory '/home/mb/.cpan/build/libapreq2-2.13-0/glue/perl/xs/APR/Request/CGI'
"/usr/bin/perl" -MExtUtils::Command::MM -e 'cp_nonempty' -- CGI.bs ../../../../blib/arch/auto/APR/Request/CGI/CGI.bs 644
Manifying 1 pod document
make[6]: Leaving directory '/home/mb/.cpan/build/libapreq2-2.13-0/glue/perl/xs/APR/Request/CGI'
make[6]: Entering directory '/home/mb/.cpan/build/libapreq2-2.13-0/glue/perl/xs/APR/Request/Cookie'
"/usr/bin/perl" -MExtUtils::Command::MM -e 'cp_nonempty' -- Cookie.bs ../../../../blib/arch/auto/APR/Request/Cookie/Cookie.bs 644
Manifying 1 pod document
make[6]: Leaving directory '/home/mb/.cpan/build/libapreq2-2.13-0/glue/perl/xs/APR/Request/Cookie'
make[6]: Entering directory '/home/mb/.cpan/build/libapreq2-2.13-0/glue/perl/xs/APR/Request/Error'
"/usr/bin/perl" -MExtUtils::Command::MM -e 'cp_nonempty' -- Error.bs ../../../../blib/arch/auto/APR/Request/Error/Error.bs 644
Manifying 1 pod document
make[6]: Leaving directory '/home/mb/.cpan/build/libapreq2-2.13-0/glue/perl/xs/APR/Request/Error'
make[6]: Entering directory '/home/mb/.cpan/build/libapreq2-2.13-0/glue/perl/xs/APR/Request/Hook'
"/usr/bin/perl" -MExtUtils::Command::MM -e 'cp_nonempty' -- Hook.bs ../../../../blib/arch/auto/APR/Request/Hook/Hook.bs 644
Manifying 1 pod document
make[6]: Leaving directory '/home/mb/.cpan/build/libapreq2-2.13-0/glue/perl/xs/APR/Request/Hook'
make[6]: Entering directory '/home/mb/.cpan/build/libapreq2-2.13-0/glue/perl/xs/APR/Request/Param'
"/usr/bin/perl" -MExtUtils::Command::MM -e 'cp_nonempty' -- Param.bs ../../../../blib/arch/auto/APR/Request/Param/Param.bs 644
Manifying 1 pod document
make[6]: Leaving directory '/home/mb/.cpan/build/libapreq2-2.13-0/glue/perl/xs/APR/Request/Param'
make[6]: Entering directory '/home/mb/.cpan/build/libapreq2-2.13-0/glue/perl/xs/APR/Request/Parser'
"/usr/bin/perl" -MExtUtils::Command::MM -e 'cp_nonempty' -- Parser.bs ../../../../blib/arch/auto/APR/Request/Parser/Parser.bs 644
Manifying 1 pod document
make[6]: Leaving directory '/home/mb/.cpan/build/libapreq2-2.13-0/glue/perl/xs/APR/Request/Parser'
"/usr/bin/perl" -MExtUtils::Command::MM -e 'cp_nonempty' -- Request.bs ../../../blib/arch/auto/APR/Request/Request.bs 644
Manifying 1 pod document
make[5]: Leaving directory '/home/mb/.cpan/build/libapreq2-2.13-0/glue/perl/xs/APR/Request'
make[4]: Leaving directory '/home/mb/.cpan/build/libapreq2-2.13-0/glue/perl/xs/APR'
make[3]: Leaving directory '/home/mb/.cpan/build/libapreq2-2.13-0/glue/perl/xs'
Manifying 3 pod documents
make[2]: Leaving directory '/home/mb/.cpan/build/libapreq2-2.13-0/glue/perl'
make[1]: Leaving directory '/home/mb/.cpan/build/libapreq2-2.13-0/glue'
cd library; /usr/bin/make test
make[1]: Entering directory '/home/mb/.cpan/build/libapreq2-2.13-0/library'
/usr/bin/make  all-am
make[2]: Entering directory '/home/mb/.cpan/build/libapreq2-2.13-0/library'
make[2]: Nothing to be done for 'all-am'.
make[2]: Leaving directory '/home/mb/.cpan/build/libapreq2-2.13-0/library'
cd t; /usr/bin/make test
make[2]: Entering directory '/home/mb/.cpan/build/libapreq2-2.13-0/library/t'
gcc -DHAVE_CONFIG_H -I. -I../../include  -I/usr/include/apr-1.0  -I/usr/include -DLINUX -D_REENTRANT -D_GNU_SOURCE  -g -O2 -MT version.o -MD -MP -MF .deps/version.Tpo -c -o version.o version.c
mv -f .deps/version.Tpo .deps/version.Po
gcc -DHAVE_CONFIG_H -I. -I../../include  -I/usr/include/apr-1.0  -I/usr/include -DLINUX -D_REENTRANT -D_GNU_SOURCE  -g -O2 -MT at.o -MD -MP -MF .deps/at.Tpo -c -o at.o at.c
mv -f .deps/at.Tpo .deps/at.Po
rm -f libapache_test.a
ar cru libapache_test.a at.o 
ranlib libapache_test.a
/bin/bash ../../libtool --tag=CC   --mode=link gcc  -g -O2 `/home/mb/.cpan/build/libapreq2-2.13-0/apreq2-config --link-libtool --libs`  /usr/lib/x86_64-linux-gnu/libapr-1.la /usr/lib/x86_64-linux-gnu/libaprutil-1.la  -o version version.o libapache_test.a 
mkdir .libs
gcc -g -O2 -o .libs/version version.o  /home/mb/.cpan/build/libapreq2-2.13-0/library/.libs/libapreq2.so /usr/lib/x86_64-linux-gnu/libapr-1.so /usr/lib/x86_64-linux-gnu/libaprutil-1.so libapache_test.a 
creating version
echo "#!perl" > version.t
echo "exec './version'" >> version.t
gcc -DHAVE_CONFIG_H -I. -I../../include  -I/usr/include/apr-1.0  -I/usr/include -DLINUX -D_REENTRANT -D_GNU_SOURCE  -g -O2 -MT cookie.o -MD -MP -MF .deps/cookie.Tpo -c -o cookie.o cookie.c
mv -f .deps/cookie.Tpo .deps/cookie.Po
/bin/bash ../../libtool --tag=CC   --mode=link gcc  -g -O2 `/home/mb/.cpan/build/libapreq2-2.13-0/apreq2-config --link-libtool --libs`  /usr/lib/x86_64-linux-gnu/libapr-1.la /usr/lib/x86_64-linux-gnu/libaprutil-1.la  -o cookie cookie.o libapache_test.a 
gcc -g -O2 -o .libs/cookie cookie.o  /home/mb/.cpan/build/libapreq2-2.13-0/library/.libs/libapreq2.so /usr/lib/x86_64-linux-gnu/libapr-1.so /usr/lib/x86_64-linux-gnu/libaprutil-1.so libapache_test.a 
creating cookie
echo "#!perl" > cookie.t
echo "exec './cookie'" >> cookie.t
gcc -DHAVE_CONFIG_H -I. -I../../include  -I/usr/include/apr-1.0  -I/usr/include -DLINUX -D_REENTRANT -D_GNU_SOURCE  -g -O2 -MT params.o -MD -MP -MF .deps/params.Tpo -c -o params.o params.c
mv -f .deps/params.Tpo .deps/params.Po
/bin/bash ../../libtool --tag=CC   --mode=link gcc  -g -O2 `/home/mb/.cpan/build/libapreq2-2.13-0/apreq2-config --link-libtool --libs`  /usr/lib/x86_64-linux-gnu/libapr-1.la /usr/lib/x86_64-linux-gnu/libaprutil-1.la  -o params params.o libapache_test.a 
gcc -g -O2 -o .libs/params params.o  /home/mb/.cpan/build/libapreq2-2.13-0/library/.libs/libapreq2.so /usr/lib/x86_64-linux-gnu/libapr-1.so /usr/lib/x86_64-linux-gnu/libaprutil-1.so libapache_test.a 
creating params
echo "#!perl" > params.t
echo "exec './params'" >> params.t
gcc -DHAVE_CONFIG_H -I. -I../../include  -I/usr/include/apr-1.0  -I/usr/include -DLINUX -D_REENTRANT -D_GNU_SOURCE  -g -O2 -MT parsers.o -MD -MP -MF .deps/parsers.Tpo -c -o parsers.o parsers.c
mv -f .deps/parsers.Tpo .deps/parsers.Po
/bin/bash ../../libtool --tag=CC   --mode=link gcc  -g -O2 `/home/mb/.cpan/build/libapreq2-2.13-0/apreq2-config --link-libtool --libs`  /usr/lib/x86_64-linux-gnu/libapr-1.la /usr/lib/x86_64-linux-gnu/libaprutil-1.la  -o parsers parsers.o libapache_test.a 
gcc -g -O2 -o .libs/parsers parsers.o  /home/mb/.cpan/build/libapreq2-2.13-0/library/.libs/libapreq2.so /usr/lib/x86_64-linux-gnu/libapr-1.so /usr/lib/x86_64-linux-gnu/libaprutil-1.so libapache_test.a 
creating parsers
echo "#!perl" > parsers.t
echo "exec './parsers'" >> parsers.t
gcc -DHAVE_CONFIG_H -I. -I../../include  -I/usr/include/apr-1.0  -I/usr/include -DLINUX -D_REENTRANT -D_GNU_SOURCE  -g -O2 -MT error.o -MD -MP -MF .deps/error.Tpo -c -o error.o error.c
mv -f .deps/error.Tpo .deps/error.Po
/bin/bash ../../libtool --tag=CC   --mode=link gcc  -g -O2 `/home/mb/.cpan/build/libapreq2-2.13-0/apreq2-config --link-libtool --libs`  /usr/lib/x86_64-linux-gnu/libapr-1.la /usr/lib/x86_64-linux-gnu/libaprutil-1.la  -o error error.o libapache_test.a 
gcc -g -O2 -o .libs/error error.o  /home/mb/.cpan/build/libapreq2-2.13-0/library/.libs/libapreq2.so /usr/lib/x86_64-linux-gnu/libapr-1.so /usr/lib/x86_64-linux-gnu/libaprutil-1.so libapache_test.a 
creating error
echo "#!perl" > error.t
echo "exec './error'" >> error.t
gcc -DHAVE_CONFIG_H -I. -I../../include  -I/usr/include/apr-1.0  -I/usr/include -DLINUX -D_REENTRANT -D_GNU_SOURCE  -g -O2 -MT util.o -MD -MP -MF .deps/util.Tpo -c -o util.o util.c
mv -f .deps/util.Tpo .deps/util.Po
/bin/bash ../../libtool --tag=CC   --mode=link gcc  -g -O2 `/home/mb/.cpan/build/libapreq2-2.13-0/apreq2-config --link-libtool --libs`  /usr/lib/x86_64-linux-gnu/libapr-1.la /usr/lib/x86_64-linux-gnu/libaprutil-1.la  -o util util.o libapache_test.a 
gcc -g -O2 -o .libs/util util.o  /home/mb/.cpan/build/libapreq2-2.13-0/library/.libs/libapreq2.so /usr/lib/x86_64-linux-gnu/libapr-1.so /usr/lib/x86_64-linux-gnu/libaprutil-1.so libapache_test.a 
creating util
echo "#!perl" > util.t
echo "exec './util'" >> util.t
/usr/bin/perl -MTest::Harness -e 'runtests(@ARGV)' version.t cookie.t params.t parsers.t error.t util.t
version.t .. ok
cookie.t ... ok
params.t ... ok
parsers.t .. ok
error.t .... ok
util.t ..... ok
All tests successful.
Files=6, Tests=757,  3 wallclock secs ( 0.19 usr  0.00 sys +  2.50 cusr  0.04 csys =  2.73 CPU)
Result: PASS
make[2]: Leaving directory '/home/mb/.cpan/build/libapreq2-2.13-0/library/t'
make[1]: Leaving directory '/home/mb/.cpan/build/libapreq2-2.13-0/library'
cd module; /usr/bin/make test
make[1]: Entering directory '/home/mb/.cpan/build/libapreq2-2.13-0/module'
Making all in apache2
make[2]: Entering directory '/home/mb/.cpan/build/libapreq2-2.13-0/module/apache2'
make[2]: Nothing to be done for 'all'.
make[2]: Leaving directory '/home/mb/.cpan/build/libapreq2-2.13-0/module/apache2'
make[2]: Entering directory '/home/mb/.cpan/build/libapreq2-2.13-0/module'
make[2]: Nothing to be done for 'all-am'.
make[2]: Leaving directory '/home/mb/.cpan/build/libapreq2-2.13-0/module'
Making check in apache2
make[2]: Entering directory '/home/mb/.cpan/build/libapreq2-2.13-0/module/apache2'
make[2]: Nothing to be done for 'check'.
make[2]: Leaving directory '/home/mb/.cpan/build/libapreq2-2.13-0/module/apache2'
make[2]: Entering directory '/home/mb/.cpan/build/libapreq2-2.13-0/module'
make[2]: Nothing to be done for 'check-am'.
make[2]: Leaving directory '/home/mb/.cpan/build/libapreq2-2.13-0/module'
/usr/bin/perl -MApache::TestMM -e 'package Apache::TestMM; filter_args(); generate_script("t/TEST")' -- -apxs /usr/bin/apxs
[   info] generating script t/TEST
if [ ! -d t/cgi-bin ]; then mkdir t/cgi-bin; fi
cp -f test_cgi t/cgi-bin
cp -Rp .libs t/cgi-bin
MAKE=/usr/bin/make /usr/bin/perl t/TEST
[warning] setting ulimit to allow core files
ulimit -c unlimited; /usr/bin/perl /home/mb/.cpan/build/libapreq2-2.13-0/module/t/TEST 
[  debug] configuring httpd
[  debug] Using httpd: /usr/sbin/apache2
apache2: Could not open configuration file /etc/apache2/httpd.conf: No such file or directory
[  debug] inheriting config file: /usr/conf/httpd.conf
[  debug] Matched Apache revision Apache/2.4.10 2
[  debug] Matched Apache revminor Apache/2.4.10 4
[  debug] generating c-modules/apache_httpd_test.h
[  debug] WRITING /home/mb/.cpan/build/libapreq2-2.13-0/module/t/c-modules/apreq_big_request_test/Makefile for mod_apreq_big_request_test
[  debug] WRITING /home/mb/.cpan/build/libapreq2-2.13-0/module/t/c-modules/apreq_access_test/Makefile for mod_apreq_access_test
[  debug] WRITING /home/mb/.cpan/build/libapreq2-2.13-0/module/t/c-modules/apreq_output_filter_test/Makefile for mod_apreq_output_filter_test
[  debug] WRITING /home/mb/.cpan/build/libapreq2-2.13-0/module/t/c-modules/apreq_request_test/Makefile for mod_apreq_request_test
[  debug] WRITING /home/mb/.cpan/build/libapreq2-2.13-0/module/t/c-modules/apreq_redirect_test/Makefile for mod_apreq_redirect_test
[  debug] WRITING /home/mb/.cpan/build/libapreq2-2.13-0/module/t/c-modules/apreq_upload_test/Makefile for mod_apreq_upload_test
[  debug] WRITING /home/mb/.cpan/build/libapreq2-2.13-0/module/t/c-modules/apreq_cookie_test/Makefile for mod_apreq_cookie_test
[  debug] generating c-modules/Makefile
[  debug] cd /home/mb/.cpan/build/libapreq2-2.13-0/module/t/c-modules && /usr/bin/make all
make[2]: Entering directory '/home/mb/.cpan/build/libapreq2-2.13-0/module/t/c-modules'
cd apreq_big_request_test && /usr/bin/make .libs/mod_apreq_big_request_test.so
make[3]: Entering directory '/home/mb/.cpan/build/libapreq2-2.13-0/module/t/c-modules/apreq_big_request_test'
/usr/bin/apxs -L../../../../library -I../../../apache2 -I../../../../include -lapreq2 -D APACHE2 -D APACHE24 -I/home/mb/.cpan/build/libapreq2-2.13-0/module/t/c-modules -c mod_apreq_big_request_test.c
/usr/share/apr-1.0/build/libtool --silent --mode=compile --tag=disable-static x86_64-linux-gnu-gcc -std=gnu99 -prefer-pic -pipe -g -O2 -fstack-protector-strong -Wformat -Werror=format-security  -D_FORTIFY_SOURCE=2   -DLINUX -D_REENTRANT -D_GNU_SOURCE  -pthread  -I/usr/include/apache2  -I/usr/include/apr-1.0   -I/usr/include/apr-1.0 -I/usr/include -I../../../apache2 -I../../../../include -I/home/mb/.cpan/build/libapreq2-2.13-0/module/t/c-modules -DAPACHE2 -DAPACHE24  -c -o mod_apreq_big_request_test.lo mod_apreq_big_request_test.c && touch mod_apreq_big_request_test.slo
/usr/share/apr-1.0/build/libtool --silent --mode=link --tag=disable-static x86_64-linux-gnu-gcc -std=gnu99 -Wl,--as-needed -Wl,-z,relro -Wl,-z,now    -o mod_apreq_big_request_test.la  -L../../../../library -lapreq2 -rpath /usr/lib/apache2/modules -module -avoid-version    mod_apreq_big_request_test.lo
make[3]: Leaving directory '/home/mb/.cpan/build/libapreq2-2.13-0/module/t/c-modules/apreq_big_request_test'
cd apreq_access_test && /usr/bin/make .libs/mod_apreq_access_test.so
make[3]: Entering directory '/home/mb/.cpan/build/libapreq2-2.13-0/module/t/c-modules/apreq_access_test'
/usr/bin/apxs -L../../../../library -I../../../apache2 -I../../../../include -lapreq2 -D APACHE2 -D APACHE24 -I/home/mb/.cpan/build/libapreq2-2.13-0/module/t/c-modules -c mod_apreq_access_test.c
/usr/share/apr-1.0/build/libtool --silent --mode=compile --tag=disable-static x86_64-linux-gnu-gcc -std=gnu99 -prefer-pic -pipe -g -O2 -fstack-protector-strong -Wformat -Werror=format-security  -D_FORTIFY_SOURCE=2   -DLINUX -D_REENTRANT -D_GNU_SOURCE  -pthread  -I/usr/include/apache2  -I/usr/include/apr-1.0   -I/usr/include/apr-1.0 -I/usr/include -I../../../apache2 -I../../../../include -I/home/mb/.cpan/build/libapreq2-2.13-0/module/t/c-modules -DAPACHE2 -DAPACHE24  -c -o mod_apreq_access_test.lo mod_apreq_access_test.c && touch mod_apreq_access_test.slo
/usr/share/apr-1.0/build/libtool --silent --mode=link --tag=disable-static x86_64-linux-gnu-gcc -std=gnu99 -Wl,--as-needed -Wl,-z,relro -Wl,-z,now    -o mod_apreq_access_test.la  -L../../../../library -lapreq2 -rpath /usr/lib/apache2/modules -module -avoid-version    mod_apreq_access_test.lo
make[3]: Leaving directory '/home/mb/.cpan/build/libapreq2-2.13-0/module/t/c-modules/apreq_access_test'
cd apreq_output_filter_test && /usr/bin/make .libs/mod_apreq_output_filter_test.so
make[3]: Entering directory '/home/mb/.cpan/build/libapreq2-2.13-0/module/t/c-modules/apreq_output_filter_test'
/usr/bin/apxs -L../../../../library -I../../../apache2 -I../../../../include -lapreq2 -D APACHE2 -D APACHE24 -I/home/mb/.cpan/build/libapreq2-2.13-0/module/t/c-modules -c mod_apreq_output_filter_test.c
/usr/share/apr-1.0/build/libtool --silent --mode=compile --tag=disable-static x86_64-linux-gnu-gcc -std=gnu99 -prefer-pic -pipe -g -O2 -fstack-protector-strong -Wformat -Werror=format-security  -D_FORTIFY_SOURCE=2   -DLINUX -D_REENTRANT -D_GNU_SOURCE  -pthread  -I/usr/include/apache2  -I/usr/include/apr-1.0   -I/usr/include/apr-1.0 -I/usr/include -I../../../apache2 -I../../../../include -I/home/mb/.cpan/build/libapreq2-2.13-0/module/t/c-modules -DAPACHE2 -DAPACHE24  -c -o mod_apreq_output_filter_test.lo mod_apreq_output_filter_test.c && touch mod_apreq_output_filter_test.slo
/usr/share/apr-1.0/build/libtool --silent --mode=link --tag=disable-static x86_64-linux-gnu-gcc -std=gnu99 -Wl,--as-needed -Wl,-z,relro -Wl,-z,now    -o mod_apreq_output_filter_test.la  -L../../../../library -lapreq2 -rpath /usr/lib/apache2/modules -module -avoid-version    mod_apreq_output_filter_test.lo
make[3]: Leaving directory '/home/mb/.cpan/build/libapreq2-2.13-0/module/t/c-modules/apreq_output_filter_test'
cd apreq_request_test && /usr/bin/make .libs/mod_apreq_request_test.so
make[3]: Entering directory '/home/mb/.cpan/build/libapreq2-2.13-0/module/t/c-modules/apreq_request_test'
/usr/bin/apxs -L../../../../library -I../../../apache2 -I../../../../include -lapreq2 -D APACHE2 -D APACHE24 -I/home/mb/.cpan/build/libapreq2-2.13-0/module/t/c-modules -c mod_apreq_request_test.c
/usr/share/apr-1.0/build/libtool --silent --mode=compile --tag=disable-static x86_64-linux-gnu-gcc -std=gnu99 -prefer-pic -pipe -g -O2 -fstack-protector-strong -Wformat -Werror=format-security  -D_FORTIFY_SOURCE=2   -DLINUX -D_REENTRANT -D_GNU_SOURCE  -pthread  -I/usr/include/apache2  -I/usr/include/apr-1.0   -I/usr/include/apr-1.0 -I/usr/include -I../../../apache2 -I../../../../include -I/home/mb/.cpan/build/libapreq2-2.13-0/module/t/c-modules -DAPACHE2 -DAPACHE24  -c -o mod_apreq_request_test.lo mod_apreq_request_test.c && touch mod_apreq_request_test.slo
/usr/share/apr-1.0/build/libtool --silent --mode=link --tag=disable-static x86_64-linux-gnu-gcc -std=gnu99 -Wl,--as-needed -Wl,-z,relro -Wl,-z,now    -o mod_apreq_request_test.la  -L../../../../library -lapreq2 -rpath /usr/lib/apache2/modules -module -avoid-version    mod_apreq_request_test.lo
make[3]: Leaving directory '/home/mb/.cpan/build/libapreq2-2.13-0/module/t/c-modules/apreq_request_test'
cd apreq_redirect_test && /usr/bin/make .libs/mod_apreq_redirect_test.so
make[3]: Entering directory '/home/mb/.cpan/build/libapreq2-2.13-0/module/t/c-modules/apreq_redirect_test'
/usr/bin/apxs -L../../../../library -I../../../apache2 -I../../../../include -lapreq2 -D APACHE2 -D APACHE24 -I/home/mb/.cpan/build/libapreq2-2.13-0/module/t/c-modules -c mod_apreq_redirect_test.c
/usr/share/apr-1.0/build/libtool --silent --mode=compile --tag=disable-static x86_64-linux-gnu-gcc -std=gnu99 -prefer-pic -pipe -g -O2 -fstack-protector-strong -Wformat -Werror=format-security  -D_FORTIFY_SOURCE=2   -DLINUX -D_REENTRANT -D_GNU_SOURCE  -pthread  -I/usr/include/apache2  -I/usr/include/apr-1.0   -I/usr/include/apr-1.0 -I/usr/include -I../../../apache2 -I../../../../include -I/home/mb/.cpan/build/libapreq2-2.13-0/module/t/c-modules -DAPACHE2 -DAPACHE24  -c -o mod_apreq_redirect_test.lo mod_apreq_redirect_test.c && touch mod_apreq_redirect_test.slo
/usr/share/apr-1.0/build/libtool --silent --mode=link --tag=disable-static x86_64-linux-gnu-gcc -std=gnu99 -Wl,--as-needed -Wl,-z,relro -Wl,-z,now    -o mod_apreq_redirect_test.la  -L../../../../library -lapreq2 -rpath /usr/lib/apache2/modules -module -avoid-version    mod_apreq_redirect_test.lo
make[3]: Leaving directory '/home/mb/.cpan/build/libapreq2-2.13-0/module/t/c-modules/apreq_redirect_test'
cd apreq_upload_test && /usr/bin/make .libs/mod_apreq_upload_test.so
make[3]: Entering directory '/home/mb/.cpan/build/libapreq2-2.13-0/module/t/c-modules/apreq_upload_test'
/usr/bin/apxs -L../../../../library -I../../../apache2 -I../../../../include -lapreq2 -D APACHE2 -D APACHE24 -I/home/mb/.cpan/build/libapreq2-2.13-0/module/t/c-modules -c mod_apreq_upload_test.c
/usr/share/apr-1.0/build/libtool --silent --mode=compile --tag=disable-static x86_64-linux-gnu-gcc -std=gnu99 -prefer-pic -pipe -g -O2 -fstack-protector-strong -Wformat -Werror=format-security  -D_FORTIFY_SOURCE=2   -DLINUX -D_REENTRANT -D_GNU_SOURCE  -pthread  -I/usr/include/apache2  -I/usr/include/apr-1.0   -I/usr/include/apr-1.0 -I/usr/include -I../../../apache2 -I../../../../include -I/home/mb/.cpan/build/libapreq2-2.13-0/module/t/c-modules -DAPACHE2 -DAPACHE24  -c -o mod_apreq_upload_test.lo mod_apreq_upload_test.c && touch mod_apreq_upload_test.slo
mod_apreq_upload_test.c: In function 'apreq_upload_test_handler':
mod_apreq_upload_test.c:92:7: warning: format '%d' expects argument of type 'int', but argument 3 has type 'apr_size_t' [-Wformat=]
       ap_rprintf(r, "%d", total);
       ^
/usr/share/apr-1.0/build/libtool --silent --mode=link --tag=disable-static x86_64-linux-gnu-gcc -std=gnu99 -Wl,--as-needed -Wl,-z,relro -Wl,-z,now    -o mod_apreq_upload_test.la  -L../../../../library -lapreq2 -rpath /usr/lib/apache2/modules -module -avoid-version    mod_apreq_upload_test.lo
make[3]: Leaving directory '/home/mb/.cpan/build/libapreq2-2.13-0/module/t/c-modules/apreq_upload_test'
cd apreq_cookie_test && /usr/bin/make .libs/mod_apreq_cookie_test.so
make[3]: Entering directory '/home/mb/.cpan/build/libapreq2-2.13-0/module/t/c-modules/apreq_cookie_test'
/usr/bin/apxs -L../../../../library -I../../../apache2 -I../../../../include -lapreq2 -D APACHE2 -D APACHE24 -I/home/mb/.cpan/build/libapreq2-2.13-0/module/t/c-modules -c mod_apreq_cookie_test.c
/usr/share/apr-1.0/build/libtool --silent --mode=compile --tag=disable-static x86_64-linux-gnu-gcc -std=gnu99 -prefer-pic -pipe -g -O2 -fstack-protector-strong -Wformat -Werror=format-security  -D_FORTIFY_SOURCE=2   -DLINUX -D_REENTRANT -D_GNU_SOURCE  -pthread  -I/usr/include/apache2  -I/usr/include/apr-1.0   -I/usr/include/apr-1.0 -I/usr/include -I../../../apache2 -I../../../../include -I/home/mb/.cpan/build/libapreq2-2.13-0/module/t/c-modules -DAPACHE2 -DAPACHE24  -c -o mod_apreq_cookie_test.lo mod_apreq_cookie_test.c && touch mod_apreq_cookie_test.slo
/usr/share/apr-1.0/build/libtool --silent --mode=link --tag=disable-static x86_64-linux-gnu-gcc -std=gnu99 -Wl,--as-needed -Wl,-z,relro -Wl,-z,now    -o mod_apreq_cookie_test.la  -L../../../../library -lapreq2 -rpath /usr/lib/apache2/modules -module -avoid-version    mod_apreq_cookie_test.lo
make[3]: Leaving directory '/home/mb/.cpan/build/libapreq2-2.13-0/module/t/c-modules/apreq_cookie_test'
make[2]: Leaving directory '/home/mb/.cpan/build/libapreq2-2.13-0/module/t/c-modules'
[  debug] WRITING httpd.conf with mod_apreq_big_request_test, mod_apreq_access_test, mod_apreq_output_filter_test, mod_apreq_request_test, mod_apreq_redirect_test, mod_apreq_upload_test, mod_apreq_cookie_test
[  debug] found mod_mime.so => /usr/lib/apache2/modules/mod_mime.so
[  debug] generating conf/mime.types
[  debug] generating htdocs/index.html
[  debug] Will 'Include' /home/mb/.cpan/build/libapreq2-2.13-0/module/t/conf/ssl/ssl.conf config file
[  debug] Will 'Include' /home/mb/.cpan/build/libapreq2-2.13-0/module/t/conf/extra.conf config file
[  debug] Will 'Include' /home/mb/.cpan/build/libapreq2-2.13-0/module/t/conf/ssl/proxyssl.conf config file
[  debug] generating conf/ssl/ssl.conf from /home/mb/.cpan/build/libapreq2-2.13-0/module/t/conf/ssl/ssl.conf.in
[  debug] generating conf/extra.conf from /home/mb/.cpan/build/libapreq2-2.13-0/module/t/conf/extra.conf.in
[  debug] generating conf/ssl/proxyssl.conf from /home/mb/.cpan/build/libapreq2-2.13-0/module/t/conf/ssl/proxyssl.conf.in
[  debug] generating conf/httpd.conf
[  debug] found mod_alias.so => /usr/lib/apache2/modules/mod_alias.so
[  debug] generating conf/apache_test_config.pm
[  debug] saving config data to apache_test_config.pm
/usr/sbin/apache2  -d /home/mb/.cpan/build/libapreq2-2.13-0/module/t -f /home/mb/.cpan/build/libapreq2-2.13-0/module/t/conf/httpd.conf -D APACHE2 -D APACHE24 -D PERL_USEITHREADS
using Apache/2.4.10 

waiting 60 seconds for server to start: .AH00534: apache2: Configuration error: No MPM loaded.
[  error] 
server has died with status 255 (t/logs/error_log wasn't created, start the server in the debug mode)
Terminated
Makefile:578: recipe for target 'run_tests' failed
make[1]: *** [run_tests] Error 143
make[1]: Leaving directory '/home/mb/.cpan/build/libapreq2-2.13-0/module'
Makefile:799: recipe for target 'module_test' failed
make: *** [module_test] Error 2

------------------------------
PREREQUISITES
------------------------------

Prerequisite modules loaded:

requires:

    Module              Need     Have    
    ------------------- -------- --------
    Apache::Test        1.04     1.38    
    ExtUtils::MakeMaker 6.15     7.24    
    ExtUtils::XSBuilder 0.23     0.28    
    mod_perl2           1.999022 2.000009
    Test::More          0.47     1.302067


------------------------------
ENVIRONMENT AND OTHER CONTEXT
------------------------------

Environment variables:

    AUTOMATED_TESTING = 1
    LANG = en_US.UTF-8
    LANGUAGE = en_US:en
    PATH = /home/mb/perl5/perlbrew/bin:/home/mb/perl5/bin:/usr/local/bin:/usr/bin:/bin:/usr/local/games:/usr/games:/opt/puppetlabs/bin
    PERL5LIB = /home/mb/.cpan/build/ExtUtils-XSBuilder-0.28-0/blib/arch:/home/mb/.cpan/build/ExtUtils-XSBuilder-0.28-0/blib/lib:/home/mb/perl5/lib/perl5
    PERL5OPT = 
    PERL5_CPANPLUS_IS_RUNNING = 20537
    PERL5_CPAN_IS_RUNNING = 20537
    PERL5_CPAN_IS_RUNNING_IN_RECURSION = 8488,20537
    PERLBREW_BASHRC_VERSION = 0.71
    PERLBREW_HOME = /home/mb/.perlbrew
    PERLBREW_PATH = /home/mb/perl5/perlbrew/bin
    PERLBREW_ROOT = /home/mb/perl5/perlbrew
    PERLBREW_VERSION = 0.71
    PERL_CR_SMOKER_CURRENT = Apache2-DirBasedHandler-0.04
    PERL_EXTUTILS_AUTOINSTALL = --defaultdeps
    PERL_LOCAL_LIB_ROOT = /home/mb/perl5
    PERL_MB_OPT = --install_base "/home/mb/perl5"
    PERL_MM_OPT = INSTALL_BASE=/home/mb/perl5
    PERL_MM_USE_DEFAULT = 1
    SHELL = /bin/bash
    TERM = screen

Perl special variables (and OS-specific diagnostics, for MSWin32):

    $^X = /usr/bin/perl
    $UID/$EUID = 1000 / 1000
    $GID = 1000 24 25 29 30 44 46 108 1000
    $EGID = 1000 24 25 29 30 44 46 108 1000

Perl module toolchain versions installed:

    Module              Have    
    ------------------- --------
    CPAN                2.14    
    CPAN::Meta          2.150010
    Cwd                 3.62    
    ExtUtils::CBuilder  0.280224
    ExtUtils::Command   7.24    
    ExtUtils::Install   2.04    
    ExtUtils::MakeMaker 7.24    
    ExtUtils::Manifest  1.70    
    ExtUtils::ParseXS   3.30    
    File::Spec          3.62    
    JSON                2.90    
    JSON::PP            2.27400 
    Module::Build       0.4220  
    Module::Signature   0.81    
    Parse::CPAN::Meta   2.150010
    Test::Harness       3.36    
    Test::More          1.302067
    YAML                1.19    
    YAML::Syck          1.29    
    version             0.9917  


--

Summary of my perl5 (revision 5 version 20 subversion 2) configuration:
   
  Platform:
    osname=linux, osvers=3.16.0-4-amd64, archname=x86_64-linux-gnu-thread-multi
    uname='linux himalia 3.16.0-4-amd64 #1 smp debian 3.16.7-ckt25-2+deb8u3 (2016-07-02) x86_64 gnulinux '
    config_args='-Dusethreads -Duselargefiles -Dccflags=-DDEBIAN -D_FORTIFY_SOURCE=2 -g -O2 -fstack-protector-strong -Wformat -Werror=format-security -Dldflags= -Wl,-z,relro -Dlddlflags=-shared -Wl,-z,relro -Dcccdlflags=-fPIC -Darchname=x86_64-linux-gnu -Dprefix=/usr -Dprivlib=/usr/share/perl/5.20 -Darchlib=/usr/lib/x86_64-linux-gnu/perl/5.20 -Dvendorprefix=/usr -Dvendorlib=/usr/share/perl5 -Dvendorarch=/usr/lib/x86_64-linux-gnu/perl5/5.20 -Dsiteprefix=/usr/local -Dsitelib=/usr/local/share/perl/5.20.2 -Dsitearch=/usr/local/lib/x86_64-linux-gnu/perl/5.20.2 -Dman1dir=/usr/share/man/man1 -Dman3dir=/usr/share/man/man3 -Dsiteman1dir=/usr/local/man/man1 -Dsiteman3dir=/usr/local/man/man3 -Dusesitecustomize -Duse64bitint -Dman1ext=1 -Dman3ext=3perl -Dpager=/usr/bin/sensible-pager -Uafs -Ud_csh -Ud_ualarm -Uusesfio -Uusenm -Ui_libutil -Uversiononly -DDEBUGGING=-g -Doptimize=-O2 -Duseshrplib -Dlibperl=libperl.so.5.20.2 -des'
    hint=recommended, useposix=true, d_sigaction=define
    useithreads=define, usemultiplicity=define
    use64bitint=define, use64bitall=define, uselongdouble=undef
    usemymalloc=n, bincompat5005=undef
  Compiler:
    cc='cc', ccflags ='-D_REENTRANT -D_GNU_SOURCE -DDEBIAN -fwrapv -fno-strict-aliasing -pipe -I/usr/local/include -D_LARGEFILE_SOURCE -D_FILE_OFFSET_BITS=64',
    optimize='-O2 -g',
    cppflags='-D_REENTRANT -D_GNU_SOURCE -DDEBIAN -fwrapv -fno-strict-aliasing -pipe -I/usr/local/include'
    ccversion='', gccversion='4.9.2', gccosandvers=''
    intsize=4, longsize=8, ptrsize=8, doublesize=8, byteorder=12345678
    d_longlong=define, longlongsize=8, d_longdbl=define, longdblsize=16
    ivtype='long', ivsize=8, nvtype='double', nvsize=8, Off_t='off_t', lseeksize=8
    alignbytes=8, prototype=define
  Linker and Libraries:
    ld='cc', ldflags =' -fstack-protector -L/usr/local/lib'
    libpth=/usr/local/lib /usr/lib/gcc/x86_64-linux-gnu/4.9/include-fixed /usr/include/x86_64-linux-gnu /usr/lib /lib/x86_64-linux-gnu /lib/../lib /usr/lib/x86_64-linux-gnu /usr/lib/../lib /lib
    libs=-lgdbm -lgdbm_compat -ldb -ldl -lm -lpthread -lc -lcrypt
    perllibs=-ldl -lm -lpthread -lc -lcrypt
    libc=libc-2.19.so, so=so, useshrplib=true, libperl=libperl.so.5.20
    gnulibc_version='2.19'
  Dynamic Linking:
    dlsrc=dl_dlopen.xs, dlext=so, d_dlsymun=undef, ccdlflags='-Wl,-E'
    cccdlflags='-fPIC', lddlflags='-shared -L/usr/local/lib -fstack-protector'


Characteristics of this binary (from libperl): 
  Compile-time options: HAS_TIMES MULTIPLICITY PERLIO_LAYERS
                        PERL_DONT_CREATE_GVSV
                        PERL_HASH_FUNC_ONE_AT_A_TIME_HARD
                        PERL_IMPLICIT_CONTEXT PERL_MALLOC_WRAP
                        PERL_NEW_COPY_ON_WRITE PERL_PRESERVE_IVUV
                        USE_64_BIT_ALL USE_64_BIT_INT USE_ITHREADS
                        USE_LARGE_FILES USE_LOCALE USE_LOCALE_COLLATE
                        USE_LOCALE_CTYPE USE_LOCALE_NUMERIC USE_PERLIO
                        USE_PERL_ATOF USE_REENTRANT_API USE_SITECUSTOMIZE
  Locally applied patches:
	DEBPKG:debian/cpan_definstalldirs - Provide a sensible INSTALLDIRS default for modules installed from CPAN.
	DEBPKG:debian/db_file_ver - http://bugs.debian.org/340047 Remove overly restrictive DB_File version check.
	DEBPKG:debian/doc_info - Replace generic man(1) instructions with Debian-specific information.
	DEBPKG:debian/enc2xs_inc - http://bugs.debian.org/290336 Tweak enc2xs to follow symlinks and ignore missing @INC directories.
	DEBPKG:debian/errno_ver - http://bugs.debian.org/343351 Remove Errno version check due to upgrade problems with long-running processes.
	DEBPKG:debian/libperl_embed_doc - http://bugs.debian.org/186778 Note that libperl-dev package is required for embedded linking
	DEBPKG:fixes/respect_umask - Respect umask during installation
	DEBPKG:debian/writable_site_dirs - Set umask approproately for site install directories
	DEBPKG:debian/extutils_set_libperl_path - EU:MM: set location of libperl.a under /usr/lib
	DEBPKG:debian/no_packlist_perllocal - Don't install .packlist or perllocal.pod for perl or vendor
	DEBPKG:debian/prefix_changes - Fiddle with *PREFIX and variables written to the makefile
	DEBPKG:debian/fakeroot - Postpone LD_LIBRARY_PATH evaluation to the binary targets.
	DEBPKG:debian/instmodsh_doc - Debian policy doesn't install .packlist files for core or vendor.
	DEBPKG:debian/ld_run_path - Remove standard libs from LD_RUN_PATH as per Debian policy.
	DEBPKG:debian/libnet_config_path - Set location of libnet.cfg to /etc/perl/Net as /usr may not be writable.
	DEBPKG:debian/mod_paths - Tweak @INC ordering for Debian
	DEBPKG:debian/module_build_man_extensions - http://bugs.debian.org/479460 Adjust Module::Build manual page extensions for the Debian Perl policy
	DEBPKG:debian/prune_libs - http://bugs.debian.org/128355 Prune the list of libraries wanted to what we actually need.
	DEBPKG:fixes/net_smtp_docs - [rt.cpan.org #36038] http://bugs.debian.org/100195 Document the Net::SMTP 'Port' option
	DEBPKG:debian/perlivp - http://bugs.debian.org/510895 Make perlivp skip include directories in /usr/local
	DEBPKG:debian/deprecate-with-apt - http://bugs.debian.org/747628 Point users to Debian packages of deprecated core modules
	DEBPKG:debian/squelch-locale-warnings - http://bugs.debian.org/508764 Squelch locale warnings in Debian package maintainer scripts
	DEBPKG:debian/skip-upstream-git-tests - Skip tests specific to the upstream Git repository
	DEBPKG:debian/patchlevel - http://bugs.debian.org/567489 List packaged patches for 5.20.2-3+deb8u6 in patchlevel.h
	DEBPKG:debian/skip-kfreebsd-crash - http://bugs.debian.org/628493 [perl #96272] Skip a crashing test case in t/op/threads.t on GNU/kFreeBSD
	DEBPKG:fixes/document_makemaker_ccflags - http://bugs.debian.org/628522 [rt.cpan.org #68613] Document that CCFLAGS should include $Config{ccflags}
	DEBPKG:debian/find_html2text - http://bugs.debian.org/640479 Configure CPAN::Distribution with correct name of html2text
	DEBPKG:debian/perl5db-x-terminal-emulator.patch - http://bugs.debian.org/668490 Invoke x-terminal-emulator rather than xterm in perl5db.pl
	DEBPKG:debian/cpan-missing-site-dirs - http://bugs.debian.org/688842 Fix CPAN::FirstTime defaults with nonexisting site dirs if a parent is writable
	DEBPKG:fixes/memoize_storable_nstore - [rt.cpan.org #77790] http://bugs.debian.org/587650 Memoize::Storable: respect 'nstore' option not respected
	DEBPKG:debian/regen-skip - Skip a regeneration check in unrelated git repositories
	DEBPKG:fixes/regcomp-mips-optim - [perl #122817] http://bugs.debian.org/754054 Downgrade the optimization of regcomp.c on mips and mipsel due to a gcc-4.9 bug
	DEBPKG:debian/makemaker-pasthru - http://bugs.debian.org/758471 Pass LD settings through to subdirectories
	DEBPKG:fixes/perldoc-less-R - [rt.cpan.org #98636] http://bugs.debian.org/758689 Tell the 'less' pager to allow terminal escape sequences
	DEBPKG:fixes/pod_man_reproducible_date - http://bugs.debian.org/759405 Support POD_MAN_DATE in Pod::Man for the left-hand footer
	DEBPKG:fixes/io_uncompress_gunzip_inmemory - http://bugs.debian.org/747363 [rt.cpan.org #95494] Fix gunzip to in-memory file handle
	DEBPKG:fixes/socket_test_recv_fix - http://bugs.debian.org/758718 [perl #122657] Compare recv return value to peername in socket test
	DEBPKG:fixes/hurd_socket_recv_todo - http://bugs.debian.org/758718 [perl #122657] TODO checking the result of recv() on hurd
	DEBPKG:fixes/regexp-performance - [0fa70a0] http://bugs.debian.org/777556 [perl #123743] simpify and speed up /.*.../ handling
	DEBPKG:fixes/failed_require_diagnostics - http://bugs.debian.org/781120 [perl #123270] Report inaccesible file on failed require
	DEBPKG:fixes/array-cloning - http://bugs.debian.org/779357 [perl #124127] [902d169] fix cloning arrays with unused elements
	DEBPKG:fixes/perldb-threads - http://bugs.debian.org/779357 [perl #124127] [41ef2c6] lib/perl5db.pl: Restore noop lock prototype
	DEBPKG:fixes/CVE-2015-8607_file_spec_taint_fix - ensure File::Spec::canonpath() preserves taint
	DEBPKG:fixes/encode-unicode-bom - http://bugs.debian.org/798727 [rt.cpan.org #107043] Address https://rt.cpan.org/Public/Bug/Display.html?id=107043
	DEBPKG:debian/encode-unicode-bom-doc - http://bugs.debian.org/798727 Document Debian backport of Encode::Unicode fix
	DEBPKG:debian/kfreebsd-softupdates - http://bugs.debian.org/796798 Work around Debian Bug#796798
	DEBPKG:fixes/CVE-2016-2381_duplicate_env - remove duplicate environment variables from environ
	DEBPKG:debian/debugperl-compat-fix - [perl #127212] http://bugs.debian.org/810326 Disable PERL_TRACK_MEMPOOL for debugging builds
	DEBPKG:fixes/CVE-2015-8853_regexp_hang - http://bugs.debian.org/821848 [perl #123562] PATCH [perl #123562] Regexp-matching "hangs"
	DEBPKG:fixes/utf8_regexp_crash - http://bugs.debian.org/820328 [perl #124109] save_re_context(): do "local $n" with no PL_curpm
	DEBPKG:fixes/regcomp_whitespace_fix - http://bugs.debian.org/820328 [perl #124109] Perl_save_re_context(): re-indent after last commit
	DEBPKG:fixes/5.20.3/eval_label_crash - http://bugs.debian.org/822336 [perl #123652] eval {label:} crash
	DEBPKG:fixes/5.20.3/preserve_record_separator - http://bugs.debian.org/822336 [perl #123218] "preserve" $/ if set to a bad value
	DEBPKG:fixes/5.20.3/test_count_base_rs - http://bugs.debian.org/822336 Fix test count in t/base/rs.t
	DEBPKG:fixes/5.20.3/remove_get_magic - http://bugs.debian.org/822336 [perl #123739] Remove get-magic from $/
	DEBPKG:fixes/5.20.3/speed_up_scalar_g - http://bugs.debian.org/822336 [perl #123202] speed up scalar //g against tainted strings
	DEBPKG:fixes/5.20.3/accidental_all_features - http://bugs.debian.org/822336 Stop $^H |= 0x1c020000 from enabling all features
	DEBPKG:fixes/5.20.3/multidimensional_arrays_utf8 - http://bugs.debian.org/822336 [perl #124113] Make check for multi-dimensional arrays be UTF8-aware
	DEBPKG:fixes/5.20.3/unquoted_utf8_heredoc_terminators - http://bugs.debian.org/822336 Allow unquoted UTF-8 HERE-document terminators
	DEBPKG:fixes/5.20.3/parentheses_ambiguous_warning_utf8_functions - http://bugs.debian.org/822336 Fix "...without parentheses is ambuguous" warning for UTF-8 function names
	DEBPKG:fixes/5.20.3/leak_namepv_copy - http://bugs.debian.org/822336 [perl #123786] don't leak the temp utf8 copy of namepv
	DEBPKG:fixes/5.20.3/h2ph_hex_constants - http://bugs.debian.org/822336 h2ph: correct handling of hex constants for the preamble
	DEBPKG:fixes/5.20.3/leftbracket_XTERMORDORDOR - http://bugs.debian.org/822336 [perl #123711] Fix crash with 0-5x-l{0}
	DEBPKG:fixes/5.20.3/fatalize_warnings_unwinding - http://bugs.debian.org/822336 [perl #123398] don't fatalize warnings during unwinding (#123398)
	DEBPKG:fixes/5.20.3/setpgrp - http://bugs.debian.org/822336 =?UTF-8?q?Don=E2=80=99t=20treat=20setpgrp($nonzero)=20as=20setpgr?= =?UTF-8?q?p(1)?=
	DEBPKG:fixes/5.20.3/death_unwinding_crash - http://bugs.debian.org/822336 [perl #124156] RT #124156: death during unwinding causes crash
	DEBPKG:fixes/5.20.3/stashpvn_crash - http://bugs.debian.org/822336 [perl #125541] Fix crash with %::=(); J->${\"::"}
	DEBPKG:fixes/5.20.3/possessive_quantifier - http://bugs.debian.org/822336 [perl #125825] PATCH: [perl 125825] {n}+ possessive quantifier broken
	DEBPKG:fixes/5.20.3/quoted_code_crash - http://bugs.debian.org/822336 [perl #123712] Fix /$a[/ parsing
	DEBPKG:fixes/5.20.3/checking_sub_inwhat - http://bugs.debian.org/822336 [perl #123712] Don't check sub_inwhat
	DEBPKG:fixes/5.20.3/yylex_loop - http://bugs.debian.org/822336 Fix hang with "@{"
	DEBPKG:fixes/5.20.3/docs/op - http://bugs.debian.org/822336 Fix apidocs for OP_TYPE_IS(_OR_WAS) - arguments separated by |, not ,.
	DEBPKG:fixes/5.20.3/docs/encoding - http://bugs.debian.org/822336 perlpodspec: Corrections/adds to detecting =encoding
	DEBPKG:fixes/5.20.3/docs/SvPV_set - http://bugs.debian.org/822336 improve SvPV_set's docs, it really shouldn't be public API
	DEBPKG:fixes/5.20.3/docs/autodie - http://bugs.debian.org/822336 Fix warning message regarding "use autodie" and "use open".
	DEBPKG:fixes/5.20.3/docs/autodie_2_26 - http://bugs.debian.org/822336 perlunicook: Note that autodie >= 2.26 should be okay with "use open".
	DEBPKG:fixes/5.20.3/docs/setenv - http://bugs.debian.org/822336 Fix setenv() replacement documentation in perlclib
	DEBPKG:fixes/5.20.3/docs/clib_caution - http://bugs.debian.org/822336 perlhacktips: Add caution about clib ptr returns to static memory
	DEBPKG:fixes/5.20.3/docs/perlunicook_typos - http://bugs.debian.org/822336 Fix minor code typos in perlunicook
	DEBPKG:fixes/5.20.3/docs/ook_example - http://bugs.debian.org/822336 [perl #122322] Update OOK example in perlguts
	DEBPKG:fixes/5.20.3/docs/study_noop - http://bugs.debian.org/822336 perlfunc: mention that study() is currently a noop
	DEBPKG:fixes/CVE-2016-1238/remove-dot-when-loading - [perl #127834] (perl #127834) remove . from the end of @INC if complex modules are loaded
	DEBPKG:fixes/CVE-2016-1238/remove-dot-in-padwalker - [perl #127834] perl5db.pl: ensure PadWalker is loaded from standard paths
	DEBPKG:fixes/CVE-2016-1238/remove-dot-in-dist - [perl #127834] dist/: remove . from @INC when loading optional modules
	DEBPKG:fixes/CVE-2016-1238/remove-dot-in-cpan - [perl #127834] cpan/: remove . from @INC when loading optional modules
	DEBPKG:fixes/CVE-2016-1238/customized-encode - Update customized.dat for cpan/Encode/Encode.pm
	DEBPKG:debian/CVE-2016-1238/test-suite-without-dot - [perl #127810] Patch unit tests to explicitly insert "." into @INC when needed.
	DEBPKG:debian/CVE-2016-1238/eumm-without-dot - [perl #127810] Add PERL_USE_UNSAFE_INC support to EU::MM for fortify_inc support.
	DEBPKG:debian/CVE-2016-1238/cpan-without-dot - [perl #127810] Set PERL_USE_UNSAFE_INC for cpan usage
	DEBPKG:debian/CVE-2016-1238/mb-without-dot - Make Module::Build set PERL_USE_UNSAFE_INC
	DEBPKG:debian/CVE-2016-1238/sitecustomize-in-etc - Look for sitecustomize.pl in /etc/perl rather than sitelib on Debian systems
	DEBPKG:fixes/xsloader-eval - [rt.cpan.org #115808] http://bugs.debian.org/829578 =?UTF-8?q?Don=E2=80=99t=20let=20XSLoader=20load=20relative=20path?= =?UTF-8?q?s?=
  Built under linux
  Compiled at Jul 22 2016 15:48:26
  %ENV:
    PERL5LIB="/home/mb/.cpan/build/ExtUtils-XSBuilder-0.28-0/blib/arch:/home/mb/.cpan/build/ExtUtils-XSBuilder-0.28-0/blib/lib:/home/mb/perl5/lib/perl5"
    PERL5OPT=""
    PERL5_CPANPLUS_IS_RUNNING="20537"
    PERL5_CPAN_IS_RUNNING="20537"
    PERL5_CPAN_IS_RUNNING_IN_RECURSION="8488,20537"
    PERLBREW_BASHRC_VERSION="0.71"
    PERLBREW_HOME="/home/mb/.perlbrew"
    PERLBREW_PATH="/home/mb/perl5/perlbrew/bin"
    PERLBREW_ROOT="/home/mb/perl5/perlbrew"
    PERLBREW_VERSION="0.71"
    PERL_CR_SMOKER_CURRENT="Apache2-DirBasedHandler-0.04"
    PERL_EXTUTILS_AUTOINSTALL="--defaultdeps"
    PERL_LOCAL_LIB_ROOT="/home/mb/perl5"
    PERL_MB_OPT="--install_base "/home/mb/perl5""
    PERL_MM_OPT="INSTALL_BASE=/home/mb/perl5"
    PERL_MM_USE_DEFAULT="1"
  @INC:
    /home/mb/.cpan/build/ExtUtils-XSBuilder-0.28-0/blib/arch
    /home/mb/.cpan/build/ExtUtils-XSBuilder-0.28-0/blib/lib
    /home/mb/perl5/lib/perl5/5.20.2/x86_64-linux-gnu-thread-multi
    /home/mb/perl5/lib/perl5/5.20.2
    /home/mb/perl5/lib/perl5/x86_64-linux-gnu-thread-multi
    /home/mb/perl5/lib/perl5
    /etc/perl
    /usr/local/lib/x86_64-linux-gnu/perl/5.20.2
    /usr/local/share/perl/5.20.2
    /usr/lib/x86_64-linux-gnu/perl5/5.20
    /usr/share/perl5
    /usr/lib/x86_64-linux-gnu/perl/5.20
    /usr/share/perl/5.20
    /home/mb/perl5/lib/perl5/5.20.0
    /usr/local/lib/site_perl
    .