Report for Math-PlanePath-124

Back
From: metabase:user:30f4dfbe-2aae-11df-837a-5e0a49663a4f
Subject: PASS Math-PlanePath-124 v5.8.1 GNU/Linux
Date: 2017-02-12T01:39:59Z

This distribution has been tested as part of the CPAN Testers
project, supporting the Perl programming language.  See
http://wiki.cpantesters.org/ for more information or email
questions to cpan-testers-discuss@perl.org


--
Dear Kevin Ryde,

This is a computer-generated report for Math-PlanePath-124
on perl 5.8.1, created by CPAN-Reporter-1.2017.

Thank you for uploading your work to CPAN.  Congratulations!
All tests were successful.

Sections of this report:

    * Tester comments
    * Program output
    * Prerequisites
    * Environment and other context

------------------------------
TESTER COMMENTS
------------------------------

Additional comments from tester:

this report is from an automated smoke testing program
and was not reviewed by a human for accuracy

------------------------------
PROGRAM OUTPUT
------------------------------

Output from '/usr/bin/make test':

PERL_DL_NONLAZY=1 "/home/njh/perl5/perlbrew/perls/perl-5.8.1/bin/perl" "-MExtUtils::Command::MM" "-MTest::Harness" "-e" "undef *Test::Harness::Switches; test_harness(0, 'blib/lib', 'blib/arch')" t/*.t
t/AlternatePaperMidpoint.t ...... ok
t/AlternatePaper.t .............. ok
t/ArchimedeanChords.t ........... ok
t/AztecDiamondRings.t ........... ok
# modulo operator dodginess ((~0)%2) != ((~0)&1): no (good)
# round_down_pow(3) tests stop for round-off at i=34
# round_up_pow(3) tests stop for round-off at i=34
t/Base-Digits.t ................. ok
# Data::Float not available
t/Base-Generic.t ................ ok
t/AnvilSpiral.t ................. ok
# Math::BigFloat version 1.40
# skip due to doubtful oldish Math::BigFloat, maybe
t/bigfloat.t .................... ok
t/BetaOmeta.t ................... ok
# Math::BigInt version 1.66
# skip due to Math::BigInt no "as_oct()" method
# skip due to Math::BigInt::Lite not available -- Can't locate Math/BigInt/Lite.pm in @INC (@INC contains: t /home/njh/.cpan/build/Math-PlanePath-124-dzGj62/blib/lib /home/njh/.cpan/build/Math-PlanePath-124-dzGj62/blib/arch /home/njh/.cpan/build/constant-defer-6-9wpYNf/blib/arch /home/njh/.cpan/build/constant-defer-6-9wpYNf/blib/lib /home/njh/.cpan/build/Math-Libm-1.00-xmAHWb/blib/arch /home/njh/.cpan/build/Math-Libm-1.00-xmAHWb/blib/lib /home/njh/perl5/perlbrew/perls/perl-5.8.1/lib/5.8.1/i686-linux-thread-multi /home/njh/perl5/perlbrew/perls/perl-5.8.1/lib/5.8.1 /home/njh/perl5/perlbrew/perls/perl-5.8.1/lib/site_perl/5.8.1/i686-linux-thread-multi /home/njh/perl5/perlbrew/perls/perl-5.8.1/lib/site_perl/5.8.1 /home/njh/perl5/perlbrew/perls/perl-5.8.1/lib/site_perl .) at t/bigint-lite.t line 34.
# 
t/bigint-lite.t ................. ok
t/bigint.t ...................... ok
t/CCurve.t ...................... ok
# bitwise check rule=2
# bitwise check rule=4
# bitwise check rule=6
# bitwise check rule=10
# bitwise check rule=12
# bitwise check rule=14
# bitwise check rule=16
# bitwise check rule=18
# bitwise check rule=20
# bitwise check rule=24
# bitwise check rule=26
# bitwise check rule=34
# bitwise check rule=36
# bitwise check rule=38
# bitwise check rule=42
# bitwise check rule=44
# bitwise check rule=46
# bitwise check rule=48
# bitwise check rule=50
# bitwise check rule=52
# bitwise check rule=54
# bitwise check rule=56
# bitwise check rule=57
# bitwise check rule=58
# bitwise check rule=60
# bitwise check rule=66
# bitwise check rule=68
# bitwise check rule=74
# bitwise check rule=76
# bitwise check rule=80
# bitwise check rule=82
t/CellularRule190.t ............. ok
# bitwise check rule=84
# bitwise check rule=88
# bitwise check rule=90
# bitwise check rule=98
# bitwise check rule=99
# bitwise check rule=100
# bitwise check rule=102
t/CfracDigits.t ................. ok
# bitwise check rule=106
# bitwise check rule=108
# bitwise check rule=112
# bitwise check rule=114
# bitwise check rule=116
# bitwise check rule=120
# bitwise check rule=122
# bitwise check rule=130
# bitwise check rule=132
# bitwise check rule=134
# bitwise check rule=138
# bitwise check rule=140
# bitwise check rule=142
# bitwise check rule=144
# bitwise check rule=146
# bitwise check rule=148
# bitwise check rule=151
# bitwise check rule=152
# bitwise check rule=154
t/ChanTree.t .................... ok
# bitwise check rule=159
# bitwise check rule=162
# bitwise check rule=164
# bitwise check rule=166
# bitwise check rule=170
# bitwise check rule=172
# bitwise check rule=174
# bitwise check rule=176
# bitwise check rule=178
# bitwise check rule=179
# bitwise check rule=180
# bitwise check rule=183
# bitwise check rule=184
# bitwise check rule=186
# bitwise check rule=190
# bitwise check rule=191
# bitwise check rule=194
# bitwise check rule=196
# bitwise check rule=202
# bitwise check rule=204
# bitwise check rule=206
# bitwise check rule=208
# bitwise check rule=210
# bitwise check rule=212
# bitwise check rule=215
# bitwise check rule=216
# bitwise check rule=218
# bitwise check rule=220
# bitwise check rule=222
# bitwise check rule=223
# bitwise check rule=226
# bitwise check rule=228
# bitwise check rule=234
# bitwise check rule=236
# bitwise check rule=238
# bitwise check rule=240
# bitwise check rule=242
# bitwise check rule=244
# bitwise check rule=246
# bitwise check rule=247
# bitwise check rule=248
# bitwise check rule=250
# bitwise check rule=252
# bitwise check rule=254
# bitwise check rule=255
# bitwise checks 102
t/CellularRule.t ................ ok
t/Columns-load.t ................ ok
t/Columns.t ..................... ok
t/CincoCurve.t .................. ok
t/ComplexPlus.t ................. ok
t/ComplexMinus.t ................ ok
t/Corner.t ...................... ok
t/CoprimeColumns.t .............. ok
t/CornerReplicate.t ............. ok
t/CubicBase.t ................... ok
t/DiagonalRationals.t ........... ok
t/Diagonals.t ................... ok
t/DiamondArms.t ................. ok
t/DiamondSpiral.t ............... ok
t/DigitGroups.t ................. ok
t/DivisibleColumns.t ............ ok
t/DragonCurve.t ................. ok
t/DekkingCurve.t ................ ok
t/DragonMidpoint.t .............. ok
t/DragonRounded.t ............... ok
t/FibonacciWordFractal.t ........ ok
t/FactorRationals.t ............. ok
t/File.t ........................ ok
t/FilledRings.t ................. ok
t/Flowsnake.t ................... ok
t/GcdRationals.t ................ ok
t/FlowsnakeCentres.t ............ ok
t/GosperSide.t .................. ok
t/GrayCode.t .................... ok
t/GosperIslands.t ............... ok
t/HexArms.t ..................... ok
t/HexSpiral-load.t .............. ok
t/HexSpiral.t ................... ok
t/HexSpiralSkewed-unskew.t ...... ok
t/HexSpiralSkewed.t ............. ok
t/HilbertCurve-load.t ........... ok
t/HilbertCurve.t ................ ok
t/HilbertSpiral.t ............... ok
t/HIndexing.t ................... ok
t/Hypot.t ....................... ok
t/GreekKeySpiral.t .............. ok
t/HypotOctant.t ................. ok
t/ImaginaryHalf.t ............... ok
t/ImaginaryBase.t ............... ok
t/KochCurve.t ................... ok
t/KnightSpiral.t ................ ok
t/KochelCurve.t ................. ok
t/KochSnowflakes.t .............. ok
t/KochPeaks.t ................... ok
t/KochSquareflakes.t ............ ok
t/LTiling.t ..................... ok
# skip due to Number::Fraction 1.14 not available -- Can't locate Number/Fraction.pm in @INC (@INC contains: t /home/njh/.cpan/build/Math-PlanePath-124-dzGj62/blib/lib /home/njh/.cpan/build/Math-PlanePath-124-dzGj62/blib/arch /home/njh/.cpan/build/constant-defer-6-9wpYNf/blib/arch /home/njh/.cpan/build/constant-defer-6-9wpYNf/blib/lib /home/njh/.cpan/build/Math-Libm-1.00-xmAHWb/blib/arch /home/njh/.cpan/build/Math-Libm-1.00-xmAHWb/blib/lib /home/njh/perl5/perlbrew/perls/perl-5.8.1/lib/5.8.1/i686-linux-thread-multi /home/njh/perl5/perlbrew/perls/perl-5.8.1/lib/5.8.1 /home/njh/perl5/perlbrew/perls/perl-5.8.1/lib/site_perl/5.8.1/i686-linux-thread-multi /home/njh/perl5/perlbrew/perls/perl-5.8.1/lib/site_perl/5.8.1 /home/njh/perl5/perlbrew/perls/perl-5.8.1/lib/site_perl .) at (eval 2) line 1.
# BEGIN failed--compilation aborted at (eval 2) line 1.
# 
t/number-fraction.t ............. ok
t/MultipleRings.t ............... ok
# skip due to Math::NumSeq not available -- Can't locate Math/NumSeq.pm in @INC (@INC contains: t /home/njh/.cpan/build/Math-PlanePath-124-dzGj62/blib/lib /home/njh/.cpan/build/Math-PlanePath-124-dzGj62/blib/arch /home/njh/.cpan/build/constant-defer-6-9wpYNf/blib/arch /home/njh/.cpan/build/constant-defer-6-9wpYNf/blib/lib /home/njh/.cpan/build/Math-Libm-1.00-xmAHWb/blib/arch /home/njh/.cpan/build/Math-Libm-1.00-xmAHWb/blib/lib /home/njh/perl5/perlbrew/perls/perl-5.8.1/lib/5.8.1/i686-linux-thread-multi /home/njh/perl5/perlbrew/perls/perl-5.8.1/lib/5.8.1 /home/njh/perl5/perlbrew/perls/perl-5.8.1/lib/site_perl/5.8.1/i686-linux-thread-multi /home/njh/perl5/perlbrew/perls/perl-5.8.1/lib/site_perl/5.8.1 /home/njh/perl5/perlbrew/perls/perl-5.8.1/lib/site_perl .) at t/NumSeq-PlanePathCoord.t line 35.
# 
t/NumSeq-PlanePathCoord.t ....... ok
# skip due to Math::NumSeq not available -- Can't locate Math/NumSeq.pm in @INC (@INC contains: t /home/njh/.cpan/build/Math-PlanePath-124-dzGj62/blib/lib /home/njh/.cpan/build/Math-PlanePath-124-dzGj62/blib/arch /home/njh/.cpan/build/constant-defer-6-9wpYNf/blib/arch /home/njh/.cpan/build/constant-defer-6-9wpYNf/blib/lib /home/njh/.cpan/build/Math-Libm-1.00-xmAHWb/blib/arch /home/njh/.cpan/build/Math-Libm-1.00-xmAHWb/blib/lib /home/njh/perl5/perlbrew/perls/perl-5.8.1/lib/5.8.1/i686-linux-thread-multi /home/njh/perl5/perlbrew/perls/perl-5.8.1/lib/5.8.1 /home/njh/perl5/perlbrew/perls/perl-5.8.1/lib/site_perl/5.8.1/i686-linux-thread-multi /home/njh/perl5/perlbrew/perls/perl-5.8.1/lib/site_perl/5.8.1 /home/njh/perl5/perlbrew/perls/perl-5.8.1/lib/site_perl .) at t/NumSeq-PlanePathDelta.t line 35.
# 
t/NumSeq-PlanePathDelta.t ....... ok
# skip due to Math::NumSeq not available -- Can't locate Math/NumSeq.pm in @INC (@INC contains: t /home/njh/.cpan/build/Math-PlanePath-124-dzGj62/blib/lib /home/njh/.cpan/build/Math-PlanePath-124-dzGj62/blib/arch /home/njh/.cpan/build/constant-defer-6-9wpYNf/blib/arch /home/njh/.cpan/build/constant-defer-6-9wpYNf/blib/lib /home/njh/.cpan/build/Math-Libm-1.00-xmAHWb/blib/arch /home/njh/.cpan/build/Math-Libm-1.00-xmAHWb/blib/lib /home/njh/perl5/perlbrew/perls/perl-5.8.1/lib/5.8.1/i686-linux-thread-multi /home/njh/perl5/perlbrew/perls/perl-5.8.1/lib/5.8.1 /home/njh/perl5/perlbrew/perls/perl-5.8.1/lib/site_perl/5.8.1/i686-linux-thread-multi /home/njh/perl5/perlbrew/perls/perl-5.8.1/lib/site_perl/5.8.1 /home/njh/perl5/perlbrew/perls/perl-5.8.1/lib/site_perl .) at t/NumSeq-PlanePathN.t line 35.
# 
t/NumSeq-PlanePathN.t ........... ok
# skip due to Math::NumSeq not available -- Can't locate Math/NumSeq.pm in @INC (@INC contains: t /home/njh/.cpan/build/Math-PlanePath-124-dzGj62/blib/lib /home/njh/.cpan/build/Math-PlanePath-124-dzGj62/blib/arch /home/njh/.cpan/build/constant-defer-6-9wpYNf/blib/arch /home/njh/.cpan/build/constant-defer-6-9wpYNf/blib/lib /home/njh/.cpan/build/Math-Libm-1.00-xmAHWb/blib/arch /home/njh/.cpan/build/Math-Libm-1.00-xmAHWb/blib/lib /home/njh/perl5/perlbrew/perls/perl-5.8.1/lib/5.8.1/i686-linux-thread-multi /home/njh/perl5/perlbrew/perls/perl-5.8.1/lib/5.8.1 /home/njh/perl5/perlbrew/perls/perl-5.8.1/lib/site_perl/5.8.1/i686-linux-thread-multi /home/njh/perl5/perlbrew/perls/perl-5.8.1/lib/site_perl/5.8.1 /home/njh/perl5/perlbrew/perls/perl-5.8.1/lib/site_perl .) at t/NumSeq-PlanePathTurn.t line 35.
# 
t/NumSeq-PlanePathTurn.t ........ ok
t/PeanoCurve-load.t ............. ok
t/PeanoCurve.t .................. ok
t/PlanePath.t ................... ok
t/PyramidRows.t ................. ok
# have_53bits: 0
t/PythagoreanTree.t ............. ok
t/QuadricCurve.t ................ ok
t/QuadricIslands.t .............. ok
t/PixelRings.t .................. ok
t/QuintetCentres.t .............. ok
t/RationalsTree.t ............... ok
t/Rows-load.t ................... ok
t/QuintetCurve.t ................ ok
t/Rows.t ........................ ok
t/SacksSpiral.t ................. ok
t/SierpinskiArrowhead.t ......... ok
t/SierpinskiArrowheadCentres.t .. ok
t/SierpinskiCurveStair.t ........ ok
t/SierpinskiTriangle.t .......... ok
t/SquareSpiral.t ................ ok
t/Staircase.t ................... ok
t/SierpinskiCurve.t ............. ok
t/TerdragonCurve.t .............. ok
t/TerdragonMidpoint.t ........... ok
t/TheodorusSpiral.t ............. ok
t/TriangularHypot.t ............. ok
t/UlamWarburton.t ............... ok
t/UlamWarburtonQuarter.t ........ ok
t/VogelFloret.t ................. ok
t/WythoffArray.t ................ ok
t/ZOrderCurve.t ................. ok
t/StaircaseAlternating.t ........ ok
All tests successful.
Files=103, Tests=34900, 10 wallclock secs ( 3.11 usr  0.26 sys + 14.65 cusr  0.22 csys = 18.24 CPU)
Result: PASS

------------------------------
PREREQUISITES
------------------------------

Prerequisite modules loaded:

requires:

    Module              Need  Have    
    ------------------- ----- --------
    constant            1.02  1.04    
    constant::defer     5     6       
    List::Util          0     1.42    
    Math::Libm          0     1.00    
    perl                5.004 5.008001

build_requires:

    Module              Need  Have    
    ------------------- ----- --------
    ExtUtils::MakeMaker 0     7.18    
    Test                0     1.26    

configure_requires:

    Module              Need  Have    
    ------------------- ----- --------
    ExtUtils::MakeMaker 0     7.18    


------------------------------
ENVIRONMENT AND OTHER CONTEXT
------------------------------

Environment variables:

    AUTOMATED_TESTING = 1
    HARNESS_OPTIONS = j2
    LANG = en_US.UTF-8
    PATH = /home/njh/perl5/perlbrew/bin:/home/njh/perl5/perlbrew/perls/perl-5.8.1/bin:/home/njh/perl5/perlbrew/bin:/usr/bin:/bin
    PERL5LIB = /home/njh/.cpan/build/constant-defer-6-9wpYNf/blib/arch:/home/njh/.cpan/build/constant-defer-6-9wpYNf/blib/lib:/home/njh/.cpan/build/Math-Libm-1.00-xmAHWb/blib/arch:/home/njh/.cpan/build/Math-Libm-1.00-xmAHWb/blib/lib
    PERL5OPT = 
    PERL5_CPANPLUS_IS_RUNNING = 19590
    PERL5_CPAN_IS_RUNNING = 19590
    PERLBREW_BASHRC_VERSION = 0.73
    PERLBREW_HOME = /home/njh/.perlbrew
    PERLBREW_LIB = 
    PERLBREW_MANPATH = /home/njh/perl5/perlbrew/perls/perl-5.8.1/man
    PERLBREW_PATH = /home/njh/perl5/perlbrew/bin:/home/njh/perl5/perlbrew/perls/perl-5.8.1/bin
    PERLBREW_PERL = perl-5.8.1
    PERLBREW_ROOT = /home/njh/perl5/perlbrew
    PERLBREW_VERSION = 0.73
    PERL_LOCAL_LIB_ROOT = 
    SHELL = /bin/sh

Perl special variables (and OS-specific diagnostics, for MSWin32):

    $^X = /home/njh/perl5/perlbrew/perls/perl-5.8.1/bin/perl
    $UID/$EUID = 1000 / 1000
    $GID = 1000 1000 108 46 44 30 29 25 24 4
    $EGID = 1000 1000 108 46 44 30 29 25 24 4

Perl module toolchain versions installed:

    Module              Have    
    ------------------- --------
    CPAN                2.10    
    CPAN::Meta          2.150005
    Cwd                 3.60    
    ExtUtils::CBuilder  0.280224
    ExtUtils::Command   7.18    
    ExtUtils::Install   1.54    
    ExtUtils::MakeMaker 7.18    
    ExtUtils::Manifest  1.70    
    ExtUtils::ParseXS   3.30    
    File::Spec          3.60    
    JSON                n/a     
    JSON::PP            2.27203 
    Module::Build       0.4216  
    Module::Signature   n/a     
    Parse::CPAN::Meta   1.4417  
    Test::Harness       3.35    
    Test::More          1.001014
    YAML                1.15    
    YAML::Syck          1.29    
    version             0.9912  


--

Summary of my perl5 (revision 5.0 version 8 subversion 1) configuration:
  Platform:
    osname=linux, osvers=4.2.0-1-686-pae, archname=i686-linux-thread-multi
    uname='linux zack 4.2.0-1-686-pae #1 smp debian 4.2.6-1 (2015-11-10) i686 gnulinux '
    config_args='-de -Dprefix=/home/njh/perl5/perlbrew/perls/perl-5.8.1 -Duseithreads -Dusemultiplicity -Dusedevel -Accflags= -Aeval:scriptdir=/home/njh/perl5/perlbrew/perls/perl-5.8.1/bin'
    hint=recommended, useposix=true, d_sigaction=define
    usethreads=define use5005threads=undef useithreads=define usemultiplicity=define
    useperlio=define d_sfio=undef uselargefiles=define usesocks=undef
    use64bitint=undef use64bitall=undef uselongdouble=undef
    usemymalloc=n, bincompat5005=undef
  Compiler:
    cc='cc', ccflags ='-D_REENTRANT -D_GNU_SOURCE -fno-strict-aliasing -I/usr/local/include -D_LARGEFILE_SOURCE -D_FILE_OFFSET_BITS=64',
    optimize='-O2',
    cppflags='-D_REENTRANT -D_GNU_SOURCE -fno-strict-aliasing -I/usr/local/include'
    ccversion='', gccversion='5.2.1 20151121', gccosandvers=''
    intsize=4, longsize=4, ptrsize=4, doublesize=8, byteorder=1234
    d_longlong=define, longlongsize=8, d_longdbl=define, longdblsize=12
    ivtype='long', ivsize=4, nvtype='double', nvsize=8, Off_t='off_t', lseeksize=8
    alignbytes=4, prototype=define
  Linker and Libraries:
    ld='cc', ldflags =' -L/usr/local/lib'
    libpth=/usr/local/lib /lib/i386-linux-gnu /lib/../lib /usr/lib/i386-linux-gnu /usr/lib/../lib /lib /usr/lib
    libs=-lnsl -lgdbm -ldb -ldl -lm -lcrypt -lutil -lpthread -lc -lgdbm_compat
    perllibs=-lnsl -ldl -lm -lcrypt -lutil -lpthread -lc -lgdbm_compat
    libc=libc-2.19.so, so=so, useshrplib=false, libperl=libperl.a
    gnulibc_version='2.19'
  Dynamic Linking:
    dlsrc=dl_dlopen.xs, dlext=so, d_dlsymun=undef, ccdlflags='-rdynamic'
    cccdlflags='-fpic', lddlflags='-shared -L/usr/local/lib'


Characteristics of this binary (from libperl): 
  Compile-time options: MULTIPLICITY USE_ITHREADS USE_LARGE_FILES PERL_IMPLICIT_CONTEXT
  Locally applied patches:
  	Devel::PatchPerl 1.38
  Built under linux
  Compiled at Nov 24 2015 03:36:53
  %ENV:
    PERL5LIB="/home/njh/.cpan/build/constant-defer-6-9wpYNf/blib/arch:/home/njh/.cpan/build/constant-defer-6-9wpYNf/blib/lib:/home/njh/.cpan/build/Math-Libm-1.00-xmAHWb/blib/arch:/home/njh/.cpan/build/Math-Libm-1.00-xmAHWb/blib/lib"
    PERL5OPT=""
    PERL5_CPANPLUS_IS_RUNNING="19590"
    PERL5_CPAN_IS_RUNNING="19590"
    PERLBREW_BASHRC_VERSION="0.73"
    PERLBREW_HOME="/home/njh/.perlbrew"
    PERLBREW_LIB=""
    PERLBREW_MANPATH="/home/njh/perl5/perlbrew/perls/perl-5.8.1/man"
    PERLBREW_PATH="/home/njh/perl5/perlbrew/bin:/home/njh/perl5/perlbrew/perls/perl-5.8.1/bin"
    PERLBREW_PERL="perl-5.8.1"
    PERLBREW_ROOT="/home/njh/perl5/perlbrew"
    PERLBREW_VERSION="0.73"
    PERL_LOCAL_LIB_ROOT=""
  @INC:
    /home/njh/.cpan/build/constant-defer-6-9wpYNf/blib/arch
    /home/njh/.cpan/build/constant-defer-6-9wpYNf/blib/lib
    /home/njh/.cpan/build/Math-Libm-1.00-xmAHWb/blib/arch
    /home/njh/.cpan/build/Math-Libm-1.00-xmAHWb/blib/lib
    /home/njh/perl5/perlbrew/perls/perl-5.8.1/lib/5.8.1/i686-linux-thread-multi
    /home/njh/perl5/perlbrew/perls/perl-5.8.1/lib/5.8.1
    /home/njh/perl5/perlbrew/perls/perl-5.8.1/lib/site_perl/5.8.1/i686-linux-thread-multi
    /home/njh/perl5/perlbrew/perls/perl-5.8.1/lib/site_perl/5.8.1
    /home/njh/perl5/perlbrew/perls/perl-5.8.1/lib/site_perl
    .