Test-TempDir v0.11 Perl 5 v5.28.3 x86_64-linux-thread-multi
        
            - Status
- Pass
- From
- aero
- Dist
- 
                Test-TempDir v0.11
            
- Platform
- Perl 5 v5.28.3 x86_64-linux-thread-multi
- Date
- 2020-07-31 04:20:27
- ID
- 29b7fd7c-d2e5-11ea-b82e-b04e1975e03c
This distribution has been tested as part of the CPAN Testers
project, supporting the Perl programming language.  See
http://wiki.cpantesters.org/ for more information or email
questions to cpan-testers-discuss@perl.org
--
Dear Karen Etheridge,
This is a computer-generated report for Test-TempDir-0.11
on perl 5.28.3, created by CPAN-Reporter-1.2018.
Thank you for uploading your work to CPAN.  Congratulations!
All tests were successful.
Sections of this report:
    * Tester comments
    * Program output
    * Prerequisites
    * Environment and other context
------------------------------
TESTER COMMENTS
------------------------------
Additional comments from tester:
none provided
------------------------------
PROGRAM OUTPUT
------------------------------
Output from './Build test':
# 
# Versions for all modules listed in MYMETA.json (including optional ones):
# 
# === Configure Requires ===
# 
#     Module               Want  Have
#     ------------------- ----- -----
#     ExtUtils::MakeMaker   any  7.46
#     Module::Build::Tiny 0.034 0.039
# 
# === Test Requires ===
# 
#     Module           Want     Have
#     ---------------- ---- --------
#     File::Path       2.04     2.17
#     File::Spec        any     3.75
#     Module::Metadata  any 1.000037
#     Test::More       0.88 1.302175
#     Test::Requires    any     0.11
#     ok                any 1.302175
# 
# === Test Recommends ===
# 
#     Module         Want     Have
#     ---------- -------- --------
#     CPAN::Meta 2.120900 2.150010
# 
# === Runtime Requires ===
# 
#     Module                         Want     Have
#     ---------------------------- ------ --------
#     Carp                            any     1.50
#     File::Spec                      any     3.75
#     File::Temp                   0.2308   0.2309
#     Moose                           any   2.2013
#     Moose::Util::TypeConstraints    any   2.2013
#     MooseX::Types::Path::Class      any     0.09
#     Path::Class                     any     0.37
#     Sub::Exporter                   any    0.987
#     Test::Builder                   any 1.302175
#     namespace::autoclean           0.08     0.29
#     strict                          any     1.11
#     warnings                        any     1.42
# 
# === Runtime Recommends ===
# 
#     Module             Want Have
#     ------------------ ---- ----
#     Directory::Scratch  any 0.18
# 
# === Other Modules ===
# 
#     Module            Have
#     --------------- ------
#     Encode            3.07
#     File::Temp      0.2309
#     JSON::PP          4.05
#     Module::Runtime  0.016
#     Sub::Name         0.26
#     YAML              1.30
#     autodie           2.32
# 
t/00-report-prereqs.t .. ok
t/00_load.t ............ ok
t/basic.t .............. ok
Warning: not cleaning up files in t/tmp/AehjFYI9Lu at t/directory_scratch.t line 21.
t/directory_scratch.t .. ok
t/factory.t ............ ok
t/handle.t ............. ok
All tests successful.
Files=6, Tests=63,  3 wallclock secs ( 0.03 usr  0.02 sys +  1.97 cusr  0.12 csys =  2.14 CPU)
Result: PASS
------------------------------
PREREQUISITES
------------------------------
Prerequisite modules loaded:
requires:
    Module                       Need     Have    
    ---------------------------- -------- --------
    Carp                         0        1.50    
    File::Spec                   0        3.75    
    File::Temp                   0.2308   0.2309  
    Moose                        0        2.2013  
    Moose::Util::TypeConstraints 0        2.2013  
    MooseX::Types::Path::Class   0        0.09    
    namespace::autoclean         0.08     0.29    
    Path::Class                  0        0.37    
    perl                         5.006    5.028003
    strict                       0        1.11    
    Sub::Exporter                0        0.987   
    Test::Builder                0        1.302175
    warnings                     0        1.42    
build_requires:
    Module                       Need     Have    
    ---------------------------- -------- --------
    File::Path                   2.04     2.17    
    File::Spec                   0        3.75    
    Module::Metadata             0        1.000037
    ok                           0        1.302175
    perl                         5.006    5.028003
    Test::More                   0.88     1.302175
    Test::Requires               0        0.11    
configure_requires:
    Module                       Need     Have    
    ---------------------------- -------- --------
    ExtUtils::MakeMaker          0        7.46    
    Module::Build::Tiny          0.034    0.039   
    perl                         5.006    5.028003
opt_requires:
    Module                       Need     Have    
    ---------------------------- -------- --------
    Directory::Scratch           0        0.18    
opt_build_requires:
    Module                       Need     Have    
    ---------------------------- -------- --------
    CPAN::Meta                   2.120900 2.150010
------------------------------
ENVIRONMENT AND OTHER CONTEXT
------------------------------
Environment variables:
    LANG = en_US.UTF-8
    LC_TERMINAL = iTerm2
    LC_TERMINAL_VERSION = 3.3.12
    NONINTERACTIVE_TESTING = 1
    PATH = /home/aero/bin:/home/aero/bin:/home/aero/.rakubrew/versions/moar-2020.05.1/install/bin:/home/aero/.rakubrew/versions/moar-2020.05.1/install/share/perl6/site/bin:/home/aero/.anyenv/envs/rbenv/shims:/home/aero/.anyenv/envs/rbenv/bin:/home/aero/.anyenv/envs/pyenv/shims:/home/aero/.anyenv/envs/pyenv/bin:/home/aero/.anyenv/envs/ndenv/shims:/home/aero/.anyenv/envs/ndenv/bin:/home/aero/.anyenv/envs/jenv/shims:/home/aero/.anyenv/envs/jenv/bin:/home/aero/.anyenv/envs/goenv/shims:/home/aero/.anyenv/envs/goenv/bin:/home/aero/.anyenv/bin:/home/aero/perl5/perlbrew/bin:/home/aero/perl5/perlbrew/perls/perl-5.28/bin:/usr/local/sbin:/usr/local/bin:/usr/sbin:/usr/bin:/sbin:/bin:/usr/games:/usr/local/games:MY_BASHRC_PATH:MY_PROFILE_PATH
    PERL5LIB = 
    PERL5OPT = 
    PERL5_CPANPLUS_IS_RUNNING = 4088
    PERL5_CPAN_IS_RUNNING = 4088
    PERLBREW_HOME = /home/aero/.perlbrew
    PERLBREW_MANPATH = /home/aero/perl5/perlbrew/perls/perl-5.28/man
    PERLBREW_PATH = /home/aero/perl5/perlbrew/bin:/home/aero/perl5/perlbrew/perls/perl-5.28/bin
    PERLBREW_PERL = perl-5.28
    PERLBREW_ROOT = /home/aero/perl5/perlbrew
    PERLBREW_SHELLRC_VERSION = 0.88
    PERLBREW_VERSION = 0.88
    PERL_MM_USE_DEFAULT = 1
    PERL_USE_UNSAFE_INC = 1
    SHELL = /bin/bash
    TERM = xterm-256color
Perl special variables (and OS-specific diagnostics, for MSWin32):
    $^X = /home/aero/perl5/perlbrew/perls/perl-5.28/bin/perl
    $UID/$EUID = 1001 / 1001
    $GID = 1001 27 1001
    $EGID = 1001 27 1001
Perl module toolchain versions installed:
    Module              Have    
    ------------------- --------
    CPAN                2.28    
    CPAN::Meta          2.150010
    Cwd                 3.75    
    ExtUtils::CBuilder  0.280234
    ExtUtils::Command   7.46    
    ExtUtils::Install   2.16    
    ExtUtils::MakeMaker 7.46    
    ExtUtils::Manifest  1.72    
    ExtUtils::ParseXS   3.39    
    File::Spec          3.75    
    JSON                4.02    
    JSON::PP            4.05    
    Module::Build       0.4231  
    Module::Signature   n/a     
    Parse::CPAN::Meta   2.150010
    Test::Harness       3.42    
    Test::More          1.302175
    YAML                1.30    
    YAML::Syck          1.32    
    version             0.9924  
--
Summary of my perl5 (revision 5 version 28 subversion 3) configuration:
   
  Platform:
    osname=linux
    osvers=4.9.0-5-amd64
    archname=x86_64-linux-thread-multi
    uname='linux aero 4.9.0-5-amd64 #1 smp debian 4.9.65-3+deb9u2 (2018-01-04) x86_64 x86_64 x86_64 gnulinux '
    config_args='-de -Dprefix=/home/aero/perl5/perlbrew/perls/perl-5.28 -Dman1dir=none -Dman3dir=none -Dusethreads -Aeval:scriptdir=/home/aero/perl5/perlbrew/perls/perl-5.28/bin'
    hint=recommended
    useposix=true
    d_sigaction=define
    useithreads=define
    usemultiplicity=define
    use64bitint=define
    use64bitall=define
    uselongdouble=undef
    usemymalloc=n
    default_inc_excludes_dot=define
    bincompat5005=undef
  Compiler:
    cc='cc'
    ccflags ='-D_REENTRANT -D_GNU_SOURCE -fwrapv -fno-strict-aliasing -pipe -fstack-protector-strong -I/usr/local/include -D_LARGEFILE_SOURCE -D_FILE_OFFSET_BITS=64'
    optimize='-O2'
    cppflags='-D_REENTRANT -D_GNU_SOURCE -fwrapv -fno-strict-aliasing -pipe -fstack-protector-strong -I/usr/local/include'
    ccversion=''
    gccversion='4.9.4'
    gccosandvers=''
    intsize=4
    longsize=8
    ptrsize=8
    doublesize=8
    byteorder=12345678
    doublekind=3
    d_longlong=define
    longlongsize=8
    d_longdbl=define
    longdblsize=16
    longdblkind=3
    ivtype='long'
    ivsize=8
    nvtype='double'
    nvsize=8
    Off_t='off_t'
    lseeksize=8
    alignbytes=8
    prototype=define
  Linker and Libraries:
    ld='cc'
    ldflags =' -fstack-protector-strong -L/usr/local/lib'
    libpth=/usr/local/lib /usr/lib/gcc/x86_64-linux-gnu/4.9/include-fixed /usr/include/x86_64-linux-gnu /usr/lib /lib/x86_64-linux-gnu /lib/../lib /usr/lib/x86_64-linux-gnu /usr/lib/../lib /lib
    libs=-lpthread -lnsl -lgdbm -ldl -lm -lcrypt -lutil -lc -lgdbm_compat
    perllibs=-lpthread -lnsl -ldl -lm -lcrypt -lutil -lc
    libc=libc-2.19.so
    so=so
    useshrplib=false
    libperl=libperl.a
    gnulibc_version='2.19'
  Dynamic Linking:
    dlsrc=dl_dlopen.xs
    dlext=so
    d_dlsymun=undef
    ccdlflags='-Wl,-E'
    cccdlflags='-fPIC'
    lddlflags='-shared -O2 -L/usr/local/lib -fstack-protector-strong'
Characteristics of this binary (from libperl): 
  Compile-time options:
    HAS_TIMES
    MULTIPLICITY
    PERLIO_LAYERS
    PERL_COPY_ON_WRITE
    PERL_DONT_CREATE_GVSV
    PERL_IMPLICIT_CONTEXT
    PERL_MALLOC_WRAP
    PERL_OP_PARENT
    PERL_PRESERVE_IVUV
    USE_64_BIT_ALL
    USE_64_BIT_INT
    USE_ITHREADS
    USE_LARGE_FILES
    USE_LOCALE
    USE_LOCALE_COLLATE
    USE_LOCALE_CTYPE
    USE_LOCALE_NUMERIC
    USE_LOCALE_TIME
    USE_PERLIO
    USE_PERL_ATOF
    USE_REENTRANT_API
  Locally applied patches:
    Devel::PatchPerl 1.98
  Built under linux
  Compiled at Jun  2 2020 10:02:33
  %ENV:
    PERL5LIB=""
    PERL5OPT=""
    PERL5_CPANPLUS_IS_RUNNING="4088"
    PERL5_CPAN_IS_RUNNING="4088"
    PERLBREW_HOME="/home/aero/.perlbrew"
    PERLBREW_MANPATH="/home/aero/perl5/perlbrew/perls/perl-5.28/man"
    PERLBREW_PATH="/home/aero/perl5/perlbrew/bin:/home/aero/perl5/perlbrew/perls/perl-5.28/bin"
    PERLBREW_PERL="perl-5.28"
    PERLBREW_ROOT="/home/aero/perl5/perlbrew"
    PERLBREW_SHELLRC_VERSION="0.88"
    PERLBREW_VERSION="0.88"
    PERL_MM_USE_DEFAULT="1"
    PERL_USE_UNSAFE_INC="1"
  @INC:
    /home/aero/perl5/perlbrew/perls/perl-5.28/lib/site_perl/5.28.3/x86_64-linux-thread-multi
    /home/aero/perl5/perlbrew/perls/perl-5.28/lib/site_perl/5.28.3
    /home/aero/perl5/perlbrew/perls/perl-5.28/lib/5.28.3/x86_64-linux-thread-multi
    /home/aero/perl5/perlbrew/perls/perl-5.28/lib/5.28.3
    /home/aero/perl5/perlbrew/perls/perl-5.28/lib/site_perl/5.28.2/x86_64-linux-thread-multi
    /home/aero/perl5/perlbrew/perls/perl-5.28/lib/site_perl/5.28.2
    /home/aero/perl5/perlbrew/perls/perl-5.28/lib/site_perl
    .