Mail-DKIM v1.20240923 Perl 5 v5.42.0 x86_64-linux

Status
Pass
From
Slaven Rezić
Dist
Mail-DKIM v1.20240923
Platform
Perl 5 v5.42.0 x86_64-linux
Date
2025-07-17 08:29:31
ID
29a0dbf4-62e8-11f0-9d44-0ee76d8775ea
This distribution has been tested as part of the CPAN Testers
project, supporting the Perl programming language.  See
http://wiki.cpantesters.org/ for more information or email
questions to cpan-testers-discuss@perl.org


--
Dear Marc Bradshaw,

This is a computer-generated report for Mail-DKIM-1.20240923
on perl 5.42.0, created by CPAN-Reporter-1.2020.

Thank you for uploading your work to CPAN.  Congratulations!
All tests were successful.

Sections of this report:

    * Tester comments
    * Program output
    * Prerequisites
    * Environment and other context

------------------------------
TESTER COMMENTS
------------------------------

Additional comments from tester:

none provided

------------------------------
PROGRAM OUTPUT
------------------------------

Output from '/usr/bin/make test':

PERL_DL_NONLAZY=1 "/opt/perl-5.42.0/bin/perl" "-MExtUtils::Command::MM" "-MTest::Harness" "-e" "undef *Test::Harness::Switches; test_harness(0, 'blib/lib', 'blib/arch')" t/*.t
t/adsp.t ........................ ok
Authentication-Results Header parse error: not expecting a string at /home/cpansand/.cpan/build/2025071708/Mail-DKIM-1.20240923-0/blib/lib/Mail/DKIM/ARC/Signer.pm line 116.

Authentication-Results: Garbage Authentication-Results Header - SHOULD NOT PARSE at /home/cpansand/.cpan/build/2025071708/Mail-DKIM-1.20240923-0/blib/lib/Mail/DKIM/ARC/Signer.pm line 121.
t/arc-draft-sign-tests.t ........ ok
t/arc-draft-validation-tests.t .. ok
t/arc-signer.t .................. ok
t/author-pod-syntax.t ........... skipped: these tests are for testing by the author
t/dev-manifest.t ................ skipped: Author tests not required for installation
t/external_signer.t ............. ok
t/Mail-DKIM.t ................... ok
t/policy.t ...................... ok
t/public_key.t .................. ok
t/signature.t ................... ok
t/signer.t ...................... ok
t/signer_dk.t ................... ok
t/signer_expiration.t ........... ok
t/signer_expiration_set_time.t .. ok
t/signer_policy.t ............... ok
t/simple_canonicalization.t ..... ok
t/textwrap.t .................... ok
did not cache that DNS entry: 2023-05-ed25519-does-not-exist._domainkey.wander.science
>>>
No results: NXDOMAIN
<<<
t/verifier.t .................... ok
t/verifier_strict.t ............. ok
All tests successful.
Files=20, Tests=495,  4 wallclock secs ( 0.24 usr  0.08 sys +  3.66 cusr  0.62 csys =  4.60 CPU)
Result: PASS

------------------------------
PREREQUISITES
------------------------------

Prerequisite modules loaded:

requires:

    Module                                          Need  Have      
    ----------------------------------------------- ----- ----------
    base                                            0     2.27      
    Carp                                            0     1.54      
    Crypt::OpenSSL::RSA                             0     0.35      
    Crypt::PK::Ed25519                              0     0.087     
    Digest::SHA                                     0     6.04      
    Mail::Address                                   0     2.22      
    Mail::AuthenticationResults::Header::AuthServID 0     2.20250709
    Mail::AuthenticationResults::Parser             0     2.20250709
    MIME::Base64                                    0     3.16_01   
    Net::DNS                                        0     1.51      
    perl                                            5.006 5.042000  
    strict                                          0     1.14      
    warnings                                        0     1.74      

build_requires:

    Module                                          Need  Have      
    ----------------------------------------------- ----- ----------
    Data::Dumper                                    0     2.192     
    ExtUtils::MakeMaker                             0     7.76      
    lib                                             0     0.65      
    Net::DNS::Resolver                              0     2017      
    Net::DNS::Resolver::Mock                        0     1.20230216
    Test::More                                      0     1.302210  
    Test::RequiresInternet                          0     0.05      
    Test::Simple                                    0     1.302210  
    YAML                                            0     1.31      
    YAML::XS                                        0     v0.904.0  

configure_requires:

    Module                                          Need  Have      
    ----------------------------------------------- ----- ----------
    ExtUtils::MakeMaker                             0     7.76      


------------------------------
ENVIRONMENT AND OTHER CONTEXT
------------------------------

Environment variables:

    LANG = C
    PATH = /usr/local/bin:/usr/bin:/bin:/usr/local/sbin:/usr/sbin:/sbin:/home/cpansand/bin/linux-gnu:/home/cpansand/bin/sh:/home/cpansand/bin:/usr/games:/home/cpansand/devel:/home/eserte/src/srezic-misc/scripts
    PERL5LIB = /home/cpansand/.local/share/.cpan/build/2025071708/Net-DNS-Resolver-Mock-1.20230216-0/blib/arch:/home/cpansand/.local/share/.cpan/build/2025071708/Net-DNS-Resolver-Mock-1.20230216-0/blib/lib:/home/cpansand/.local/share/.cpan/build/2025071708/MailTools-2.22-0/blib/arch:/home/cpansand/.local/share/.cpan/build/2025071708/MailTools-2.22-0/blib/lib:/home/cpansand/.local/share/.cpan/build/2025071708/Crypt-OpenSSL-RSA-0.35-0/blib/arch:/home/cpansand/.local/share/.cpan/build/2025071708/Crypt-OpenSSL-RSA-0.35-0/blib/lib
    PERL5OPT = 
    PERL5_CPANPLUS_IS_RUNNING = 4056401
    PERL5_CPAN_IS_RUNNING = 4056401
    PERL5_CPAN_IS_RUNNING_IN_RECURSION = 4056013,4056401
    PERLDOC = -MPod::Perldoc::ToTextOverstrike
    PERL_BATCH = yes
    PERL_CANARY_STABILITY_NOPROMPT = 1
    PERL_CPAN_REPORTER_CONFIG = /var/tmp/cpansmoker-1023/2025071708/cpanreporter_000_config.ini
    PERL_EXTUTILS_AUTOINSTALL = --defaultdeps
    PERL_USE_UNSAFE_INC = 1
    SHELL = /usr/bin/zsh
    TERM = screen
    TMPDIR = /var/tmp/cpansmoker-1023/2025071708

Perl special variables (and OS-specific diagnostics, for MSWin32):

    $^X = /opt/perl-5.42.0/bin/perl
    $UID/$EUID = 1023 / 1023
    $GID = 1023 1023
    $EGID = 1023 1023

Perl module toolchain versions installed:

    Module              Have    
    ------------------- --------
    CPAN                2.38    
    CPAN::Meta          2.150010
    Cwd                 3.94    
    ExtUtils::CBuilder  0.280242
    ExtUtils::Command   7.76    
    ExtUtils::Install   2.22    
    ExtUtils::MakeMaker 7.76    
    ExtUtils::Manifest  1.75    
    ExtUtils::ParseXS   3.57    
    File::Spec          3.94    
    JSON                4.10    
    JSON::PP            4.16    
    Module::Build       0.4234  
    Module::Signature   n/a     
    Parse::CPAN::Meta   2.150010
    Test2               1.302210
    Test::Harness       3.50    
    Test::More          1.302210
    YAML                1.31    
    YAML::Syck          1.34    
    version             0.9933  


--

Summary of my perl5 (revision 5 version 42 subversion 0) configuration:
   
  Platform:
    osname=linux
    osvers=6.1.0-37-amd64
    archname=x86_64-linux
    uname='linux cloud5.bbbike.org 6.1.0-37-amd64 #1 smp preempt_dynamic debian 6.1.140-1 (2025-05-22) x86_64 gnulinux '
    config_args='-ds -e -Dprefix=/opt/perl-5.42.0 -Uinstallusrbinperl -Dcf_email=srezic@cpan.org'
    hint=recommended
    useposix=true
    d_sigaction=define
    useithreads=undef
    usemultiplicity=undef
    use64bitint=define
    use64bitall=define
    uselongdouble=undef
    usemymalloc=n
    default_inc_excludes_dot=define
  Compiler:
    cc='cc'
    ccflags ='-fwrapv -fno-strict-aliasing -pipe -fstack-protector-strong -I/usr/local/include -D_LARGEFILE_SOURCE -D_FILE_OFFSET_BITS=64 -D_FORTIFY_SOURCE=2'
    optimize='-O2'
    cppflags='-fwrapv -fno-strict-aliasing -pipe -fstack-protector-strong -I/usr/local/include'
    ccversion=''
    gccversion='12.2.0'
    gccosandvers=''
    intsize=4
    longsize=8
    ptrsize=8
    doublesize=8
    byteorder=12345678
    doublekind=3
    d_longlong=define
    longlongsize=8
    d_longdbl=define
    longdblsize=16
    longdblkind=3
    ivtype='long'
    ivsize=8
    nvtype='double'
    nvsize=8
    Off_t='off_t'
    lseeksize=8
    alignbytes=8
    prototype=define
  Linker and Libraries:
    ld='cc'
    ldflags =' -fstack-protector-strong -L/usr/local/lib'
    libpth=/usr/local/lib /usr/lib/x86_64-linux-gnu /usr/lib /usr/lib64
    libs=-lpthread -lgdbm -ldb -ldl -lm -lcrypt -lutil -lc
    perllibs=-lpthread -ldl -lm -lcrypt -lutil -lc
    libc=/lib/x86_64-linux-gnu/libc.so.6
    so=so
    useshrplib=false
    libperl=libperl.a
    gnulibc_version='2.36'
  Dynamic Linking:
    dlsrc=dl_dlopen.xs
    dlext=so
    d_dlsymun=undef
    ccdlflags='-Wl,-E'
    cccdlflags='-fPIC'
    lddlflags='-shared -O2 -L/usr/local/lib -fstack-protector-strong'


Characteristics of this binary (from libperl): 
  Compile-time options:
    HAS_LONG_DOUBLE
    HAS_STRTOLD
    HAS_TIMES
    PERLIO_LAYERS
    PERL_COPY_ON_WRITE
    PERL_DONT_CREATE_GVSV
    PERL_HASH_FUNC_SIPHASH13
    PERL_HASH_USE_SBOX32
    PERL_MALLOC_WRAP
    PERL_OP_PARENT
    PERL_PRESERVE_IVUV
    PERL_USE_SAFE_PUTENV
    USE_64_BIT_ALL
    USE_64_BIT_INT
    USE_LARGE_FILES
    USE_LOCALE
    USE_LOCALE_COLLATE
    USE_LOCALE_CTYPE
    USE_LOCALE_NUMERIC
    USE_LOCALE_TIME
    USE_PERLIO
    USE_PERL_ATOF
  Built under linux
  Compiled at Jul  5 2025 18:17:19
  %ENV:
    PERL5LIB="/home/cpansand/.local/share/.cpan/build/2025071708/Net-DNS-Resolver-Mock-1.20230216-0/blib/arch:/home/cpansand/.local/share/.cpan/build/2025071708/Net-DNS-Resolver-Mock-1.20230216-0/blib/lib:/home/cpansand/.local/share/.cpan/build/2025071708/MailTools-2.22-0/blib/arch:/home/cpansand/.local/share/.cpan/build/2025071708/MailTools-2.22-0/blib/lib:/home/cpansand/.local/share/.cpan/build/2025071708/Crypt-OpenSSL-RSA-0.35-0/blib/arch:/home/cpansand/.local/share/.cpan/build/2025071708/Crypt-OpenSSL-RSA-0.35-0/blib/lib"
    PERL5OPT=""
    PERL5_CPANPLUS_IS_RUNNING="4056401"
    PERL5_CPAN_IS_RUNNING="4056401"
    PERL5_CPAN_IS_RUNNING_IN_RECURSION="4056013,4056401"
    PERLDOC="-MPod::Perldoc::ToTextOverstrike"
    PERL_BATCH="yes"
    PERL_CANARY_STABILITY_NOPROMPT="1"
    PERL_CPAN_REPORTER_CONFIG="/var/tmp/cpansmoker-1023/2025071708/cpanreporter_000_config.ini"
    PERL_EXTUTILS_AUTOINSTALL="--defaultdeps"
    PERL_USE_UNSAFE_INC="1"
  @INC:
    /home/cpansand/.local/share/.cpan/build/2025071708/Net-DNS-Resolver-Mock-1.20230216-0/blib/arch
    /home/cpansand/.local/share/.cpan/build/2025071708/Net-DNS-Resolver-Mock-1.20230216-0/blib/lib
    /home/cpansand/.local/share/.cpan/build/2025071708/MailTools-2.22-0/blib/arch
    /home/cpansand/.local/share/.cpan/build/2025071708/MailTools-2.22-0/blib/lib
    /home/cpansand/.local/share/.cpan/build/2025071708/Crypt-OpenSSL-RSA-0.35-0/blib/arch
    /home/cpansand/.local/share/.cpan/build/2025071708/Crypt-OpenSSL-RSA-0.35-0/blib/lib
    /opt/perl-5.42.0/lib/site_perl/5.42.0/x86_64-linux
    /opt/perl-5.42.0/lib/site_perl/5.42.0
    /opt/perl-5.42.0/lib/5.42.0/x86_64-linux
    /opt/perl-5.42.0/lib/5.42.0
    .