Test-Unit v0.25 Perl 5 v5.8.7 x86_64-linux-thread-multi

Status
Pass
From
Nigel Horne
Dist
Test-Unit v0.25
Platform
Perl 5 v5.8.7 x86_64-linux-thread-multi
Date
2019-09-24 03:19:47
ID
2958ac2e-de7a-11e9-a65e-fe3acca03743
This distribution has been tested as part of the CPAN Testers
project, supporting the Perl programming language.  See
http://wiki.cpantesters.org/ for more information or email
questions to cpan-testers-discuss@perl.org


--
Dear Matthew Astley,

This is a computer-generated report for Test-Unit-0.25
on perl 5.8.7, created by CPAN-Reporter-1.2018.

Thank you for uploading your work to CPAN.  Congratulations!
All tests were successful.

Sections of this report:

    * Tester comments
    * Program output
    * Prerequisites
    * Environment and other context

------------------------------
TESTER COMMENTS
------------------------------

Additional comments from tester:

this report is from an automated smoke testing program
and was not reviewed by a human for accuracy

------------------------------
PROGRAM OUTPUT
------------------------------

Output from '/usr/bin/make test':

PERL_DL_NONLAZY=1 "/home/njh/perl5/perlbrew/perls/perl-5.8.7-thread/bin/perl5.8.7" "-MExtUtils::Command::MM" "-MTest::Harness" "-e" "undef *Test::Harness::Switches; test_harness(0, 'blib/lib', 'blib/arch')" t/*.t
t/all_tests.t ..... ok
t/assert.t ........ ok
t/try_examples.t .. ok
All tests successful.
Files=3, Tests=89,  1 wallclock secs ( 0.03 usr  0.01 sys +  0.96 cusr  0.05 csys =  1.05 CPU)
Result: PASS

------------------------------
PREREQUISITES
------------------------------

Prerequisite modules loaded:

requires:

    Module              Need Have    
    ------------------- ---- --------
    base                1    2.07    
    Class::Inner        0    0.200001
    Devel::Symdump      0    2.18    
    Error               0    0.17028 

build_requires:

    Module              Need Have    
    ------------------- ---- --------
    ExtUtils::MakeMaker 0    7.34    


------------------------------
ENVIRONMENT AND OTHER CONTEXT
------------------------------

Environment variables:

    AUTOMATED_TESTING = 1
    HARNESS_OPTIONS = j2
    LANG = en_US.UTF-8
    PATH = /home/njh/perl5/perlbrew/bin:/home/njh/perl5/perlbrew/perls/perl-5.8.7-thread/bin:/home/njh/src/njh/smoker/bin:/usr/bin:/bin
    PERL5LIB = /tmp/build/Error-0.17028-2/blib/arch:/tmp/build/Error-0.17028-2/blib/lib:/tmp/build/Devel-Symdump-2.18-0/blib/arch:/tmp/build/Devel-Symdump-2.18-0/blib/lib:/tmp/build/Class-Inner-0.200001-0/blib/arch:/tmp/build/Class-Inner-0.200001-0/blib/lib
    PERL5OPT = 
    PERL5_CPANPLUS_IS_RUNNING = 15905
    PERL5_CPAN_IS_RUNNING = 15905
    PERL5_CPAN_IS_RUNNING_IN_RECURSION = 14885,15905
    PERLBREW_HOME = /home/njh/.perlbrew
    PERLBREW_MANPATH = /home/njh/perl5/perlbrew/perls/perl-5.8.7-thread/man
    PERLBREW_PATH = /home/njh/perl5/perlbrew/bin:/home/njh/perl5/perlbrew/perls/perl-5.8.7-thread/bin
    PERLBREW_PERL = perl-5.8.7-thread
    PERLBREW_ROOT = /home/njh/perl5/perlbrew
    PERLBREW_SHELLRC_VERSION = 0.86
    PERLBREW_VERSION = 0.86
    PERL_USE_UNSAFE_INC = 1
    SHELL = /bin/sh
    TEMP = /tmp/user/1000
    TMPDIR = /tmp/user/1000/testwrapper.15878

Perl special variables (and OS-specific diagnostics, for MSWin32):

    $^X = /home/njh/perl5/perlbrew/perls/perl-5.8.7-thread/bin/perl5.8.7
    $UID/$EUID = 1000 / 1000
    $GID = 1000 1000 996 123 115 108 103 46 44 30 29 25 24 4
    $EGID = 1000 1000 996 123 115 108 103 46 44 30 29 25 24 4

Perl module toolchain versions installed:

    Module              Have    
    ------------------- --------
    CPAN                2.25    
    CPAN::Meta          2.143240
    Cwd                 3.75    
    ExtUtils::CBuilder  0.280230
    ExtUtils::Command   7.34    
    ExtUtils::Install   2.06    
    ExtUtils::MakeMaker 7.34    
    ExtUtils::Manifest  1.70    
    ExtUtils::ParseXS   3.35    
    File::Spec          3.75    
    JSON                4.02    
    JSON::PP            2.27203 
    Module::Build       0.4224  
    Module::Signature   n/a     
    Parse::CPAN::Meta   1.4414  
    Test::Harness       3.42    
    Test::More          1.302140
    YAML                n/a     
    YAML::Syck          1.31    
    version             0.9924  


--

Summary of my perl5 (revision 5 version 8 subversion 7) configuration:
  Platform:
    osname=linux, osvers=4.16.0-2-amd64, archname=x86_64-linux-thread-multi
    uname='linux amelia 4.16.0-2-amd64 #1 smp debian 4.16.16-2 (2018-06-22) x86_64 gnulinux '
    config_args='-de -Dprefix=/home/njh/perl5/perlbrew/perls/perl-5.8.7-thread -Dusedevel -Dusethreads -Accflags= -Aeval:scriptdir=/home/njh/perl5/perlbrew/perls/perl-5.8.7-thread/bin'
    hint=recommended, useposix=true, d_sigaction=define
    usethreads=define use5005threads=undef useithreads=define usemultiplicity=define
    useperlio=define d_sfio=undef uselargefiles=define usesocks=undef
    use64bitint=define use64bitall=define uselongdouble=undef
    usemymalloc=n, bincompat5005=undef
  Compiler:
    cc='cc', ccflags ='-D_REENTRANT -D_GNU_SOURCE -fno-strict-aliasing -pipe -I/usr/local/include -D_LARGEFILE_SOURCE -D_FILE_OFFSET_BITS=64',
    optimize='-O2',
    cppflags='-D_REENTRANT -D_GNU_SOURCE -fno-strict-aliasing -pipe -I/usr/local/include'
    ccversion='', gccversion='8.2.0', gccosandvers=''
    intsize=4, longsize=8, ptrsize=8, doublesize=8, byteorder=12345678
    d_longlong=define, longlongsize=8, d_longdbl=define, longdblsize=16
    ivtype='long', ivsize=8, nvtype='double', nvsize=8, Off_t='off_t', lseeksize=8
    alignbytes=8, prototype=define
  Linker and Libraries:
    ld='cc', ldflags =' -L/usr/local/lib'
    libpth=/usr/local/lib /lib/x86_64-linux-gnu /lib/../lib /usr/lib/x86_64-linux-gnu /usr/lib/../lib /lib /usr/lib
    libs=-lnsl -lgdbm -ldb -ldl -lm -lcrypt -lutil -lpthread -lc
    perllibs=-lnsl -ldl -lm -lcrypt -lutil -lpthread -lc
    libc=libc-2.27.so, so=so, useshrplib=false, libperl=libperl.a
    gnulibc_version='2.27'
  Dynamic Linking:
    dlsrc=dl_dlopen.xs, dlext=so, d_dlsymun=undef, ccdlflags='-Wl,-E'
    cccdlflags='-fpic', lddlflags='-shared -L/usr/local/lib'


Characteristics of this binary (from libperl): 
  Compile-time options: MULTIPLICITY USE_ITHREADS USE_64_BIT_INT
                        USE_64_BIT_ALL USE_LARGE_FILES
                        PERL_IMPLICIT_CONTEXT
  Locally applied patches:
	Devel::PatchPerl 1.48
  Built under linux
  Compiled at Sep 11 2018 00:36:35
  %ENV:
    PERL5LIB="/tmp/build/Error-0.17028-2/blib/arch:/tmp/build/Error-0.17028-2/blib/lib:/tmp/build/Devel-Symdump-2.18-0/blib/arch:/tmp/build/Devel-Symdump-2.18-0/blib/lib:/tmp/build/Class-Inner-0.200001-0/blib/arch:/tmp/build/Class-Inner-0.200001-0/blib/lib"
    PERL5OPT=""
    PERL5_CPANPLUS_IS_RUNNING="15905"
    PERL5_CPAN_IS_RUNNING="15905"
    PERL5_CPAN_IS_RUNNING_IN_RECURSION="14885,15905"
    PERLBREW_HOME="/home/njh/.perlbrew"
    PERLBREW_MANPATH="/home/njh/perl5/perlbrew/perls/perl-5.8.7-thread/man"
    PERLBREW_PATH="/home/njh/perl5/perlbrew/bin:/home/njh/perl5/perlbrew/perls/perl-5.8.7-thread/bin"
    PERLBREW_PERL="perl-5.8.7-thread"
    PERLBREW_ROOT="/home/njh/perl5/perlbrew"
    PERLBREW_SHELLRC_VERSION="0.86"
    PERLBREW_VERSION="0.86"
    PERL_USE_UNSAFE_INC="1"
  @INC:
    /tmp/build/Error-0.17028-2/blib/arch
    /tmp/build/Error-0.17028-2/blib/lib
    /tmp/build/Devel-Symdump-2.18-0/blib/arch
    /tmp/build/Devel-Symdump-2.18-0/blib/lib
    /tmp/build/Class-Inner-0.200001-0/blib/arch
    /tmp/build/Class-Inner-0.200001-0/blib/lib
    /home/njh/perl5/perlbrew/perls/perl-5.8.7-thread/lib/5.8.7/x86_64-linux-thread-multi
    /home/njh/perl5/perlbrew/perls/perl-5.8.7-thread/lib/5.8.7
    /home/njh/perl5/perlbrew/perls/perl-5.8.7-thread/lib/site_perl/5.8.7/x86_64-linux-thread-multi
    /home/njh/perl5/perlbrew/perls/perl-5.8.7-thread/lib/site_perl/5.8.7
    /home/njh/perl5/perlbrew/perls/perl-5.8.7-thread/lib/site_perl
    .