HiD v1.992 Perl 5 v5.29.10 x86_64-linux

Status
Pass
From
John SJ Anderson
Dist
HiD v1.992
Platform
Perl 5 v5.29.10 x86_64-linux
Date
2019-04-22 23:05:44
ID
2885700c-6553-11e9-be2b-4a2b23c6c2c4
This distribution has been tested as part of the CPAN Testers
project, supporting the Perl programming language.  See
http://wiki.cpantesters.org/ for more information or email
questions to cpan-testers-discuss@perl.org


--
Dear GENEHACK,

This is a computer-generated report for HiD-1.992
on perl 5.29.10, created by App::cpanminus::reporter 0.17 (1.7044).

Thank you for uploading your work to CPAN.  Congratulations!
All tests were successful.

Sections of this report:

    * Tester comments
    * Program output
    * Prerequisites
    * Environment and other context

------------------------------
TESTER COMMENTS
------------------------------

Additional comments from tester:

none provided

------------------------------
PROGRAM OUTPUT
------------------------------

Output from '':

Running Makefile.PL
Warning: prerequisite App::Cmd::Tester 0 not found.
Warning: prerequisite Data::Page 0 not found.
Warning: prerequisite Data::Printer 0.35 not found.
Warning: prerequisite Date::Parse 0 not found.
Warning: prerequisite DateTime 0 not found.
Warning: prerequisite File::Find::Rule 0 not found.
Warning: prerequisite Log::Log4perl 0 not found.
Warning: prerequisite Moose 0 not found.
Warning: prerequisite Moose::Role 0 not found.
Warning: prerequisite Moose::Util::TypeConstraints 0 not found.
Warning: prerequisite MooseX::App::Cmd 0 not found.
Warning: prerequisite MooseX::App::Cmd::Command 0 not found.
Warning: prerequisite MooseX::Getopt 0 not found.
Warning: prerequisite Plack::App::File 0 not found.
Warning: prerequisite Plack::Builder 0 not found.
Warning: prerequisite Plack::Handler::Standalone 0 not found.
Warning: prerequisite Plack::Loader::Restarter 0 not found.
Warning: prerequisite Plack::Runner 0 not found.
Warning: prerequisite Plack::Test 0 not found.
Warning: prerequisite String::Errf 0 not found.
Warning: prerequisite Template 0 not found.
Warning: prerequisite Test::File 0 not found.
Warning: prerequisite Test::File::Contents 0 not found.
Warning: prerequisite Test::Routine 0 not found.
Warning: prerequisite Test::Routine::Util 0 not found.
Warning: prerequisite Text::Handlebars 0 not found.
Warning: prerequisite Text::Markdown 0 not found.
Warning: prerequisite Text::MultiMarkdown 0 not found.
Warning: prerequisite Text::Textile 0 not found.
Warning: prerequisite Text::Xslate 0 not found.
Warning: prerequisite XML::Feed 0 not found.
Warning: prerequisite XML::Feed::Entry 0 not found.
Warning: prerequisite YAML::Tiny 0 not found.
Warning: prerequisite YAML::XS 0 not found.
Warning: prerequisite namespace::autoclean 0 not found.
Checking if your kit is complete...
Looks good
Generating a Unix-style Makefile
Writing Makefile for HiD
Writing MYMETA.yml and MYMETA.json
-> OK
Checking dependencies from MYMETA.json ...
Checking if you have Template 0 ... No
Checking if you have MooseX::Getopt 0 ... No
Checking if you have Data::Page 0 ... No
Checking if you have Class::Load 0 ... Yes (0.25)
Checking if you have IO::Handle 0 ... Yes (1.40)
Checking if you have Text::MultiMarkdown 0 ... No
Checking if you have charnames 0 ... Yes (1.45)
Checking if you have Log::Log4perl 0 ... No
Checking if you have MooseX::App::Cmd::Command 0 ... No
Checking if you have strict 0 ... Yes (1.11)
Checking if you have parent 0 ... Yes (0.237)
Checking if you have Test::File 0 ... No
Checking if you have namespace::autoclean 0 ... No
Checking if you have Try::Tiny 0 ... Yes (0.30)
Checking if you have HTTP::Request::Common 0 ... Yes (6.18)
Checking if you have Test::Routine::Util 0 ... No
Checking if you have Plack::Handler::Standalone 0 ... No
Checking if you have Text::Xslate 0 ... No
Checking if you have IPC::Open3 0 ... Yes (1.20)
Checking if you have Test::Warn 0 ... Yes (0.36)
Checking if you have feature 0 ... Yes (1.54)
Checking if you have Exporter 0 ... Yes (5.73)
Checking if you have utf8 0 ... Yes (1.22)
Checking if you have Date::Parse 0 ... No
Checking if you have autodie 0 ... Yes (2.29)
Checking if you have Plack::App::File 0 ... No
Checking if you have Test::File::Contents 0 ... No
Checking if you have Plack::Test 0 ... No
Checking if you have ExtUtils::MakeMaker 0 ... Yes (7.34)
Checking if you have open 0 ... Yes (1.11)
Checking if you have Moose::Util::TypeConstraints 0 ... No
Checking if you have String::Errf 0 ... No
Checking if you have Test::Routine 0 ... No
Checking if you have File::Find::Rule 0 ... No
Checking if you have Text::Markdown 0 ... No
Checking if you have Test::More 0 ... Yes (1.302162)
Checking if you have Text::Textile 0 ... No
Checking if you have Moose::Role 0 ... No
Checking if you have Plack::Runner 0 ... No
Checking if you have Text::Handlebars 0 ... No
Checking if you have XML::Feed 0 ... No
Checking if you have XML::Feed::Entry 0 ... No
Checking if you have YAML::Tiny 0 ... No
Checking if you have App::Cmd::Tester 0 ... No
Checking if you have Moose 0 ... No
Checking if you have Plack::Builder 0 ... No
Checking if you have Path::Tiny 0.054 ... Yes (0.108)
Checking if you have FindBin 0 ... Yes (1.51)
Checking if you have DateTime 0 ... No
Checking if you have warnings 0 ... Yes (1.44)
Checking if you have Data::Printer 0.35 ... No
Checking if you have YAML::XS 0 ... No
Checking if you have Plack::Loader::Restarter 0 ... No
Checking if you have lib 0 ... Yes (0.65)
Checking if you have MooseX::App::Cmd 0 ... No
Checking if you have File::Copy 0 ... Yes (2.34)
Checking if you have File::Spec 0 ... Yes (3.78)
Checking if you have Carp 0 ... Yes (1.50)
==> Found dependencies: Template, MooseX::Getopt, Data::Page, Text::MultiMarkdown, Log::Log4perl, MooseX::App::Cmd::Command, Test::File, namespace::autoclean, Test::Routine::Util, Plack::Handler::Standalone, Text::Xslate, Date::Parse, Plack::App::File, Test::File::Contents, Plack::Test, Moose::Util::TypeConstraints, String::Errf, Test::Routine, File::Find::Rule, Text::Markdown, Text::Textile, Moose::Role, Plack::Runner, Text::Handlebars, XML::Feed, XML::Feed::Entry, YAML::Tiny, App::Cmd::Tester, Moose, Plack::Builder, DateTime, Data::Printer, YAML::XS, Plack::Loader::Restarter, MooseX::App::Cmd
Searching Template (0) on cpanmetadb ...
--> Working on Template
Fetching http://www.cpan.org/authors/id/A/AT/ATOOMIC/Template-Toolkit-2.28.tar.gz
-> OK
Unpacking Template-Toolkit-2.28.tar.gz
make[1]: Entering directory '/home/genehack/.cpanm/work/1555970208.16874/Template-Toolkit-2.28/xs'
"/opt/plenv/versions/5.29.10/bin/perl5.29.10" -MExtUtils::Command::MM -e 'cp_nonempty' -- XS.bs ../blib/arch/auto/Template/Stash/XS/XS.bs 644
make[1]: Leaving directory '/home/genehack/.cpanm/work/1555970208.16874/Template-Toolkit-2.28/xs'
Manifying 2 pod documents
Manifying 34 pod documents
Manifying 31 pod documents
Files found in blib/arch: installing files in blib/lib into architecture dependent library tree
Installing /opt/plenv/versions/5.29.10/lib/perl5/site_perl/5.29.10/x86_64-linux/auto/Template/Stash/XS/XS.so
Installing /opt/plenv/versions/5.29.10/lib/perl5/site_perl/5.29.10/x86_64-linux/Template.pm
Installing /opt/plenv/versions/5.29.10/lib/perl5/site_perl/5.29.10/x86_64-linux/Template/Service.pm
Installing /opt/plenv/versions/5.29.10/lib/perl5/site_perl/5.29.10/x86_64-linux/Template/Exception.pm
Installing /opt/plenv/versions/5.29.10/lib/perl5/site_perl/5.29.10/x86_64-linux/Template/VMethods.pm
Installing /opt/plenv/versions/5.29.10/lib/perl5/site_perl/5.29.10/x86_64-linux/Template/Tools.pod
Installing /opt/plenv/versions/5.29.10/lib/perl5/site_perl/5.29.10/x86_64-linux/Template/Manual.pod
Installing /opt/plenv/versions/5.29.10/lib/perl5/site_perl/5.29.10/x86_64-linux/Template/Tutorial.pod
Installing /opt/plenv/versions/5.29.10/lib/perl5/site_perl/5.29.10/x86_64-linux/Template/Iterator.pm
Installing /opt/plenv/versions/5.29.10/lib/perl5/site_perl/5.29.10/x86_64-linux/Template/Provider.pm
Installing /opt/plenv/versions/5.29.10/lib/perl5/site_perl/5.29.10/x86_64-linux/Template/Stash.pm
Installing /opt/plenv/versions/5.29.10/lib/perl5/site_perl/5.29.10/x86_64-linux/Template/View.pm
Installing /opt/plenv/versions/5.29.10/lib/perl5/site_perl/5.29.10/x86_64-linux/Template/FAQ.pod
Installing /opt/plenv/versions/5.29.10/lib/perl5/site_perl/5.29.10/x86_64-linux/Template/Directive.pm
Installing /opt/plenv/versions/5.29.10/lib/perl5/site_perl/5.29.10/x86_64-linux/Template/Filters.pm
Installing /opt/plenv/versions/5.29.10/lib/perl5/site_perl/5.29.10/x86_64-linux/Template/Config.pm
Installing /opt/plenv/versions/5.29.10/lib/perl5/site_perl/5.29.10/x86_64-linux/Template/Test.pm
Installing /opt/plenv/versions/5.29.10/lib/perl5/site_perl/5.29.10/x86_64-linux/Template/Base.pm
Installing /opt/plenv/versions/5.29.10/lib/perl5/site_perl/5.29.10/x86_64-linux/Template/Context.pm
Installing /opt/plenv/versions/5.29.10/lib/perl5/site_perl/5.29.10/x86_64-linux/Template/Document.pm
Installing /opt/plenv/versions/5.29.10/lib/perl5/site_perl/5.29.10/x86_64-linux/Template/Parser.pm
Installing /opt/plenv/versions/5.29.10/lib/perl5/site_perl/5.29.10/x86_64-linux/Template/Grammar.pm
Installing /opt/plenv/versions/5.29.10/lib/perl5/site_perl/5.29.10/x86_64-linux/Template/Plugins.pm
Installing /opt/plenv/versions/5.29.10/lib/perl5/site_perl/5.29.10/x86_64-linux/Template/Plugin.pm
Installing /opt/plenv/versions/5.29.10/lib/perl5/site_perl/5.29.10/x86_64-linux/Template/Toolkit.pm
Installing /opt/plenv/versions/5.29.10/lib/perl5/site_perl/5.29.10/x86_64-linux/Template/Modules.pod
Installing /opt/plenv/versions/5.29.10/lib/perl5/site_perl/5.29.10/x86_64-linux/Template/Constants.pm
Installing /opt/plenv/versions/5.29.10/lib/perl5/site_perl/5.29.10/x86_64-linux/Template/Tools/ttree.pod
Installing /opt/plenv/versions/5.29.10/lib/perl5/site_perl/5.29.10/x86_64-linux/Template/Tools/tpage.pod
Installing /opt/plenv/versions/5.29.10/lib/perl5/site_perl/5.29.10/x86_64-linux/Template/Namespace/Constants.pm
Installing /opt/plenv/versions/5.29.10/lib/perl5/site_perl/5.29.10/x86_64-linux/Template/Stash/XS.pm
Installing /opt/plenv/versions/5.29.10/lib/perl5/site_perl/5.29.10/x86_64-linux/Template/Stash/Context.pm
Installing /opt/plenv/versions/5.29.10/lib/perl5/site_perl/5.29.10/x86_64-linux/Template/Plugin/Dumper.pm
Installing /opt/plenv/versions/5.29.10/lib/perl5/site_perl/5.29.10/x86_64-linux/Template/Plugin/Directory.pm
Installing /opt/plenv/versions/5.29.10/lib/perl5/site_perl/5.29.10/x86_64-linux/Template/Plugin/Format.pm
Installing /opt/plenv/versions/5.29.10/lib/perl5/site_perl/5.29.10/x86_64-linux/Template/Plugin/Image.pm
Installing /opt/plenv/versions/5.29.10/lib/perl5/site_perl/5.29.10/x86_64-linux/Template/Plugin/Iterator.pm
Installing /opt/plenv/versions/5.29.10/lib/perl5/site_perl/5.29.10/x86_64-linux/Template/Plugin/Wrap.pm
Installing /opt/plenv/versions/5.29.10/lib/perl5/site_perl/5.29.10/x86_64-linux/Template/Plugin/View.pm
Installing /opt/plenv/versions/5.29.10/lib/perl5/site_perl/5.29.10/x86_64-linux/Template/Plugin/Assert.pm
Installing /opt/plenv/versions/5.29.10/lib/perl5/site_perl/5.29.10/x86_64-linux/Template/Plugin/CGI.pm
Installing /opt/plenv/versions/5.29.10/lib/perl5/site_perl/5.29.10/x86_64-linux/Template/Plugin/Table.pm
Installing /opt/plenv/versions/5.29.10/lib/perl5/site_perl/5.29.10/x86_64-linux/Template/Plugin/Datafile.pm
Installing /opt/plenv/versions/5.29.10/lib/perl5/site_perl/5.29.10/x86_64-linux/Template/Plugin/File.pm
Installing /opt/plenv/versions/5.29.10/lib/perl5/site_perl/5.29.10/x86_64-linux/Template/Plugin/HTML.pm
Installing /opt/plenv/versions/5.29.10/lib/perl5/site_perl/5.29.10/x86_64-linux/Template/Plugin/Date.pm
Installing /opt/plenv/versions/5.29.10/lib/perl5/site_perl/5.29.10/x86_64-linux/Template/Plugin/Filter.pm
Installing /opt/plenv/versions/5.29.10/lib/perl5/site_perl/5.29.10/x86_64-linux/Template/Plugin/Math.pm
Installing /opt/plenv/versions/5.29.10/lib/perl5/site_perl/5.29.10/x86_64-linux/Template/Plugin/String.pm
Installing /opt/plenv/versions/5.29.10/lib/perl5/site_perl/5.29.10/x86_64-linux/Template/Plugin/Pod.pm
Installing /opt/plenv/versions/5.29.10/lib/perl5/site_perl/5.29.10/x86_64-linux/Template/Plugin/Scalar.pm
Installing /opt/plenv/versions/5.29.10/lib/perl5/site_perl/5.29.10/x86_64-linux/Template/Plugin/Procedural.pm
Installing /opt/plenv/versions/5.29.10/lib/perl5/site_perl/5.29.10/x86_64-linux/Template/Plugin/URL.pm
Installing /opt/plenv/versions/5.29.10/lib/perl5/site_perl/5.29.10/x86_64-linux/Template/Manual/Intro.pod
Installing /opt/plenv/versions/5.29.10/lib/perl5/site_perl/5.29.10/x86_64-linux/Template/Manual/Credits.pod
Installing /opt/plenv/versions/5.29.10/lib/perl5/site_perl/5.29.10/x86_64-linux/Template/Manual/Directives.pod
Installing /opt/plenv/versions/5.29.10/lib/perl5/site_perl/5.29.10/x86_64-linux/Template/Manual/VMethods.pod
Installing /opt/plenv/versions/5.29.10/lib/perl5/site_perl/5.29.10/x86_64-linux/Template/Manual/Config.pod
Installing /opt/plenv/versions/5.29.10/lib/perl5/site_perl/5.29.10/x86_64-linux/Template/Manual/Filters.pod
Installing /opt/plenv/versions/5.29.10/lib/perl5/site_perl/5.29.10/x86_64-linux/Template/Manual/Syntax.pod
Installing /opt/plenv/versions/5.29.10/lib/perl5/site_perl/5.29.10/x86_64-linux/Template/Manual/Views.pod
Installing /opt/plenv/versions/5.29.10/lib/perl5/site_perl/5.29.10/x86_64-linux/Template/Manual/Plugins.pod
Installing /opt/plenv/versions/5.29.10/lib/perl5/site_perl/5.29.10/x86_64-linux/Template/Manual/Variables.pod
Installing /opt/plenv/versions/5.29.10/lib/perl5/site_perl/5.29.10/x86_64-linux/Template/Manual/Internals.pod
Installing /opt/plenv/versions/5.29.10/lib/perl5/site_perl/5.29.10/x86_64-linux/Template/Tutorial/Datafile.pod
Installing /opt/plenv/versions/5.29.10/lib/perl5/site_perl/5.29.10/x86_64-linux/Template/Tutorial/Web.pod
Installing /opt/plenv/versions/5.29.10/man/man1/tpage.1
Installing /opt/plenv/versions/5.29.10/man/man1/ttree.1
Installing /opt/plenv/versions/5.29.10/man/man3/Template::Tutorial::Datafile.3
Installing /opt/plenv/versions/5.29.10/man/man3/Template::Stash.3
Installing /opt/plenv/versions/5.29.10/man/man3/Template::Base.3
Installing /opt/plenv/versions/5.29.10/man/man3/Template::View.3
Installing /opt/plenv/versions/5.29.10/man/man3/Template::Plugin::Assert.3
Installing /opt/plenv/versions/5.29.10/man/man3/Template::Manual::Internals.3
Installing /opt/plenv/versions/5.29.10/man/man3/Template::Plugins.3
Installing /opt/plenv/versions/5.29.10/man/man3/Template::Parser.3
Installing /opt/plenv/versions/5.29.10/man/man3/Template::Toolkit.3
Installing /opt/plenv/versions/5.29.10/man/man3/Template::Context.3
Installing /opt/plenv/versions/5.29.10/man/man3/Template::Provider.3
Installing /opt/plenv/versions/5.29.10/man/man3/Template::Manual::Intro.3
Installing /opt/plenv/versions/5.29.10/man/man3/Template::Plugin::Image.3
Installing /opt/plenv/versions/5.29.10/man/man3/Template::Plugin::Pod.3
Installing /opt/plenv/versions/5.29.10/man/man3/Template::Plugin::File.3
Installing /opt/plenv/versions/5.29.10/man/man3/Template::Plugin::Dumper.3
Installing /opt/plenv/versions/5.29.10/man/man3/Template::Plugin::Iterator.3
Installing /opt/plenv/versions/5.29.10/man/man3/Template::Tools.3
Installing /opt/plenv/versions/5.29.10/man/man3/Template::Exception.3
Installing /opt/plenv/versions/5.29.10/man/man3/Template::Plugin::Wrap.3
Installing /opt/plenv/versions/5.29.10/man/man3/Template::Tools::ttree.3
Installing /opt/plenv/versions/5.29.10/man/man3/Template::Manual::Views.3
Installing /opt/plenv/versions/5.29.10/man/man3/Template::Manual::Filters.3
Installing /opt/plenv/versions/5.29.10/man/man3/Template::Manual::Config.3
Installing /opt/plenv/versions/5.29.10/man/man3/Template::Manual::Syntax.3
Installing /opt/plenv/versions/5.29.10/man/man3/Template::VMethods.3
Installing /opt/plenv/versions/5.29.10/man/man3/Template::Modules.3
Installing /opt/plenv/versions/5.29.10/man/man3/Template::Filters.3
Installing /opt/plenv/versions/5.29.10/man/man3/Template::Manual::VMethods.3
Installing /opt/plenv/versions/5.29.10/man/man3/Template::Plugin::Scalar.3
Installing /opt/plenv/versions/5.29.10/man/man3/Template::Plugin::URL.3
Installing /opt/plenv/versions/5.29.10/man/man3/Template::Namespace::Constants.3
Installing /opt/plenv/versions/5.29.10/man/man3/Template::Constants.3
Installing /opt/plenv/versions/5.29.10/man/man3/Template::Plugin::Datafile.3
Installing /opt/plenv/versions/5.29.10/man/man3/Template::Plugin::String.3
Installing /opt/plenv/versions/5.29.10/man/man3/Template::Plugin.3
Installing /opt/plenv/versions/5.29.10/man/man3/Template::Iterator.3
Installing /opt/plenv/versions/5.29.10/man/man3/Template::Manual::Directives.3
Installing /opt/plenv/versions/5.29.10/man/man3/Template::Tools::tpage.3
Installing /opt/plenv/versions/5.29.10/man/man3/Template::Stash::Context.3
Installing /opt/plenv/versions/5.29.10/man/man3/Template::Plugin::CGI.3
Installing /opt/plenv/versions/5.29.10/man/man3/Template::Manual::Variables.3
Installing /opt/plenv/versions/5.29.10/man/man3/Template::Plugin::View.3
Installing /opt/plenv/versions/5.29.10/man/man3/Template::FAQ.3
Installing /opt/plenv/versions/5.29.10/man/man3/Template::Plugin::Directory.3
Installing /opt/plenv/versions/5.29.10/man/man3/Template::Grammar.3
Installing /opt/plenv/versions/5.29.10/man/man3/Template.3
Installing /opt/plenv/versions/5.29.10/man/man3/Template::Plugin::Date.3
Installing /opt/plenv/versions/5.29.10/man/man3/Template::Plugin::Filter.3
Installing /opt/plenv/versions/5.29.10/man/man3/Template::Tutorial.3
Installing /opt/plenv/versions/5.29.10/man/man3/Template::Tutorial::Web.3
Installing /opt/plenv/versions/5.29.10/man/man3/Template::Plugin::Format.3
Installing /opt/plenv/versions/5.29.10/man/man3/Template::Test.3
Installing /opt/plenv/versions/5.29.10/man/man3/Template::Document.3
Installing /opt/plenv/versions/5.29.10/man/man3/Template::Plugin::HTML.3
Installing /opt/plenv/versions/5.29.10/man/man3/Template::Plugin::Math.3
Installing /opt/plenv/versions/5.29.10/man/man3/Template::Manual::Plugins.3
Installing /opt/plenv/versions/5.29.10/man/man3/Template::Plugin::Procedural.3
Installing /opt/plenv/versions/5.29.10/man/man3/Template::Config.3
Installing /opt/plenv/versions/5.29.10/man/man3/Template::Directive.3
Installing /opt/plenv/versions/5.29.10/man/man3/Template::Manual::Credits.3
Installing /opt/plenv/versions/5.29.10/man/man3/Template::Manual.3
Installing /opt/plenv/versions/5.29.10/man/man3/Template::Service.3
Installing /opt/plenv/versions/5.29.10/man/man3/Template::Stash::XS.3
Installing /opt/plenv/versions/5.29.10/man/man3/Template::Plugin::Table.3
Installing /opt/plenv/versions/5.29.10/bin/tpage
Installing /opt/plenv/versions/5.29.10/bin/ttree
Appending installation info to /opt/plenv/versions/5.29.10/lib/perl5/5.29.10/x86_64-linux/perllocal.pod
-> OK
Successfully installed Template-Toolkit-2.28
Installing /opt/plenv/versions/5.29.10/lib/perl5/site_perl/5.29.10/x86_64-linux/.meta/Template-Toolkit-2.28/MYMETA.json
Installing /opt/plenv/versions/5.29.10/lib/perl5/site_perl/5.29.10/x86_64-linux/.meta/Template-Toolkit-2.28/install.json
Searching MooseX::Getopt (0) on cpanmetadb ...
--> Working on MooseX::Getopt
Fetching http://www.cpan.org/authors/id/E/ET/ETHER/MooseX-Getopt-0.74.tar.gz
-> OK
Unpacking MooseX-Getopt-0.74.tar.gz
Installing /opt/plenv/versions/5.29.10/lib/perl5/site_perl/5.29.10/MooseX/Getopt.pm
Installing /opt/plenv/versions/5.29.10/lib/perl5/site_perl/5.29.10/MooseX/Getopt/Dashes.pm
Installing /opt/plenv/versions/5.29.10/lib/perl5/site_perl/5.29.10/MooseX/Getopt/Basic.pm
Installing /opt/plenv/versions/5.29.10/lib/perl5/site_perl/5.29.10/MooseX/Getopt/OptionTypeMap.pm
Installing /opt/plenv/versions/5.29.10/lib/perl5/site_perl/5.29.10/MooseX/Getopt/Strict.pm
Installing /opt/plenv/versions/5.29.10/lib/perl5/site_perl/5.29.10/MooseX/Getopt/ProcessedArgv.pm
Installing /opt/plenv/versions/5.29.10/lib/perl5/site_perl/5.29.10/MooseX/Getopt/GLD.pm
Installing /opt/plenv/versions/5.29.10/lib/perl5/site_perl/5.29.10/MooseX/Getopt/Meta/Attribute.pm
Installing /opt/plenv/versions/5.29.10/lib/perl5/site_perl/5.29.10/MooseX/Getopt/Meta/Attribute/NoGetopt.pm
Installing /opt/plenv/versions/5.29.10/lib/perl5/site_perl/5.29.10/MooseX/Getopt/Meta/Attribute/Trait.pm
Installing /opt/plenv/versions/5.29.10/lib/perl5/site_perl/5.29.10/MooseX/Getopt/Meta/Attribute/Trait/NoGetopt.pm
Installing /opt/plenv/versions/5.29.10/man/man3/MooseX::Getopt::Basic.3
Installing /opt/plenv/versions/5.29.10/man/man3/MooseX::Getopt::Meta::Attribute::NoGetopt.3
Installing /opt/plenv/versions/5.29.10/man/man3/MooseX::Getopt::Meta::Attribute::Trait::NoGetopt.3
Installing /opt/plenv/versions/5.29.10/man/man3/MooseX::Getopt::Dashes.3
Installing /opt/plenv/versions/5.29.10/man/man3/MooseX::Getopt::GLD.3
Installing /opt/plenv/versions/5.29.10/man/man3/MooseX::Getopt.3
Installing /opt/plenv/versions/5.29.10/man/man3/MooseX::Getopt::ProcessedArgv.3
Installing /opt/plenv/versions/5.29.10/man/man3/MooseX::Getopt::Meta::Attribute.3
Installing /opt/plenv/versions/5.29.10/man/man3/MooseX::Getopt::Strict.3
Installing /opt/plenv/versions/5.29.10/man/man3/MooseX::Getopt::Meta::Attribute::Trait.3
Installing /opt/plenv/versions/5.29.10/man/man3/MooseX::Getopt::OptionTypeMap.3
-> OK
Successfully installed MooseX-Getopt-0.74
Installing /opt/plenv/versions/5.29.10/lib/perl5/site_perl/5.29.10/x86_64-linux/.meta/MooseX-Getopt-0.74/MYMETA.json
Installing /opt/plenv/versions/5.29.10/lib/perl5/site_perl/5.29.10/x86_64-linux/.meta/MooseX-Getopt-0.74/install.json
Searching Data::Page (0) on cpanmetadb ...
--> Working on Data::Page
Fetching http://www.cpan.org/authors/id/L/LB/LBROCARD/Data-Page-2.02.tar.gz
-> OK
Unpacking Data-Page-2.02.tar.gz
Building Data-Page
Installing /opt/plenv/versions/5.29.10/lib/perl5/site_perl/5.29.10/Data/Page.pm
Installing /opt/plenv/versions/5.29.10/man/man3/Data::Page.3
-> OK
Successfully installed Data-Page-2.02
Installing /opt/plenv/versions/5.29.10/lib/perl5/site_perl/5.29.10/x86_64-linux/.meta/Data-Page-2.02/MYMETA.json
Installing /opt/plenv/versions/5.29.10/lib/perl5/site_perl/5.29.10/x86_64-linux/.meta/Data-Page-2.02/install.json
Searching Text::MultiMarkdown (0) on cpanmetadb ...
--> Working on Text::MultiMarkdown
Fetching http://www.cpan.org/authors/id/B/BO/BOBTFISH/Text-MultiMarkdown-1.000035.tar.gz
-> OK
Unpacking Text-MultiMarkdown-1.000035.tar.gz
Manifying 1 pod document
Manifying 1 pod document
Installing /opt/plenv/versions/5.29.10/lib/perl5/site_perl/5.29.10/Text/MultiMarkdown.pm
Installing /opt/plenv/versions/5.29.10/man/man1/MultiMarkdown.pl.1
Installing /opt/plenv/versions/5.29.10/man/man3/Text::MultiMarkdown.3
Installing /opt/plenv/versions/5.29.10/bin/MultiMarkdown.pl
Appending installation info to /opt/plenv/versions/5.29.10/lib/perl5/5.29.10/x86_64-linux/perllocal.pod
-> OK
Successfully installed Text-MultiMarkdown-1.000035
Installing /opt/plenv/versions/5.29.10/lib/perl5/site_perl/5.29.10/x86_64-linux/.meta/Text-MultiMarkdown-1.000035/MYMETA.json
Installing /opt/plenv/versions/5.29.10/lib/perl5/site_perl/5.29.10/x86_64-linux/.meta/Text-MultiMarkdown-1.000035/install.json
Searching Log::Log4perl (0) on cpanmetadb ...
--> Working on Log::Log4perl
Fetching http://www.cpan.org/authors/id/M/MS/MSCHILLI/Log-Log4perl-1.49.tar.gz
-> OK
Unpacking Log-Log4perl-1.49.tar.gz
Manifying 1 pod document
Manifying 28 pod documents
Manifying 23 pod documents
Installing /opt/plenv/versions/5.29.10/lib/perl5/site_perl/5.29.10/Log/Log4perl.pm
Installing /opt/plenv/versions/5.29.10/lib/perl5/site_perl/5.29.10/Log/Log4perl/MDC.pm
Installing /opt/plenv/versions/5.29.10/lib/perl5/site_perl/5.29.10/Log/Log4perl/Resurrector.pm
Installing /opt/plenv/versions/5.29.10/lib/perl5/site_perl/5.29.10/Log/Log4perl/Config.pm
Installing /opt/plenv/versions/5.29.10/lib/perl5/site_perl/5.29.10/Log/Log4perl/Layout.pm
Installing /opt/plenv/versions/5.29.10/lib/perl5/site_perl/5.29.10/Log/Log4perl/Util.pm
Installing /opt/plenv/versions/5.29.10/lib/perl5/site_perl/5.29.10/Log/Log4perl/Filter.pm
Installing /opt/plenv/versions/5.29.10/lib/perl5/site_perl/5.29.10/Log/Log4perl/JavaMap.pm
Installing /opt/plenv/versions/5.29.10/lib/perl5/site_perl/5.29.10/Log/Log4perl/Appender.pm
Installing /opt/plenv/versions/5.29.10/lib/perl5/site_perl/5.29.10/Log/Log4perl/InternalDebug.pm
Installing /opt/plenv/versions/5.29.10/lib/perl5/site_perl/5.29.10/Log/Log4perl/Level.pm
Installing /opt/plenv/versions/5.29.10/lib/perl5/site_perl/5.29.10/Log/Log4perl/NDC.pm
Installing /opt/plenv/versions/5.29.10/lib/perl5/site_perl/5.29.10/Log/Log4perl/FAQ.pm
Installing /opt/plenv/versions/5.29.10/lib/perl5/site_perl/5.29.10/Log/Log4perl/Catalyst.pm
Installing /opt/plenv/versions/5.29.10/lib/perl5/site_perl/5.29.10/Log/Log4perl/DateFormat.pm
Installing /opt/plenv/versions/5.29.10/lib/perl5/site_perl/5.29.10/Log/Log4perl/Logger.pm
Installing /opt/plenv/versions/5.29.10/lib/perl5/site_perl/5.29.10/Log/Log4perl/Util/Semaphore.pm
Installing /opt/plenv/versions/5.29.10/lib/perl5/site_perl/5.29.10/Log/Log4perl/Util/TimeTracker.pm
Installing /opt/plenv/versions/5.29.10/lib/perl5/site_perl/5.29.10/Log/Log4perl/Appender/Socket.pm
Installing /opt/plenv/versions/5.29.10/lib/perl5/site_perl/5.29.10/Log/Log4perl/Appender/Synchronized.pm
Installing /opt/plenv/versions/5.29.10/lib/perl5/site_perl/5.29.10/Log/Log4perl/Appender/ScreenColoredLevels.pm
Installing /opt/plenv/versions/5.29.10/lib/perl5/site_perl/5.29.10/Log/Log4perl/Appender/Screen.pm
Installing /opt/plenv/versions/5.29.10/lib/perl5/site_perl/5.29.10/Log/Log4perl/Appender/Limit.pm
Installing /opt/plenv/versions/5.29.10/lib/perl5/site_perl/5.29.10/Log/Log4perl/Appender/DBI.pm
Installing /opt/plenv/versions/5.29.10/lib/perl5/site_perl/5.29.10/Log/Log4perl/Appender/File.pm
Installing /opt/plenv/versions/5.29.10/lib/perl5/site_perl/5.29.10/Log/Log4perl/Appender/RRDs.pm
Installing /opt/plenv/versions/5.29.10/lib/perl5/site_perl/5.29.10/Log/Log4perl/Appender/Buffer.pm
Installing /opt/plenv/versions/5.29.10/lib/perl5/site_perl/5.29.10/Log/Log4perl/Appender/TestBuffer.pm
Installing /opt/plenv/versions/5.29.10/lib/perl5/site_perl/5.29.10/Log/Log4perl/Appender/TestFileCreeper.pm
Installing /opt/plenv/versions/5.29.10/lib/perl5/site_perl/5.29.10/Log/Log4perl/Appender/TestArrayBuffer.pm
Installing /opt/plenv/versions/5.29.10/lib/perl5/site_perl/5.29.10/Log/Log4perl/Appender/String.pm
Installing /opt/plenv/versions/5.29.10/lib/perl5/site_perl/5.29.10/Log/Log4perl/Layout/NoopLayout.pm
Installing /opt/plenv/versions/5.29.10/lib/perl5/site_perl/5.29.10/Log/Log4perl/Layout/PatternLayout.pm
Installing /opt/plenv/versions/5.29.10/lib/perl5/site_perl/5.29.10/Log/Log4perl/Layout/SimpleLayout.pm
Installing /opt/plenv/versions/5.29.10/lib/perl5/site_perl/5.29.10/Log/Log4perl/Layout/PatternLayout/Multiline.pm
Installing /opt/plenv/versions/5.29.10/lib/perl5/site_perl/5.29.10/Log/Log4perl/Filter/Boolean.pm
Installing /opt/plenv/versions/5.29.10/lib/perl5/site_perl/5.29.10/Log/Log4perl/Filter/MDC.pm
Installing /opt/plenv/versions/5.29.10/lib/perl5/site_perl/5.29.10/Log/Log4perl/Filter/LevelRange.pm
Installing /opt/plenv/versions/5.29.10/lib/perl5/site_perl/5.29.10/Log/Log4perl/Filter/LevelMatch.pm
Installing /opt/plenv/versions/5.29.10/lib/perl5/site_perl/5.29.10/Log/Log4perl/Filter/StringMatch.pm
Installing /opt/plenv/versions/5.29.10/lib/perl5/site_perl/5.29.10/Log/Log4perl/Config/BaseConfigurator.pm
Installing /opt/plenv/versions/5.29.10/lib/perl5/site_perl/5.29.10/Log/Log4perl/Config/DOMConfigurator.pm
Installing /opt/plenv/versions/5.29.10/lib/perl5/site_perl/5.29.10/Log/Log4perl/Config/PropertyConfigurator.pm
Installing /opt/plenv/versions/5.29.10/lib/perl5/site_perl/5.29.10/Log/Log4perl/Config/Watch.pm
Installing /opt/plenv/versions/5.29.10/lib/perl5/site_perl/5.29.10/Log/Log4perl/JavaMap/JDBCAppender.pm
Installing /opt/plenv/versions/5.29.10/lib/perl5/site_perl/5.29.10/Log/Log4perl/JavaMap/FileAppender.pm
Installing /opt/plenv/versions/5.29.10/lib/perl5/site_perl/5.29.10/Log/Log4perl/JavaMap/RollingFileAppender.pm
Installing /opt/plenv/versions/5.29.10/lib/perl5/site_perl/5.29.10/Log/Log4perl/JavaMap/NTEventLogAppender.pm
Installing /opt/plenv/versions/5.29.10/lib/perl5/site_perl/5.29.10/Log/Log4perl/JavaMap/ConsoleAppender.pm
Installing /opt/plenv/versions/5.29.10/lib/perl5/site_perl/5.29.10/Log/Log4perl/JavaMap/TestBuffer.pm
Installing /opt/plenv/versions/5.29.10/lib/perl5/site_perl/5.29.10/Log/Log4perl/JavaMap/SyslogAppender.pm
Installing /opt/plenv/versions/5.29.10/man/man1/l4p-tmpl.1
Installing /opt/plenv/versions/5.29.10/man/man3/Log::Log4perl::JavaMap::FileAppender.3
Installing /opt/plenv/versions/5.29.10/man/man3/Log::Log4perl::InternalDebug.3
Installing /opt/plenv/versions/5.29.10/man/man3/Log::Log4perl::JavaMap::RollingFileAppender.3
Installing /opt/plenv/versions/5.29.10/man/man3/Log::Log4perl::Resurrector.3
Installing /opt/plenv/versions/5.29.10/man/man3/Log::Log4perl::Catalyst.3
Installing /opt/plenv/versions/5.29.10/man/man3/Log::Log4perl::Appender::Buffer.3
Installing /opt/plenv/versions/5.29.10/man/man3/Log::Log4perl::Config::PropertyConfigurator.3
Installing /opt/plenv/versions/5.29.10/man/man3/Log::Log4perl::JavaMap.3
Installing /opt/plenv/versions/5.29.10/man/man3/Log::Log4perl::Util.3
Installing /opt/plenv/versions/5.29.10/man/man3/Log::Log4perl::Appender::RRDs.3
Installing /opt/plenv/versions/5.29.10/man/man3/Log::Log4perl::Layout::PatternLayout::Multiline.3
Installing /opt/plenv/versions/5.29.10/man/man3/Log::Log4perl::Appender::TestBuffer.3
Installing /opt/plenv/versions/5.29.10/man/man3/Log::Log4perl::Layout.3
Installing /opt/plenv/versions/5.29.10/man/man3/Log::Log4perl::Appender::Socket.3
Installing /opt/plenv/versions/5.29.10/man/man3/Log::Log4perl::Appender::Limit.3
Installing /opt/plenv/versions/5.29.10/man/man3/Log::Log4perl::JavaMap::NTEventLogAppender.3
Installing /opt/plenv/versions/5.29.10/man/man3/Log::Log4perl::Config::DOMConfigurator.3
Installing /opt/plenv/versions/5.29.10/man/man3/Log::Log4perl::Layout::SimpleLayout.3
Installing /opt/plenv/versions/5.29.10/man/man3/Log::Log4perl::FAQ.3
Installing /opt/plenv/versions/5.29.10/man/man3/Log::Log4perl::Appender::TestFileCreeper.3
Installing /opt/plenv/versions/5.29.10/man/man3/Log::Log4perl::Filter::LevelMatch.3
Installing /opt/plenv/versions/5.29.10/man/man3/Log::Log4perl::Filter::LevelRange.3
Installing /opt/plenv/versions/5.29.10/man/man3/Log::Log4perl::Logger.3
Installing /opt/plenv/versions/5.29.10/man/man3/Log::Log4perl::Filter::Boolean.3
Installing /opt/plenv/versions/5.29.10/man/man3/Log::Log4perl::JavaMap::ConsoleAppender.3
Installing /opt/plenv/versions/5.29.10/man/man3/Log::Log4perl::DateFormat.3
Installing /opt/plenv/versions/5.29.10/man/man3/Log::Log4perl::Layout::PatternLayout.3
Installing /opt/plenv/versions/5.29.10/man/man3/Log::Log4perl::Appender::Synchronized.3
Installing /opt/plenv/versions/5.29.10/man/man3/Log::Log4perl::NDC.3
Installing /opt/plenv/versions/5.29.10/man/man3/Log::Log4perl::Config.3
Installing /opt/plenv/versions/5.29.10/man/man3/Log::Log4perl::JavaMap::SyslogAppender.3
Installing /opt/plenv/versions/5.29.10/man/man3/Log::Log4perl::Filter::StringMatch.3
Installing /opt/plenv/versions/5.29.10/man/man3/Log::Log4perl::Filter.3
Installing /opt/plenv/versions/5.29.10/man/man3/Log::Log4perl::Config::Watch.3
Installing /opt/plenv/versions/5.29.10/man/man3/Log::Log4perl::Config::BaseConfigurator.3
Installing /opt/plenv/versions/5.29.10/man/man3/Log::Log4perl::JavaMap::TestBuffer.3
Installing /opt/plenv/versions/5.29.10/man/man3/Log::Log4perl::Filter::MDC.3
Installing /opt/plenv/versions/5.29.10/man/man3/Log::Log4perl::Appender::String.3
Installing /opt/plenv/versions/5.29.10/man/man3/Log::Log4perl::Appender::File.3
Installing /opt/plenv/versions/5.29.10/man/man3/Log::Log4perl::Appender.3
Installing /opt/plenv/versions/5.29.10/man/man3/Log::Log4perl::Layout::NoopLayout.3
Installing /opt/plenv/versions/5.29.10/man/man3/Log::Log4perl::JavaMap::JDBCAppender.3
Installing /opt/plenv/versions/5.29.10/man/man3/Log::Log4perl::Level.3
Installing /opt/plenv/versions/5.29.10/man/man3/Log::Log4perl::Appender::Screen.3
Installing /opt/plenv/versions/5.29.10/man/man3/Log::Log4perl::Util::TimeTracker.3
Installing /opt/plenv/versions/5.29.10/man/man3/Log::Log4perl::Appender::TestArrayBuffer.3
Installing /opt/plenv/versions/5.29.10/man/man3/Log::Log4perl::Appender::ScreenColoredLevels.3
Installing /opt/plenv/versions/5.29.10/man/man3/Log::Log4perl::Util::Semaphore.3
Installing /opt/plenv/versions/5.29.10/man/man3/Log::Log4perl.3
Installing /opt/plenv/versions/5.29.10/man/man3/Log::Log4perl::Appender::DBI.3
Installing /opt/plenv/versions/5.29.10/man/man3/Log::Log4perl::MDC.3
Installing /opt/plenv/versions/5.29.10/bin/l4p-tmpl
Appending installation info to /opt/plenv/versions/5.29.10/lib/perl5/5.29.10/x86_64-linux/perllocal.pod
-> OK
Successfully installed Log-Log4perl-1.49
Installing /opt/plenv/versions/5.29.10/lib/perl5/site_perl/5.29.10/x86_64-linux/.meta/Log-Log4perl-1.49/MYMETA.json
Installing /opt/plenv/versions/5.29.10/lib/perl5/site_perl/5.29.10/x86_64-linux/.meta/Log-Log4perl-1.49/install.json
Searching MooseX::App::Cmd::Command (0) on cpanmetadb ...
--> Working on MooseX::App::Cmd::Command
Fetching http://www.cpan.org/authors/id/E/ET/ETHER/MooseX-App-Cmd-0.32.tar.gz
-> OK
Unpacking MooseX-App-Cmd-0.32.tar.gz
Installing /opt/plenv/versions/5.29.10/lib/perl5/site_perl/5.29.10/MooseX/App/Cmd.pm
Installing /opt/plenv/versions/5.29.10/lib/perl5/site_perl/5.29.10/MooseX/App/Cmd/Command.pm
Installing /opt/plenv/versions/5.29.10/man/man3/MooseX::App::Cmd.3
Installing /opt/plenv/versions/5.29.10/man/man3/MooseX::App::Cmd::Command.3
-> OK
Successfully installed MooseX-App-Cmd-0.32
Installing /opt/plenv/versions/5.29.10/lib/perl5/site_perl/5.29.10/x86_64-linux/.meta/MooseX-App-Cmd-0.32/MYMETA.json
Installing /opt/plenv/versions/5.29.10/lib/perl5/site_perl/5.29.10/x86_64-linux/.meta/MooseX-App-Cmd-0.32/install.json
Searching Test::File (0) on cpanmetadb ...
--> Working on Test::File
Fetching http://www.cpan.org/authors/id/B/BD/BDFOY/Test-File-1.443.tar.gz
-> OK
Unpacking Test-File-1.443.tar.gz
Manifying 1 pod document
Installing /opt/plenv/versions/5.29.10/lib/perl5/site_perl/5.29.10/Test/File.pm
Installing /opt/plenv/versions/5.29.10/man/man3/Test::File.3
Appending installation info to /opt/plenv/versions/5.29.10/lib/perl5/5.29.10/x86_64-linux/perllocal.pod
-> OK
Successfully installed Test-File-1.443
Installing /opt/plenv/versions/5.29.10/lib/perl5/site_perl/5.29.10/x86_64-linux/.meta/Test-File-1.443/MYMETA.json
Installing /opt/plenv/versions/5.29.10/lib/perl5/site_perl/5.29.10/x86_64-linux/.meta/Test-File-1.443/install.json
Already tried namespace::autoclean. Skipping.
Searching Test::Routine::Util (0) on cpanmetadb ...
--> Working on Test::Routine::Util
Fetching http://www.cpan.org/authors/id/R/RJ/RJBS/Test-Routine-0.027.tar.gz
-> OK
Unpacking Test-Routine-0.027.tar.gz
Manifying 8 pod documents
Installing /opt/plenv/versions/5.29.10/lib/perl5/site_perl/5.29.10/Test/Routine.pm
Installing /opt/plenv/versions/5.29.10/lib/perl5/site_perl/5.29.10/Test/Routine/Common.pm
Installing /opt/plenv/versions/5.29.10/lib/perl5/site_perl/5.29.10/Test/Routine/Runner.pm
Installing /opt/plenv/versions/5.29.10/lib/perl5/site_perl/5.29.10/Test/Routine/Test.pm
Installing /opt/plenv/versions/5.29.10/lib/perl5/site_perl/5.29.10/Test/Routine/Util.pm
Installing /opt/plenv/versions/5.29.10/lib/perl5/site_perl/5.29.10/Test/Routine/Compositor.pm
Installing /opt/plenv/versions/5.29.10/lib/perl5/site_perl/5.29.10/Test/Routine/Test/Role.pm
Installing /opt/plenv/versions/5.29.10/lib/perl5/site_perl/5.29.10/Test/Routine/Manual/Demo.pm
Installing /opt/plenv/versions/5.29.10/man/man3/Test::Routine::Test::Role.3
Installing /opt/plenv/versions/5.29.10/man/man3/Test::Routine::Compositor.3
Installing /opt/plenv/versions/5.29.10/man/man3/Test::Routine::Manual::Demo.3
Installing /opt/plenv/versions/5.29.10/man/man3/Test::Routine.3
Installing /opt/plenv/versions/5.29.10/man/man3/Test::Routine::Runner.3
Installing /opt/plenv/versions/5.29.10/man/man3/Test::Routine::Test.3
Installing /opt/plenv/versions/5.29.10/man/man3/Test::Routine::Util.3
Installing /opt/plenv/versions/5.29.10/man/man3/Test::Routine::Common.3
Appending installation info to /opt/plenv/versions/5.29.10/lib/perl5/5.29.10/x86_64-linux/perllocal.pod
-> OK
Successfully installed Test-Routine-0.027
Installing /opt/plenv/versions/5.29.10/lib/perl5/site_perl/5.29.10/x86_64-linux/.meta/Test-Routine-0.027/MYMETA.json
Installing /opt/plenv/versions/5.29.10/lib/perl5/site_perl/5.29.10/x86_64-linux/.meta/Test-Routine-0.027/install.json
Searching Plack::Handler::Standalone (0) on cpanmetadb ...
--> Working on Plack::Handler::Standalone
Fetching http://www.cpan.org/authors/id/M/MI/MIYAGAWA/Plack-1.0047.tar.gz
-> OK
Unpacking Plack-1.0047.tar.gz
Skip blib/lib/auto/share/dist/Plack/face.jpg (unchanged)
Skip blib/lib/auto/share/dist/Plack/baybridge.jpg (unchanged)
Manifying 1 pod document
Manifying 35 pod documents
Manifying 30 pod documents
Manifying 4 pod documents
Installing /opt/plenv/versions/5.29.10/lib/perl5/site_perl/5.29.10/Plack.pm
Installing /opt/plenv/versions/5.29.10/lib/perl5/site_perl/5.29.10/HTTP/Server/PSGI.pm
Installing /opt/plenv/versions/5.29.10/lib/perl5/site_perl/5.29.10/HTTP/Message/PSGI.pm
Installing /opt/plenv/versions/5.29.10/lib/perl5/site_perl/5.29.10/Plack/Runner.pm
Installing /opt/plenv/versions/5.29.10/lib/perl5/site_perl/5.29.10/Plack/LWPish.pm
Installing /opt/plenv/versions/5.29.10/lib/perl5/site_perl/5.29.10/Plack/Middleware.pm
Installing /opt/plenv/versions/5.29.10/lib/perl5/site_perl/5.29.10/Plack/TempBuffer.pm
Installing /opt/plenv/versions/5.29.10/lib/perl5/site_perl/5.29.10/Plack/Test.pm
Installing /opt/plenv/versions/5.29.10/lib/perl5/site_perl/5.29.10/Plack/Handler.pm
Installing /opt/plenv/versions/5.29.10/lib/perl5/site_perl/5.29.10/Plack/Util.pm
Installing /opt/plenv/versions/5.29.10/lib/perl5/site_perl/5.29.10/Plack/MIME.pm
Installing /opt/plenv/versions/5.29.10/lib/perl5/site_perl/5.29.10/Plack/Response.pm
Installing /opt/plenv/versions/5.29.10/lib/perl5/site_perl/5.29.10/Plack/Request.pm
Installing /opt/plenv/versions/5.29.10/lib/perl5/site_perl/5.29.10/Plack/Loader.pm
Installing /opt/plenv/versions/5.29.10/lib/perl5/site_perl/5.29.10/Plack/Component.pm
Installing /opt/plenv/versions/5.29.10/lib/perl5/site_perl/5.29.10/Plack/HTTPParser.pm
Installing /opt/plenv/versions/5.29.10/lib/perl5/site_perl/5.29.10/Plack/Builder.pm
Installing /opt/plenv/versions/5.29.10/lib/perl5/site_perl/5.29.10/Plack/Test/MockHTTP.pm
Installing /opt/plenv/versions/5.29.10/lib/perl5/site_perl/5.29.10/Plack/Test/Server.pm
Installing /opt/plenv/versions/5.29.10/lib/perl5/site_perl/5.29.10/Plack/Test/Suite.pm
Installing /opt/plenv/versions/5.29.10/lib/perl5/site_perl/5.29.10/Plack/App/Directory.pm
Installing /opt/plenv/versions/5.29.10/lib/perl5/site_perl/5.29.10/Plack/App/PSGIBin.pm
Installing /opt/plenv/versions/5.29.10/lib/perl5/site_perl/5.29.10/Plack/App/CGIBin.pm
Installing /opt/plenv/versions/5.29.10/lib/perl5/site_perl/5.29.10/Plack/App/Cascade.pm
Installing /opt/plenv/versions/5.29.10/lib/perl5/site_perl/5.29.10/Plack/App/File.pm
Installing /opt/plenv/versions/5.29.10/lib/perl5/site_perl/5.29.10/Plack/App/URLMap.pm
Installing /opt/plenv/versions/5.29.10/lib/perl5/site_perl/5.29.10/Plack/App/WrapCGI.pm
Installing /opt/plenv/versions/5.29.10/lib/perl5/site_perl/5.29.10/Plack/HTTPParser/PP.pm
Installing /opt/plenv/versions/5.29.10/lib/perl5/site_perl/5.29.10/Plack/Util/Accessor.pm
Installing /opt/plenv/versions/5.29.10/lib/perl5/site_perl/5.29.10/Plack/Middleware/Refresh.pm
Installing /opt/plenv/versions/5.29.10/lib/perl5/site_perl/5.29.10/Plack/Middleware/Static.pm
Installing /opt/plenv/versions/5.29.10/lib/perl5/site_perl/5.29.10/Plack/Middleware/StackTrace.pm
Installing /opt/plenv/versions/5.29.10/lib/perl5/site_perl/5.29.10/Plack/Middleware/NullLogger.pm
Installing /opt/plenv/versions/5.29.10/lib/perl5/site_perl/5.29.10/Plack/Middleware/LogDispatch.pm
Installing /opt/plenv/versions/5.29.10/lib/perl5/site_perl/5.29.10/Plack/Middleware/RearrangeHeaders.pm
Installing /opt/plenv/versions/5.29.10/lib/perl5/site_perl/5.29.10/Plack/Middleware/SimpleContentFilter.pm
Installing /opt/plenv/versions/5.29.10/lib/perl5/site_perl/5.29.10/Plack/Middleware/Conditional.pm
Installing /opt/plenv/versions/5.29.10/lib/perl5/site_perl/5.29.10/Plack/Middleware/Lint.pm
Installing /opt/plenv/versions/5.29.10/lib/perl5/site_perl/5.29.10/Plack/Middleware/IIS7KeepAliveFix.pm
Installing /opt/plenv/versions/5.29.10/lib/perl5/site_perl/5.29.10/Plack/Middleware/ErrorDocument.pm
Installing /opt/plenv/versions/5.29.10/lib/perl5/site_perl/5.29.10/Plack/Middleware/XSendfile.pm
Installing /opt/plenv/versions/5.29.10/lib/perl5/site_perl/5.29.10/Plack/Middleware/Log4perl.pm
Installing /opt/plenv/versions/5.29.10/lib/perl5/site_perl/5.29.10/Plack/Middleware/Head.pm
Installing /opt/plenv/versions/5.29.10/lib/perl5/site_perl/5.29.10/Plack/Middleware/Runtime.pm
Installing /opt/plenv/versions/5.29.10/lib/perl5/site_perl/5.29.10/Plack/Middleware/Recursive.pm
Installing /opt/plenv/versions/5.29.10/lib/perl5/site_perl/5.29.10/Plack/Middleware/AccessLog.pm
Installing /opt/plenv/versions/5.29.10/lib/perl5/site_perl/5.29.10/Plack/Middleware/IIS6ScriptNameFix.pm
Installing /opt/plenv/versions/5.29.10/lib/perl5/site_perl/5.29.10/Plack/Middleware/Chunked.pm
Installing /opt/plenv/versions/5.29.10/lib/perl5/site_perl/5.29.10/Plack/Middleware/BufferedStreaming.pm
Installing /opt/plenv/versions/5.29.10/lib/perl5/site_perl/5.29.10/Plack/Middleware/ConditionalGET.pm
Installing /opt/plenv/versions/5.29.10/lib/perl5/site_perl/5.29.10/Plack/Middleware/LighttpdScriptNameFix.pm
Installing /opt/plenv/versions/5.29.10/lib/perl5/site_perl/5.29.10/Plack/Middleware/JSONP.pm
Installing /opt/plenv/versions/5.29.10/lib/perl5/site_perl/5.29.10/Plack/Middleware/ContentLength.pm
Installing /opt/plenv/versions/5.29.10/lib/perl5/site_perl/5.29.10/Plack/Middleware/XFramework.pm
Installing /opt/plenv/versions/5.29.10/lib/perl5/site_perl/5.29.10/Plack/Middleware/HTTPExceptions.pm
Installing /opt/plenv/versions/5.29.10/lib/perl5/site_perl/5.29.10/Plack/Middleware/SimpleLogger.pm
Installing /opt/plenv/versions/5.29.10/lib/perl5/site_perl/5.29.10/Plack/Middleware/ContentMD5.pm
Installing /opt/plenv/versions/5.29.10/lib/perl5/site_perl/5.29.10/Plack/Middleware/AccessLog/Timed.pm
Installing /opt/plenv/versions/5.29.10/lib/perl5/site_perl/5.29.10/Plack/Middleware/Auth/Basic.pm
Installing /opt/plenv/versions/5.29.10/lib/perl5/site_perl/5.29.10/Plack/Loader/Delayed.pm
Installing /opt/plenv/versions/5.29.10/lib/perl5/site_perl/5.29.10/Plack/Loader/Restarter.pm
Installing /opt/plenv/versions/5.29.10/lib/perl5/site_perl/5.29.10/Plack/Loader/Shotgun.pm
Installing /opt/plenv/versions/5.29.10/lib/perl5/site_perl/5.29.10/Plack/Handler/CGI.pm
Installing /opt/plenv/versions/5.29.10/lib/perl5/site_perl/5.29.10/Plack/Handler/Apache2.pm
Installing /opt/plenv/versions/5.29.10/lib/perl5/site_perl/5.29.10/Plack/Handler/Standalone.pm
Installing /opt/plenv/versions/5.29.10/lib/perl5/site_perl/5.29.10/Plack/Handler/Apache1.pm
Installing /opt/plenv/versions/5.29.10/lib/perl5/site_perl/5.29.10/Plack/Handler/FCGI.pm
Installing /opt/plenv/versions/5.29.10/lib/perl5/site_perl/5.29.10/Plack/Handler/HTTP/Server/PSGI.pm
Installing /opt/plenv/versions/5.29.10/lib/perl5/site_perl/5.29.10/Plack/Handler/Apache2/Registry.pm
Installing /opt/plenv/versions/5.29.10/lib/perl5/site_perl/5.29.10/Plack/Request/Upload.pm
Installing /opt/plenv/versions/5.29.10/lib/perl5/site_perl/5.29.10/auto/share/dist/Plack/baybridge.jpg
Installing /opt/plenv/versions/5.29.10/lib/perl5/site_perl/5.29.10/auto/share/dist/Plack/face.jpg
Installing /opt/plenv/versions/5.29.10/man/man1/plackup.1
Installing /opt/plenv/versions/5.29.10/man/man3/Plack::Middleware::HTTPExceptions.3
Installing /opt/plenv/versions/5.29.10/man/man3/Plack::Handler::HTTP::Server::PSGI.3
Installing /opt/plenv/versions/5.29.10/man/man3/Plack::Test::MockHTTP.3
Installing /opt/plenv/versions/5.29.10/man/man3/Plack::Middleware::Head.3
Installing /opt/plenv/versions/5.29.10/man/man3/Plack::Middleware::SimpleContentFilter.3
Installing /opt/plenv/versions/5.29.10/man/man3/Plack::Middleware::BufferedStreaming.3
Installing /opt/plenv/versions/5.29.10/man/man3/Plack::MIME.3
Installing /opt/plenv/versions/5.29.10/man/man3/Plack::Middleware::LogDispatch.3
Installing /opt/plenv/versions/5.29.10/man/man3/Plack::Request::Upload.3
Installing /opt/plenv/versions/5.29.10/man/man3/Plack::Middleware::ContentMD5.3
Installing /opt/plenv/versions/5.29.10/man/man3/Plack::Middleware::Conditional.3
Installing /opt/plenv/versions/5.29.10/man/man3/Plack::Loader::Delayed.3
Installing /opt/plenv/versions/5.29.10/man/man3/Plack::HTTPParser.3
Installing /opt/plenv/versions/5.29.10/man/man3/Plack::Handler::CGI.3
Installing /opt/plenv/versions/5.29.10/man/man3/Plack::Loader::Shotgun.3
Installing /opt/plenv/versions/5.29.10/man/man3/Plack::Util::Accessor.3
Installing /opt/plenv/versions/5.29.10/man/man3/Plack::Request.3
Installing /opt/plenv/versions/5.29.10/man/man3/Plack::Loader::Restarter.3
Installing /opt/plenv/versions/5.29.10/man/man3/Plack::Handler::Apache1.3
Installing /opt/plenv/versions/5.29.10/man/man3/Plack::Middleware::IIS7KeepAliveFix.3
Installing /opt/plenv/versions/5.29.10/man/man3/Plack::Middleware::Runtime.3
Installing /opt/plenv/versions/5.29.10/man/man3/Plack::Middleware::ContentLength.3
Installing /opt/plenv/versions/5.29.10/man/man3/Plack::Middleware::LighttpdScriptNameFix.3
Installing /opt/plenv/versions/5.29.10/man/man3/Plack::Middleware::JSONP.3
Installing /opt/plenv/versions/5.29.10/man/man3/Plack::Handler::Apache2.3
Installing /opt/plenv/versions/5.29.10/man/man3/Plack::Middleware::Recursive.3
Installing /opt/plenv/versions/5.29.10/man/man3/Plack::Middleware.3
Installing /opt/plenv/versions/5.29.10/man/man3/Plack::Loader.3
Installing /opt/plenv/versions/5.29.10/man/man3/Plack::Middleware::StackTrace.3
Installing /opt/plenv/versions/5.29.10/man/man3/Plack::Middleware::RearrangeHeaders.3
Installing /opt/plenv/versions/5.29.10/man/man3/Plack::Response.3
Installing /opt/plenv/versions/5.29.10/man/man3/Plack::Middleware::Chunked.3
Installing /opt/plenv/versions/5.29.10/man/man3/Plack.3
Installing /opt/plenv/versions/5.29.10/man/man3/Plack::App::WrapCGI.3
Installing /opt/plenv/versions/5.29.10/man/man3/Plack::Handler::Apache2::Registry.3
Installing /opt/plenv/versions/5.29.10/man/man3/Plack::Middleware::Auth::Basic.3
Installing /opt/plenv/versions/5.29.10/man/man3/Plack::Test::Suite.3
Installing /opt/plenv/versions/5.29.10/man/man3/Plack::Middleware::NullLogger.3
Installing /opt/plenv/versions/5.29.10/man/man3/Plack::App::File.3
Installing /opt/plenv/versions/5.29.10/man/man3/Plack::Test::Server.3
Installing /opt/plenv/versions/5.29.10/man/man3/Plack::Test.3
Installing /opt/plenv/versions/5.29.10/man/man3/Plack::Middleware::ConditionalGET.3
Installing /opt/plenv/versions/5.29.10/man/man3/Plack::App::Cascade.3
Installing /opt/plenv/versions/5.29.10/man/man3/Plack::App::Directory.3
Installing /opt/plenv/versions/5.29.10/man/man3/Plack::HTTPParser::PP.3
Installing /opt/plenv/versions/5.29.10/man/man3/Plack::Middleware::Log4perl.3
Installing /opt/plenv/versions/5.29.10/man/man3/Plack::Runner.3
Installing /opt/plenv/versions/5.29.10/man/man3/Plack::Middleware::SimpleLogger.3
Installing /opt/plenv/versions/5.29.10/man/man3/Plack::Middleware::XFramework.3
Installing /opt/plenv/versions/5.29.10/man/man3/Plack::Middleware::AccessLog::Timed.3
Installing /opt/plenv/versions/5.29.10/man/man3/Plack::Middleware::Lint.3
Installing /opt/plenv/versions/5.29.10/man/man3/Plack::LWPish.3
Installing /opt/plenv/versions/5.29.10/man/man3/Plack::Util.3
Installing /opt/plenv/versions/5.29.10/man/man3/Plack::Middleware::AccessLog.3
Installing /opt/plenv/versions/5.29.10/man/man3/Plack::Middleware::ErrorDocument.3
Installing /opt/plenv/versions/5.29.10/man/man3/Plack::Middleware::Static.3
Installing /opt/plenv/versions/5.29.10/man/man3/Plack::Handler.3
Installing /opt/plenv/versions/5.29.10/man/man3/Plack::Builder.3
Installing /opt/plenv/versions/5.29.10/man/man3/Plack::Middleware::XSendfile.3
Installing /opt/plenv/versions/5.29.10/man/man3/Plack::Handler::Standalone.3
Installing /opt/plenv/versions/5.29.10/man/man3/Plack::Handler::FCGI.3
Installing /opt/plenv/versions/5.29.10/man/man3/HTTP::Message::PSGI.3
Installing /opt/plenv/versions/5.29.10/man/man3/Plack::App::URLMap.3
Installing /opt/plenv/versions/5.29.10/man/man3/Plack::Middleware::Refresh.3
Installing /opt/plenv/versions/5.29.10/man/man3/Plack::App::PSGIBin.3
Installing /opt/plenv/versions/5.29.10/man/man3/Plack::App::CGIBin.3
Installing /opt/plenv/versions/5.29.10/man/man3/Plack::Middleware::IIS6ScriptNameFix.3
Installing /opt/plenv/versions/5.29.10/man/man3/HTTP::Server::PSGI.3
Installing /opt/plenv/versions/5.29.10/man/man3/Plack::Component.3
Installing /opt/plenv/versions/5.29.10/bin/plackup
Appending installation info to /opt/plenv/versions/5.29.10/lib/perl5/5.29.10/x86_64-linux/perllocal.pod
-> OK
Successfully installed Plack-1.0047
Installing /opt/plenv/versions/5.29.10/lib/perl5/site_perl/5.29.10/x86_64-linux/.meta/Plack-1.0047/MYMETA.json
Installing /opt/plenv/versions/5.29.10/lib/perl5/site_perl/5.29.10/x86_64-linux/.meta/Plack-1.0047/install.json
Searching Text::Xslate (0) on cpanmetadb ...
--> Working on Text::Xslate
Fetching http://www.cpan.org/authors/id/S/SK/SKAJI/Text-Xslate-v3.5.6.tar.gz
-> OK
Unpacking Text-Xslate-v3.5.6.tar.gz
Building Mouse
Generate Mouse::Tiny ...
done.
Files found in blib/arch: installing files in blib/lib into architecture dependent library tree
Installing /opt/plenv/versions/5.29.10/lib/perl5/site_perl/5.29.10/x86_64-linux/auto/Mouse/Mouse.so
Installing /opt/plenv/versions/5.29.10/lib/perl5/site_perl/5.29.10/x86_64-linux/auto/Mouse/Mouse.bs
Installing /opt/plenv/versions/5.29.10/lib/perl5/site_perl/5.29.10/x86_64-linux/Squirrel.pm
Installing /opt/plenv/versions/5.29.10/lib/perl5/site_perl/5.29.10/x86_64-linux/Mouse.pm
Installing /opt/plenv/versions/5.29.10/lib/perl5/site_perl/5.29.10/x86_64-linux/ouse.pm
Installing /opt/plenv/versions/5.29.10/lib/perl5/site_perl/5.29.10/x86_64-linux/Test/Mouse.pm
Installing /opt/plenv/versions/5.29.10/lib/perl5/site_perl/5.29.10/x86_64-linux/Squirrel/Role.pm
Installing /opt/plenv/versions/5.29.10/lib/perl5/site_perl/5.29.10/x86_64-linux/Mouse/TypeRegistry.pm
Installing /opt/plenv/versions/5.29.10/lib/perl5/site_perl/5.29.10/x86_64-linux/Mouse/Role.pm
Installing /opt/plenv/versions/5.29.10/lib/perl5/site_perl/5.29.10/x86_64-linux/Mouse/XS.pod
Installing /opt/plenv/versions/5.29.10/lib/perl5/site_perl/5.29.10/x86_64-linux/Mouse/Tiny.pm
Installing /opt/plenv/versions/5.29.10/lib/perl5/site_perl/5.29.10/x86_64-linux/Mouse/Util.pm
Installing /opt/plenv/versions/5.29.10/lib/perl5/site_perl/5.29.10/x86_64-linux/Mouse/PurePerl.pm
Installing /opt/plenv/versions/5.29.10/lib/perl5/site_perl/5.29.10/x86_64-linux/Mouse/Exporter.pm
Installing /opt/plenv/versions/5.29.10/lib/perl5/site_perl/5.29.10/x86_64-linux/Mouse/Object.pm
Installing /opt/plenv/versions/5.29.10/lib/perl5/site_perl/5.29.10/x86_64-linux/Mouse/Tiny.pod
Installing /opt/plenv/versions/5.29.10/lib/perl5/site_perl/5.29.10/x86_64-linux/Mouse/Spec.pm
Installing /opt/plenv/versions/5.29.10/lib/perl5/site_perl/5.29.10/x86_64-linux/Mouse/Util/TypeConstraints.pm
Installing /opt/plenv/versions/5.29.10/lib/perl5/site_perl/5.29.10/x86_64-linux/Mouse/Util/MetaRole.pm
Installing /opt/plenv/versions/5.29.10/lib/perl5/site_perl/5.29.10/x86_64-linux/Mouse/Meta/Role.pm
Installing /opt/plenv/versions/5.29.10/lib/perl5/site_perl/5.29.10/x86_64-linux/Mouse/Meta/Class.pm
Installing /opt/plenv/versions/5.29.10/lib/perl5/site_perl/5.29.10/x86_64-linux/Mouse/Meta/Method.pm
Installing /opt/plenv/versions/5.29.10/lib/perl5/site_perl/5.29.10/x86_64-linux/Mouse/Meta/TypeConstraint.pm
Installing /opt/plenv/versions/5.29.10/lib/perl5/site_perl/5.29.10/x86_64-linux/Mouse/Meta/Module.pm
Installing /opt/plenv/versions/5.29.10/lib/perl5/site_perl/5.29.10/x86_64-linux/Mouse/Meta/Attribute.pm
Installing /opt/plenv/versions/5.29.10/lib/perl5/site_perl/5.29.10/x86_64-linux/Mouse/Meta/Method/Destructor.pm
Installing /opt/plenv/versions/5.29.10/lib/perl5/site_perl/5.29.10/x86_64-linux/Mouse/Meta/Method/Delegation.pm
Installing /opt/plenv/versions/5.29.10/lib/perl5/site_perl/5.29.10/x86_64-linux/Mouse/Meta/Method/Constructor.pm
Installing /opt/plenv/versions/5.29.10/lib/perl5/site_perl/5.29.10/x86_64-linux/Mouse/Meta/Method/Accessor.pm
Installing /opt/plenv/versions/5.29.10/lib/perl5/site_perl/5.29.10/x86_64-linux/Mouse/Meta/Role/Application.pm
Installing /opt/plenv/versions/5.29.10/lib/perl5/site_perl/5.29.10/x86_64-linux/Mouse/Meta/Role/Method.pm
Installing /opt/plenv/versions/5.29.10/lib/perl5/site_perl/5.29.10/x86_64-linux/Mouse/Meta/Role/Composite.pm
Installing /opt/plenv/versions/5.29.10/man/man3/Mouse::Meta::Role::Application.3
Installing /opt/plenv/versions/5.29.10/man/man3/Squirrel::Role.3
Installing /opt/plenv/versions/5.29.10/man/man3/Mouse::XS.3
Installing /opt/plenv/versions/5.29.10/man/man3/Mouse::Meta::Class.3
Installing /opt/plenv/versions/5.29.10/man/man3/Mouse::Util::MetaRole.3
Installing /opt/plenv/versions/5.29.10/man/man3/ouse.3
Installing /opt/plenv/versions/5.29.10/man/man3/Mouse::Meta::TypeConstraint.3
Installing /opt/plenv/versions/5.29.10/man/man3/Mouse::Object.3
Installing /opt/plenv/versions/5.29.10/man/man3/Mouse::Meta::Method::Constructor.3
Installing /opt/plenv/versions/5.29.10/man/man3/Mouse::Exporter.3
Installing /opt/plenv/versions/5.29.10/man/man3/Mouse::Meta::Role::Method.3
Installing /opt/plenv/versions/5.29.10/man/man3/Mouse::Meta::Method.3
Installing /opt/plenv/versions/5.29.10/man/man3/Mouse::Util::TypeConstraints.3
Installing /opt/plenv/versions/5.29.10/man/man3/Mouse::Util.3
Installing /opt/plenv/versions/5.29.10/man/man3/Mouse::Tiny.3
Installing /opt/plenv/versions/5.29.10/man/man3/Mouse::Meta::Module.3
Installing /opt/plenv/versions/5.29.10/man/man3/Mouse::Meta::Role.3
Installing /opt/plenv/versions/5.29.10/man/man3/Mouse::Spec.3
Installing /opt/plenv/versions/5.29.10/man/man3/Mouse::Meta::Method::Accessor.3
Installing /opt/plenv/versions/5.29.10/man/man3/Mouse::Meta::Method::Destructor.3
Installing /opt/plenv/versions/5.29.10/man/man3/Squirrel.3
Installing /opt/plenv/versions/5.29.10/man/man3/Test::Mouse.3
Installing /opt/plenv/versions/5.29.10/man/man3/Mouse::Meta::Attribute.3
Installing /opt/plenv/versions/5.29.10/man/man3/Mouse::PurePerl.3
Installing /opt/plenv/versions/5.29.10/man/man3/Mouse::TypeRegistry.3
Installing /opt/plenv/versions/5.29.10/man/man3/Mouse::Meta::Method::Delegation.3
Installing /opt/plenv/versions/5.29.10/man/man3/Mouse.3
Installing /opt/plenv/versions/5.29.10/man/man3/Mouse::Meta::Role::Composite.3
Installing /opt/plenv/versions/5.29.10/man/man3/Mouse::Role.3
-> OK
Successfully installed Mouse-v2.5.6
Installing /opt/plenv/versions/5.29.10/lib/perl5/site_perl/5.29.10/x86_64-linux/.meta/Mouse-v2.5.6/MYMETA.json
Installing /opt/plenv/versions/5.29.10/lib/perl5/site_perl/5.29.10/x86_64-linux/.meta/Mouse-v2.5.6/install.json
Searching Data::MessagePack (0.38) on cpanmetadb ...
--> Working on Data::MessagePack
Fetching http://www.cpan.org/authors/id/S/SY/SYOHEX/Data-MessagePack-1.00.tar.gz
-> OK
Unpacking Data-MessagePack-1.00.tar.gz
"/opt/plenv/versions/5.29.10/bin/perl5.29.10" "-Iinc" -MExtUtils::Command::MM -e 'cp_nonempty' -- MessagePack.bs blib/arch/auto/Data/MessagePack/MessagePack.bs 644
Manifying 3 pod documents
Files found in blib/arch: installing files in blib/lib into architecture dependent library tree
Installing /opt/plenv/versions/5.29.10/lib/perl5/site_perl/5.29.10/x86_64-linux/auto/Data/MessagePack/MessagePack.so
Installing /opt/plenv/versions/5.29.10/lib/perl5/site_perl/5.29.10/x86_64-linux/Data/MessagePack.pm
Installing /opt/plenv/versions/5.29.10/lib/perl5/site_perl/5.29.10/x86_64-linux/Data/MessagePack/Boolean.pm
Installing /opt/plenv/versions/5.29.10/lib/perl5/site_perl/5.29.10/x86_64-linux/Data/MessagePack/Unpacker.pod
Installing /opt/plenv/versions/5.29.10/lib/perl5/site_perl/5.29.10/x86_64-linux/Data/MessagePack/PP.pm
Installing /opt/plenv/versions/5.29.10/man/man3/Data::MessagePack::PP.3
Installing /opt/plenv/versions/5.29.10/man/man3/Data::MessagePack::Unpacker.3
Installing /opt/plenv/versions/5.29.10/man/man3/Data::MessagePack.3
Appending installation info to /opt/plenv/versions/5.29.10/lib/perl5/5.29.10/x86_64-linux/perllocal.pod
-> OK
Successfully installed Data-MessagePack-1.00
Installing /opt/plenv/versions/5.29.10/lib/perl5/site_perl/5.29.10/x86_64-linux/.meta/Data-MessagePack-1.00/MYMETA.json
Installing /opt/plenv/versions/5.29.10/lib/perl5/site_perl/5.29.10/x86_64-linux/.meta/Data-MessagePack-1.00/install.json
Building and testing Text-Xslate-v3.5.6
Building Text-Xslate
/opt/plenv/versions/5.29.10/bin/perl5.29.10 tool/opcode_for_pp.PL src/xslate_opcode.inc > lib/Text/Xslate/PP/Const.pm
/opt/plenv/versions/5.29.10/bin/perl5.29.10 tool/opcode.PL src/xslate_opcode.inc > src/xslate_ops.h
cc -Isrc -I/opt/plenv/versions/5.29.10/lib/perl5/5.29.10/x86_64-linux/CORE -fPIC -Wall -Wextra -Wdeclaration-after-statement -c -fwrapv -fno-strict-aliasing -pipe -fstack-protector-strong -I/usr/local/include -D_LARGEFILE_SOURCE -D_FILE_OFFSET_BITS=64 -D_FORTIFY_SOURCE=2 -O2 -o src/xslate_methods.o src/xslate_methods.c
cc -Isrc -I/opt/plenv/versions/5.29.10/lib/perl5/5.29.10/x86_64-linux/CORE -DVERSION="v3.5.6" -DXS_VERSION="v3.5.6" -fPIC -Wall -Wextra -Wdeclaration-after-statement -c -fwrapv -fno-strict-aliasing -pipe -fstack-protector-strong -I/usr/local/include -D_LARGEFILE_SOURCE -D_FILE_OFFSET_BITS=64 -D_FORTIFY_SOURCE=2 -O2 -o lib/Text/Xslate.o lib/Text/Xslate.c
ExtUtils::Mkbootstrap::Mkbootstrap('blib/arch/auto/Text/Xslate/Xslate.bs')
cc -shared -O2 -L/usr/local/lib -fstack-protector-strong -o blib/arch/auto/Text/Xslate/Xslate.so lib/Text/Xslate.o src/xslate_methods.o
xs tests
# Testing Text::Xslate/v3.5.6
# Backend: XS
# $ENV{XSLATE}=xs
t/000_load.t .................................... ok
t/010_internals/001_parse.t ..................... ok
t/010_internals/002_compile.t ................... ok
t/010_internals/003_assemble.t .................. ok
t/010_internals/004_magic.t ..................... ok
t/010_internals/005_load_file.t ................. ok
t/010_internals/006_errhandler.t ................ ok
t/010_internals/007_compile_errs.t .............. ok
t/010_internals/008_files.t ..................... ok
t/010_internals/009_goto_address.t .............. ok
t/010_internals/010_line_number.t ............... ok
t/010_internals/011_missuse.t ................... ok
t/010_internals/012_multilines.t ................ ok
t/010_internals/013_deps_str.t .................. ok
t/010_internals/014_deps_file.t ................. ok
t/010_internals/015_deps_file2.t ................ ok
t/010_internals/016_cached.t .................... ok
t/010_internals/017_render.t .................... ok
t/010_internals/018_opinfo.t .................... ok
t/010_internals/019_runtime_error.t ............. ok
t/010_internals/020_optimize.t .................. ok
t/010_internals/021_edge_cases.t ................ ok
t/010_internals/022_signal.t .................... ok
t/010_internals/023_cachepath.t ................. ok
t/010_internals/024_die_in_macros.t ............. ok
t/010_internals/025_reset_hooks.t ............... ok
t/010_internals/026_issue16_deep_recursion.t .... ok
t/010_internals/027_infinite_warn.t ............. ok
t/010_internals/028_taint.t ..................... ok
t/010_internals/029_large_file.t ................ ok
t/010_internals/030_die_in_funcs.t .............. ok
t/010_internals/031_save_src.t .................. ok
t/010_internals/032_encoding_error.t ............ skipped: TODO: the behaviours of PP and XS does not match
t/010_internals/033_vpath_cache.t ............... ok
t/010_internals/034_is_code_ref.t ............... ok
t/010_internals/036_merge_hash.t ................ ok
t/010_internals/037_find_file.t ................. ok
t/010_internals/038_suffix.t .................... ok
t/010_internals/039_taint_issue84.t ............. ok
t/010_internals/100_threads.t ................... skipped: multi-threading tests
t/010_internals/200_leaktrace.t ................. ok
t/010_internals/300_explicit_pp.t ............... ok
t/020_interface/001_parser_option.t ............. ok
t/020_interface/002_myparser.t .................. ok
t/020_interface/003_encoding.t .................. ok
t/020_interface/004_no_vars.t ................... ok
t/020_interface/005_util.t ...................... ok
t/020_interface/006_psgi.t ...................... ok
t/020_interface/007_data_section.t .............. ok
t/020_interface/008_type.t ...................... ok
t/020_interface/009_hash_with_default.t ......... ok
t/020_interface/010_err_encoding.t .............. ok
t/020_interface/011_hwd_w_include_vars.t ........ ok
t/020_interface/012_default_functions.t ......... ok
t/020_interface/013_slurp_template.t ............ ok
t/020_interface/014_customize_option.t .......... ok
t/020_interface/015_render_recursion.t .......... ok
t/020_interface/016_pre_process_handler.t ....... ok
t/020_interface/017_validate.t .................. ok
t/030_kolon/001_interpolate.t ................... ok
t/030_kolon/002_field.t ......................... ok
t/030_kolon/003_for.t ........................... ok
t/030_kolon/004_if.t ............................ ok
t/030_kolon/005_rel_ops.t ....................... ok
t/030_kolon/006_arith_ops.t ..................... ok
t/030_kolon/007_log_ops.t ....................... ok
t/030_kolon/008_literal.t ....................... ok
t/030_kolon/009_include.t ....................... ok
t/030_kolon/010_escaped_str.t ................... ok
t/030_kolon/011_macro.t ......................... ok
t/030_kolon/012_cascade.t ....................... ok
t/030_kolon/013_more_field.t .................... ok
t/030_kolon/014_while.t ......................... ok
t/030_kolon/015_methods.t ....................... ok
t/030_kolon/016_funcs.t ......................... ok
t/030_kolon/017_more_macro.t .................... ok
t/030_kolon/018_dynamic_filters.t ............... ok
t/030_kolon/019_explicit_interpolate.t .......... ok
t/030_kolon/020_chomp.t ......................... ok
t/030_kolon/021_overlay.t ....................... ok
t/030_kolon/022_given.t ......................... ok
t/030_kolon/023_bitwise.t ....................... ok
t/030_kolon/024_localize_vars.t ................. ok
t/030_kolon/025_objectliteral.t ................. ok
t/030_kolon/026_constant.t ...................... ok
t/030_kolon/027_lambda.t ........................ ok
t/030_kolon/028_smartmatch.t .................... ok
t/030_kolon/029_blockfilter.t ................... ok
t/030_kolon/030_xfuncs.t ........................ ok
t/030_kolon/031_post_if.t ....................... ok
t/030_kolon/032_include_bareword.t .............. ok
t/030_kolon/033_ov_forloop.t .................... ok
t/030_kolon/034_print.t ......................... ok
t/030_kolon/035_include_w_vars.t ................ ok
t/030_kolon/036_foreach_else.t .................. ok
t/030_kolon/037_loop_ctl.t ...................... ok
t/030_kolon/038_custom_esc.t .................... ok
t/030_kolon/039_root_vars.t ..................... ok
t/030_kolon/040_external_macro.t ................ skipped: external macros are not yet implemented
t/040_tterse/001_parse.t ........................ ok
t/040_tterse/002_interpolate.t .................. ok
t/040_tterse/003_field.t ........................ ok
t/040_tterse/004_for.t .......................... ok
t/040_tterse/005_if.t ........................... ok
t/040_tterse/006_include.t ...................... ok
t/040_tterse/007_funcs.t ........................ ok
t/040_tterse/008_methods.t ...................... ok
t/040_tterse/009_comments.t ..................... ok
t/040_tterse/010_expr.t ......................... ok
t/040_tterse/011_objectliterals.t ............... ok
t/040_tterse/012_macro.t ........................ ok
t/040_tterse/013_wrapper.t ...................... ok
t/040_tterse/014_set.t .......................... ok
t/040_tterse/015_while.t ........................ ok
t/040_tterse/016_call.t ......................... ok
t/040_tterse/017_filter.t ....................... ok
t/040_tterse/018_process.t ...................... ok
t/040_tterse/019_switch.t ....................... ok
t/040_tterse/020_chomp.t ........................ ok
t/040_tterse/021_fake_use.t ..................... ok
t/040_tterse/022_post_if.t ...................... ok
t/040_tterse/023_loop_ctl.t ..................... ok
t/040_tterse/024_for_else.t ..................... ok
t/040_tterse/025_macro.t ........................ ok
t/040_tterse/100_not_supported.t ................ ok
t/050_builtins/001_builtin_funcs.t .............. ok
t/050_builtins/002_autobox.t .................... ok
t/050_builtins/003_autobox_w_cb.t ............... ok
t/050_builtins/004_copied.t ..................... ok
t/100_plugin/001_import_from.t .................. ok
t/100_plugin/002_import.t ....................... ok
t/100_plugin/003_bridge.t ....................... ok
t/100_plugin/004_star.t ......................... ok
t/100_plugin/005_html_builder_module.t .......... ok
t/100_plugin/100_error.t ........................ ok
t/200_app/001_hello.t ........................... ok
t/200_app/002_tree.t ............................ ok
t/200_app/003_runner.t .......................... ok
t/200_app/004_encoding.t ........................ ok
t/300_examples/001_basic.t ...................... ok
t/300_examples/002_cascade.t .................... ok
t/300_examples/003_metakolon.t .................. ok
t/300_examples/004_tterse.t ..................... ok
t/900_bugs/001_super.t .......................... ok
t/900_bugs/002_addfunc.t ........................ ok
t/900_bugs/003_frame_access.t ................... ok
t/900_bugs/004_errorhandling.t .................. ok
t/900_bugs/005_rec_include.t .................... ok
t/900_bugs/006_complex_lex.t .................... ok
t/900_bugs/007_uuv.t ............................ ok
t/900_bugs/008_include_var.t .................... ok
t/900_bugs/009_quote_in_comments.t .............. ok
t/900_bugs/010_widechar_for_md5.t ............... ok
t/900_bugs/011_reserved_words.t ................. ok
t/900_bugs/012_ltgt_in_comments.t ............... ok
t/900_bugs/013_comments_lineno.t ................ ok
t/900_bugs/014_too_large_int.t .................. ok
t/900_bugs/015_my_scope.t ....................... ok
t/900_bugs/016_x_in_tterse.t .................... ok
t/900_bugs/017_unallocated.t .................... skipped: not yet
t/900_bugs/019_nested_mm.t ...................... ok
t/900_bugs/020_switch_foo.t ..................... ok
t/900_bugs/021_cached_enc.t ..................... ok
t/900_bugs/022_empty_if_block.t ................. ok
t/900_bugs/023_deploy_problem.t ................. ok
t/900_bugs/024_use_cache.t ...................... ok
t/900_bugs/025_clobber-macro-args.t ............. ok
t/900_bugs/026_issue61.t ........................ ok
t/900_bugs/027_issue65.t ........................ ok
t/900_bugs/028_issue68.t ........................ ok
t/900_bugs/029_fork_and_cache.t ................. skipped: deal with memorycache-filecache-original model more effectively
t/900_bugs/030_issue71.t ........................ ok
t/900_bugs/031_yappo.t .......................... ok
t/900_bugs/032_issue79.t ........................ ok
t/900_bugs/033_ex_safe_render.t ................. ok
t/900_bugs/034_hash_key_utf8.t .................. ok
t/900_bugs/035_issue81_tiedhash.t ............... ok
t/900_bugs/036_vpath_utf8.t ..................... ok
t/900_bugs/037_text_str_key.t ................... ok
t/900_bugs/038_conbine_flaged_utf8_and_other.t .. ok
t/900_bugs/039_issue96.t ........................ ok
t/900_bugs/040_issue95.t ........................ ok
t/900_bugs/041_cachedir_other_process.t ......... ok
t/900_bugs/042_perl59_issue.t ................... ok
t/900_bugs/043_issue107.t ....................... ok
t/900_bugs/044_empty_result.t ................... ok
t/900_bugs/045_issue130.t ....................... ok
t/900_bugs/046_issue156.t ....................... ok
t/900_bugs/046_issue88.t ........................ ok
t/900_bugs/047_undef_concat.t ................... ok
t/900_bugs/048_issue172.t ....................... skipped: Test requires module 'Data::Section::Simple' but it's not found
All tests successful.
Files=191, Tests=2733, 38 wallclock secs ( 0.72 usr  0.30 sys + 30.81 cusr  3.37 csys = 35.20 CPU)
Result: PASS

------------------------------
PREREQUISITES
------------------------------

Prerequisite modules loaded:

    No requirements found

------------------------------
ENVIRONMENT AND OTHER CONTEXT
------------------------------

Environment variables:

    LANG = en_US.UTF-8
    LC_ALL = en_US.UTF-8
    PATH = /opt/plenv/versions/5.29.10/bin:/opt/plenv/libexec:/opt/plenv/plugins/perl-build/bin:/opt/plenv/shims:/opt/plenv/shims:/opt/plenv/bin:/opt/nvm/versions/node/v10.11.0/bin:/home/genehack/bin:/opt/znc/bin:/opt/weechat/bin:/opt/vim/bin:/opt/tmux/bin:/opt/git/bin:/opt/emacs/bin:/opt/local/bin:/usr/local/bin:/usr/bin:/bin:/usr/games
    PERL_CPANM_OPT = --skip-installed --prompt
    SHELL = /bin/zsh
    TERM = screen-256color

Perl special variables (and OS-specific diagnostics, for MSWin32):

    EGID = 1001 102 1001
    EUID = 1001
    EXECUTABLE_NAME = /opt/plenv/versions/5.29.10/bin/perl5.29.10
    GID = 1001 102 1001
    UID = 1001

Perl module toolchain versions installed:

    Module              Have    
    ------------------- --------
    CPAN                2.22    
    CPAN::Meta          2.150010
    Cwd                 3.78    
    ExtUtils::CBuilder  0.280231
    ExtUtils::Command   7.34    
    ExtUtils::Install   2.14    
    ExtUtils::MakeMaker 7.34    
    ExtUtils::Manifest  1.72    
    ExtUtils::ParseXS   3.40    
    File::Spec          3.78    
    JSON                4.02    
    JSON::PP            4.02    
    Module::Build       0.4229  
    Module::Signature   n/a     
    Parse::CPAN::Meta   2.150010
    Test::Harness       3.42    
    Test::More          1.302162
    YAML                1.27    
    YAML::Syck          n/a     
    version             0.9924  


--

Summary of my perl5 (revision 5 version 29 subversion 10) configuration:
   
  Platform:
    osname=linux
    osvers=4.15.13-x86_64-linode106
    archname=x86_64-linux
    uname='linux klatch 4.15.13-x86_64-linode106 #1 smp tue mar 27 14:42:14 utc 2018 x86_64 gnulinux '
    config_args='-Dprefix=/opt/plenv/versions/5.29.10 -de -Dversiononly -Dusedevel -A'eval:scriptdir=/opt/plenv/versions/5.29.10/bin''
    hint=recommended
    useposix=true
    d_sigaction=define
    useithreads=undef
    usemultiplicity=undef
    use64bitint=define
    use64bitall=define
    uselongdouble=undef
    usemymalloc=n
    default_inc_excludes_dot=define
    bincompat5005=undef
  Compiler:
    cc='cc'
    ccflags ='-fwrapv -fno-strict-aliasing -pipe -fstack-protector-strong -I/usr/local/include -D_LARGEFILE_SOURCE -D_FILE_OFFSET_BITS=64 -D_FORTIFY_SOURCE=2'
    optimize='-O2'
    cppflags='-fwrapv -fno-strict-aliasing -pipe -fstack-protector-strong -I/usr/local/include'
    ccversion=''
    gccversion='6.3.0 20170516'
    gccosandvers=''
    intsize=4
    longsize=8
    ptrsize=8
    doublesize=8
    byteorder=12345678
    doublekind=3
    d_longlong=define
    longlongsize=8
    d_longdbl=define
    longdblsize=16
    longdblkind=3
    ivtype='long'
    ivsize=8
    nvtype='double'
    nvsize=8
    Off_t='off_t'
    lseeksize=8
    alignbytes=8
    prototype=define
  Linker and Libraries:
    ld='cc'
    ldflags =' -fstack-protector-strong -L/usr/local/lib'
    libpth=/usr/local/lib /usr/lib/gcc/x86_64-linux-gnu/6/include-fixed /usr/include/x86_64-linux-gnu /usr/lib /lib/x86_64-linux-gnu /lib/../lib /usr/lib/x86_64-linux-gnu /usr/lib/../lib /lib
    libs=-lpthread -lnsl -lgdbm -ldl -lm -lcrypt -lutil -lc -lgdbm_compat
    perllibs=-lpthread -lnsl -ldl -lm -lcrypt -lutil -lc
    libc=libc-2.24.so
    so=so
    useshrplib=false
    libperl=libperl.a
    gnulibc_version='2.24'
  Dynamic Linking:
    dlsrc=dl_dlopen.xs
    dlext=so
    d_dlsymun=undef
    ccdlflags='-Wl,-E'
    cccdlflags='-fPIC'
    lddlflags='-shared -O2 -L/usr/local/lib -fstack-protector-strong'


Characteristics of this binary (from libperl): 
  Compile-time options:
    HAS_TIMES
    PERLIO_LAYERS
    PERL_COPY_ON_WRITE
    PERL_DONT_CREATE_GVSV
    PERL_MALLOC_WRAP
    PERL_OP_PARENT
    PERL_PRESERVE_IVUV
    PERL_USE_DEVEL
    USE_64_BIT_ALL
    USE_64_BIT_INT
    USE_LARGE_FILES
    USE_LOCALE
    USE_LOCALE_COLLATE
    USE_LOCALE_CTYPE
    USE_LOCALE_NUMERIC
    USE_LOCALE_TIME
    USE_PERLIO
    USE_PERL_ATOF
  Locally applied patches:
    Devel::PatchPerl 1.52
  Built under linux
  Compiled at Apr 22 2019 14:32:12
  %ENV:
    PERL_CPANM_OPT="--skip-installed --prompt"
  @INC:
    /opt/plenv/versions/5.29.10/lib/perl5/site_perl/5.29.10/x86_64-linux
    /opt/plenv/versions/5.29.10/lib/perl5/site_perl/5.29.10
    /opt/plenv/versions/5.29.10/lib/perl5/5.29.10/x86_64-linux
    /opt/plenv/versions/5.29.10/lib/perl5/5.29.10