Report for Rose-DB-Object-0.813

Back
From: metabase:user:838e5b0a-2bb6-1016-a696-43a2537fa0c6
Subject: PASS Rose-DB-Object-0.813 v5.18.1 
Date: 2014-11-08T01:45:33Z

This distribution has been tested as part of the CPAN Testers
project, supporting the Perl programming language.  See
http://wiki.cpantesters.org/ for more information or email
questions to cpan-testers-discuss@perl.org


--
Dear John Siracusa,

This is a computer-generated report for Rose-DB-Object-0.813
on perl 5.18.1, created by CPAN-Reporter-1.2011.

Thank you for uploading your work to CPAN.  Congratulations!
All tests were successful.

Sections of this report:

    * Tester comments
    * Program output
    * Prerequisites
    * Environment and other context

------------------------------
TESTER COMMENTS
------------------------------

Additional comments from tester:

this report is from an automated smoke testing program
and was not reviewed by a human for accuracy

------------------------------
PROGRAM OUTPUT
------------------------------

Output from 'C:\strawberry\c\bin\dmake.exe test':

C:\strawberry\perl\bin\perl.exe "-MExtUtils::Command::MM" "-MTest::Harness" "-e" "undef *Test::Harness::Switches; test_harness(0, 'blib\lib', 'blib\arch')" t/*.t

##
## DBI             1.628
## DBD::Pg         2.19.3
## DBD::mysql      4.023
## DBD::SQLite     1.40
## JSON            2.90
##
## WARNING: Almost all the tests in this module distribution need to connect
## to a database in order to run.  The tests need full privileges on this
## database: the ability to create and drop tables, insert, update, and delete
## rows, create schemas, sequences, functions, triggers, the works.
## 
## By default, the tests will try to connect to the database named "test"
## running on "localhost" using the default superuser username for each
## database type and an empty password.
## 
## If you have setup your database in a secure manner, these connection
## attempts will fail, and the tests will be skipped.  If you want to override
## these values, set the following environment variables before running tests.
## (The current values are shown in parentheses.)
## 
## PostgreSQL:
## 
##     RDBO_PG_DSN      (dbi:Pg:dbname=test;host=localhost)
##     RDBO_PG_USER     (postgres)
##     RDBO_PG_PASS     (<none>)
## 
## MySQL:
## 
##     RDBO_MYSQL_DSN   (dbi:mysql:database=test;host=localhost)
##     RDBO_MYSQL_USER  (root)
##     RDBO_MYSQL_PASS  (<none>)
##
## Oracle:
## 
##     RDBO_ORACLE_DSN  (dbi:Oracle:dbname=test)
##     RDBO_ORACLE_USER (<none>)
##     RDBO_ORACLE_PASS (<none>)
##
## Informix:
## 
##     RDBO_INFORMIX_DSN   (dbi:Informix:test@test)
##     RDBO_INFORMIX_USER  (<none>)
##     RDBO_INFORMIX_PASS  (<none>)
## 
## SQLite: To disable the SQLite tests, set this environment varible
##
##     RDBO_NO_SQLITE  (<undef>)
##
## Press return to continue (or wait 60 seconds)
t/00-warning.t ..................... ok
t/as-tree.t ........................ ok
t/auto-setup.t ..................... ok
t/bind-param.t ..................... ok
t/column-triggers.t ................ ok
t/column-values.t .................. ok
t/db-migration.t ................... ok
t/db-object-auto.t ................. ok
t/db-object-cached.t ............... ok
t/db-object-changes-only-1.t ....... ok
t/db-object-changes-only-2.t ....... ok
t/db-object-convention.t ........... ok
t/db-object-foreign-key-auto.t ..... ok
t/db-object-foreign-key.t .......... ok
t/db-object-helpers.t .............. ok
t/db-object-loader-2.t ............. ok
t/db-object-loader-3.t ............. ok
t/db-object-loader-4.t ............. ok
t/db-object-loader-5.t ............. ok
t/db-object-loader-6.t ............. ok
t/db-object-loader-7.t ............. ok
t/db-object-loader-8.t ............. ok
t/db-object-loader-9.t ............. ok
t/db-object-loader.t ............... ok
t/db-object-manager-bulk-ops.t ..... ok
t/db-object-manager.t .............. ok
t/db-object-mapper.t ............... ok
t/db-object-metadata.t ............. ok
t/db-object-relationship-auto-2.t .. ok
t/db-object-relationship-auto.t .... ok
t/db-object-relationship.t ......... ok
t/db-object-std-cached.t ........... ok
t/db-object-std.t .................. ok
t/db-object.t ...................... ok
t/deep-joins.t ..................... ok
t/inheritance.t .................... ok
t/lazy-columns.t ................... ok
t/leaks.t .......................... skipped: Test::Memory::Cycle required for leak tests
t/make-modules.t ................... ok
t/makemethods-db.t ................. ok
t/makemethods.t .................... ok
t/multi-many-the-hard-way.t ........ ok
t/multi-pk-sequences.t ............. ok
t/nested-joins.t ................... ok
t/one-to-many-reset.t .............. ok
t/pk-fk-columns.t .................. ok
t/pod.t ............................ skipped: Test::Pod 1.00 required for testing POD
t/query-builder.t .................. ok
t/rt-cpan-45836.t .................. ok
t/save-cascade.t ................... ok
t/schema-override.t ................ ok
t/spot-check-01.t .................. ok
t/spot-check-02.t .................. ok
t/spot-check-03.t .................. ok
t/spot-check-04.t .................. ok
t/spot-check-05.t .................. ok
t/spot-check-06.t .................. ok
t/spot-check-07.t .................. ok
t/spot-check-08.t .................. ok
t/spot-check-09.t .................. ok
t/spot-check-10.t .................. ok
t/spot-check-11.t .................. ok
t/spot-check-12.t .................. ok
t/spot-check-13.t .................. ok
t/spot-check-14.t .................. ok
t/undef-overrides-default.t ........ ok
t/unique-key-prefs.t ............... ok
All tests successful.
Files=67, Tests=15244, 268 wallclock secs ( 1.64 usr +  0.16 sys =  1.79 CPU)
Result: PASS

------------------------------
PREREQUISITES
------------------------------

Prerequisite modules loaded:

requires:

    Module               Need     Have    
    -------------------- -------- --------
    Bit::Vector          0        7.3     
    Clone                0.29     0.36    
    Cwd                  0        3.40    
    Data::Dumper         2.121    2.145   
    DateTime             0        1.03    
    DBI                  1.40     1.628   
    File::Path           0        2.09    
    File::Spec           0        3.40    
    List::MoreUtils      0        0.33    
    Math::BigInt         1.77     1.9991  
    perl                 5.006000 5.018001
    Rose::DateTime::Util 0.532    0.540   
    Rose::DB             0.763    0.775   
    Rose::Object         0.854    0.860   
    Scalar::Util         0        1.38    
    Test::More           0        0.98    
    Time::Clock          1.00     1.03    

build_requires:

    Module               Need     Have    
    -------------------- -------- --------
    ExtUtils::MakeMaker  0        6.86    

configure_requires:

    Module               Need     Have    
    -------------------- -------- --------
    ExtUtils::MakeMaker  0        6.86    


------------------------------
ENVIRONMENT AND OTHER CONTEXT
------------------------------

Environment variables:

    AUTOMATED_TESTING = 1
    COMSPEC = C:\Windows\system32\cmd.exe
    LD_LIBRARY_PATH = /usr/lib/x86:/usr/X11R6/lib
    NUMBER_OF_PROCESSORS = 4
    PATH = C:\Windows\system32;C:\Windows;C:\Windows\System32\Wbem;C:\Windows\System32\WindowsPowerShell\v1.0\;C:\RV\BIN;C:\Program Files (x86)\GnuWin32\bin;C:\Windows\System32\Windows System Resource Manager\bin;C:\Windows\SUA\common\;C:\Windows\SUA\usr\lib\;C:\strawberry\c\bin;C:\strawberry\perl\site\bin;C:\strawberry\perl\bin;C:\Program Files (x86)\Git\cmd
    PERL5LIB = C:\strawberry\cpan\build\Rose-DB-0.775-nVVdgA/blib/arch;C:\strawberry\cpan\build\Rose-DB-0.775-nVVdgA/blib/lib;C:\strawberry\cpan\build\DateTime-Format-Oracle-0.06-EDtE2j/blib/arch;C:\strawberry\cpan\build\DateTime-Format-Oracle-0.06-EDtE2j/blib/lib;C:\strawberry\cpan\build\Convert-NLS_DATE_FORMAT-0.05-XPORMe/blib/arch;C:\strawberry\cpan\build\Convert-NLS_DATE_FORMAT-0.05-XPORMe/blib/lib;C:\strawberry\cpan\build\DateTime-Format-Pg-0.16010-9R1PbX/blib/arch;C:\strawberry\cpan\build\DateTime-Format-Pg-0.16010-9R1PbX/blib/lib;C:\strawberry\cpan\build\SQL-ReservedWords-0.8-taxqZq/blib/arch;C:\strawberry\cpan\build\SQL-ReservedWords-0.8-taxqZq/blib/lib;C:\strawberry\cpan\build\DateTime-Format-MySQL-0.05-M4s1QY/blib/arch;C:\strawberry\cpan\build\DateTime-Format-MySQL-0.05-M4s1QY/blib/lib;C:\strawberry\cpan\build\DateTime-Format-Builder-0.81-ovewRt/blib/arch;C:\strawberry\cpan\build\DateTime-Format-Builder-0.81-ovewRt/blib/lib;C:\strawberry\cpan\build\Class-Factory-Util-1.7-quDDRT/blib/arch;C:\strawberry\cpan\build\Class-Factory-Util-1.7-quDDRT/blib/lib;C:\strawberry\cpan\build\DateTime-Format-Strptime-1.56-jLEPMS/blib/arch;C:\strawberry\cpan\build\DateTime-Format-Strptime-1.56-jLEPMS/blib/lib;C:\strawberry\cpan\build\Rose-DateTime-0.540-hcFo7g/blib/arch;C:\strawberry\cpan\build\Rose-DateTime-0.540-hcFo7g/blib/lib;C:\strawberry\cpan\build\Bit-Vector-7.3-aQrNn3/blib/arch;C:\strawberry\cpan\build\Bit-Vector-7.3-aQrNn3/blib/lib;C:\strawberry\cpan\build\Time-Clock-1.03-VNbn9I/blib/arch;C:\strawberry\cpan\build\Time-Clock-1.03-VNbn9I/blib/lib;C:\strawberry\cpan\build\Rose-Object-0.860-vapbQ3/blib/arch;C:\strawberry\cpan\build\Rose-Object-0.860-vapbQ3/blib/lib
    PERL5OPT = 
    PERL5_CPANPLUS_IS_RUNNING = 652
    PERL5_CPAN_IS_RUNNING = 652
    PERL5_CPAN_IS_RUNNING_IN_RECURSION = 4576,652
    PERL_CR_SMOKER_CURRENT = Rose-DB-Object-0.813
    PERL_EXTUTILS_AUTOINSTALL = --defaultdeps
    PERL_JSON_BACKEND = JSON::XS
    PERL_MM_USE_DEFAULT = 1
    PERL_YAML_BACKEND = YAML
    PROCESSOR_IDENTIFIER = Intel64 Family 6 Model 37 Stepping 1, GenuineIntel
    TEMP = C:\Users\SOLIMA~1\AppData\Local\Temp
    TERM = dumb

Perl special variables (and OS-specific diagnostics, for MSWin32):

    $^X = C:\strawberry\perl\bin\perl.exe
    $UID/$EUID = 0 / 0
    $GID = 0
    $EGID = 0
    Win32::GetOSName = Win2008
    Win32::GetOSVersion = Service Pack 1, 6, 1, 7601, 2, 1, 0, 272, 3
    Win32::FsType = NTFS
    Win32::IsAdminUser = 1

Perl module toolchain versions installed:

    Module              Have    
    ------------------- --------
    CPAN                2.05    
    CPAN::Meta          2.133380
    Cwd                 3.40    
    ExtUtils::CBuilder  0.280212
    ExtUtils::Command   1.18    
    ExtUtils::Install   1.59    
    ExtUtils::MakeMaker 6.86    
    ExtUtils::Manifest  1.63    
    ExtUtils::ParseXS   3.22    
    File::Spec          3.40    
    JSON                2.90    
    JSON::PP            2.27203 
    Module::Build       0.4204  
    Module::Signature   n/a     
    Parse::CPAN::Meta   1.4409  
    Test::Harness       3.30    
    Test::More          0.98    
    YAML                0.84    
    YAML::Syck          n/a     
    version             0.9904  


--

Summary of my perl5 (revision 5 version 18 subversion 1) configuration:
   
  Platform:
    osname=MSWin32, osvers=4.0, archname=MSWin32-x64-multi-thread
    uname='Win32 strawberry-perl 5.18.1.1 #1 Tue Aug 13 17:18:28 2013 x64'
    config_args='undef'
    hint=recommended, useposix=true, d_sigaction=undef
    useithreads=define, usemultiplicity=define
    useperlio=define, d_sfio=undef, uselargefiles=define, usesocks=undef
    use64bitint=define, use64bitall=undef, uselongdouble=undef
    usemymalloc=n, bincompat5005=undef
  Compiler:
    cc='gcc', ccflags =' -s -O2 -DWIN32 -DWIN64 -DCONSERVATIVE  -DPERL_TEXTMODE_SCRIPTS -DPERL_IMPLICIT_CONTEXT -DPERL_IMPLICIT_SYS -DUSE_PERLIO -fno-strict-aliasing -mms-bitfields',
    optimize='-s -O2',
    cppflags='-DWIN32'
    ccversion='', gccversion='4.7.3', gccosandvers=''
    intsize=4, longsize=4, ptrsize=8, doublesize=8, byteorder=12345678
    d_longlong=define, longlongsize=8, d_longdbl=define, longdblsize=12
    ivtype='long long', ivsize=8, nvtype='double', nvsize=8, Off_t='long long', lseeksize=8
    alignbytes=8, prototype=define
  Linker and Libraries:
    ld='g++', ldflags ='-s -L"C:\strawberry\perl\lib\CORE" -L"C:\strawberry\c\lib"'
    libpth=C:\strawberry\c\lib C:\strawberry\c\x86_64-w64-mingw32\lib
    libs=-lmoldname -lkernel32 -luser32 -lgdi32 -lwinspool -lcomdlg32 -ladvapi32 -lshell32 -lole32 -loleaut32 -lnetapi32 -luuid -lws2_32 -lmpr -lwinmm -lversion -lodbc32 -lodbccp32 -lcomctl32
    perllibs=-lmoldname -lkernel32 -luser32 -lgdi32 -lwinspool -lcomdlg32 -ladvapi32 -lshell32 -lole32 -loleaut32 -lnetapi32 -luuid -lws2_32 -lmpr -lwinmm -lversion -lodbc32 -lodbccp32 -lcomctl32
    libc=, so=dll, useshrplib=true, libperl=libperl518.a
    gnulibc_version=''
  Dynamic Linking:
    dlsrc=dl_win32.xs, dlext=dll, d_dlsymun=undef, ccdlflags=' '
    cccdlflags=' ', lddlflags='-mdll -s -L"C:\strawberry\perl\lib\CORE" -L"C:\strawberry\c\lib"'


Characteristics of this binary (from libperl): 
  Compile-time options: HAS_TIMES HAVE_INTERP_INTERN MULTIPLICITY
                        PERLIO_LAYERS PERL_DONT_CREATE_GVSV
                        PERL_HASH_FUNC_ONE_AT_A_TIME_HARD
                        PERL_IMPLICIT_CONTEXT PERL_IMPLICIT_SYS
                        PERL_MALLOC_WRAP PERL_PRESERVE_IVUV PERL_SAWAMPERSAND
                        USE_64_BIT_INT USE_ITHREADS USE_LARGE_FILES
                        USE_LOCALE USE_LOCALE_COLLATE USE_LOCALE_CTYPE
                        USE_LOCALE_NUMERIC USE_PERLIO USE_PERL_ATOF
  Built under MSWin32
  Compiled at Aug 13 2013 17:23:34
  %ENV:
    PERL5LIB="C:\strawberry\cpan\build\Rose-DB-0.775-nVVdgA/blib/arch;C:\strawberry\cpan\build\Rose-DB-0.775-nVVdgA/blib/lib;C:\strawberry\cpan\build\DateTime-Format-Oracle-0.06-EDtE2j/blib/arch;C:\strawberry\cpan\build\DateTime-Format-Oracle-0.06-EDtE2j/blib/lib;C:\strawberry\cpan\build\Convert-NLS_DATE_FORMAT-0.05-XPORMe/blib/arch;C:\strawberry\cpan\build\Convert-NLS_DATE_FORMAT-0.05-XPORMe/blib/lib;C:\strawberry\cpan\build\DateTime-Format-Pg-0.16010-9R1PbX/blib/arch;C:\strawberry\cpan\build\DateTime-Format-Pg-0.16010-9R1PbX/blib/lib;C:\strawberry\cpan\build\SQL-ReservedWords-0.8-taxqZq/blib/arch;C:\strawberry\cpan\build\SQL-ReservedWords-0.8-taxqZq/blib/lib;C:\strawberry\cpan\build\DateTime-Format-MySQL-0.05-M4s1QY/blib/arch;C:\strawberry\cpan\build\DateTime-Format-MySQL-0.05-M4s1QY/blib/lib;C:\strawberry\cpan\build\DateTime-Format-Builder-0.81-ovewRt/blib/arch;C:\strawberry\cpan\build\DateTime-Format-Builder-0.81-ovewRt/blib/lib;C:\strawberry\cpan\build\Class-Factory-Util-1.7-quDDRT/blib/arch;C:\strawberry\cpan\build\Class-Factory-Util-1.7-quDDRT/blib/lib;C:\strawberry\cpan\build\DateTime-Format-Strptime-1.56-jLEPMS/blib/arch;C:\strawberry\cpan\build\DateTime-Format-Strptime-1.56-jLEPMS/blib/lib;C:\strawberry\cpan\build\Rose-DateTime-0.540-hcFo7g/blib/arch;C:\strawberry\cpan\build\Rose-DateTime-0.540-hcFo7g/blib/lib;C:\strawberry\cpan\build\Bit-Vector-7.3-aQrNn3/blib/arch;C:\strawberry\cpan\build\Bit-Vector-7.3-aQrNn3/blib/lib;C:\strawberry\cpan\build\Time-Clock-1.03-VNbn9I/blib/arch;C:\strawberry\cpan\build\Time-Clock-1.03-VNbn9I/blib/lib;C:\strawberry\cpan\build\Rose-Object-0.860-vapbQ3/blib/arch;C:\strawberry\cpan\build\Rose-Object-0.860-vapbQ3/blib/lib"
    PERL5_CPANPLUS_IS_RUNNING="652"
    PERL5_CPAN_IS_RUNNING="652"
    PERL5_CPAN_IS_RUNNING_IN_RECURSION="4576,652"
    PERL_CR_SMOKER_CURRENT="Rose-DB-Object-0.813"
    PERL_EXTUTILS_AUTOINSTALL="--defaultdeps"
    PERL_JSON_BACKEND="JSON::XS"
    PERL_MM_USE_DEFAULT="1"
    PERL_YAML_BACKEND="YAML"
  @INC:
    C:\strawberry\cpan\build\Rose-DB-0.775-nVVdgA/blib/arch
    C:\strawberry\cpan\build\Rose-DB-0.775-nVVdgA/blib/lib
    C:\strawberry\cpan\build\DateTime-Format-Oracle-0.06-EDtE2j/blib/arch
    C:\strawberry\cpan\build\DateTime-Format-Oracle-0.06-EDtE2j/blib/lib
    C:\strawberry\cpan\build\Convert-NLS_DATE_FORMAT-0.05-XPORMe/blib/arch
    C:\strawberry\cpan\build\Convert-NLS_DATE_FORMAT-0.05-XPORMe/blib/lib
    C:\strawberry\cpan\build\DateTime-Format-Pg-0.16010-9R1PbX/blib/arch
    C:\strawberry\cpan\build\DateTime-Format-Pg-0.16010-9R1PbX/blib/lib
    C:\strawberry\cpan\build\SQL-ReservedWords-0.8-taxqZq/blib/arch
    C:\strawberry\cpan\build\SQL-ReservedWords-0.8-taxqZq/blib/lib
    C:\strawberry\cpan\build\DateTime-Format-MySQL-0.05-M4s1QY/blib/arch
    C:\strawberry\cpan\build\DateTime-Format-MySQL-0.05-M4s1QY/blib/lib
    C:\strawberry\cpan\build\DateTime-Format-Builder-0.81-ovewRt/blib/arch
    C:\strawberry\cpan\build\DateTime-Format-Builder-0.81-ovewRt/blib/lib
    C:\strawberry\cpan\build\Class-Factory-Util-1.7-quDDRT/blib/arch
    C:\strawberry\cpan\build\Class-Factory-Util-1.7-quDDRT/blib/lib
    C:\strawberry\cpan\build\DateTime-Format-Strptime-1.56-jLEPMS/blib/arch
    C:\strawberry\cpan\build\DateTime-Format-Strptime-1.56-jLEPMS/blib/lib
    C:\strawberry\cpan\build\Rose-DateTime-0.540-hcFo7g/blib/arch
    C:\strawberry\cpan\build\Rose-DateTime-0.540-hcFo7g/blib/lib
    C:\strawberry\cpan\build\Bit-Vector-7.3-aQrNn3/blib/arch
    C:\strawberry\cpan\build\Bit-Vector-7.3-aQrNn3/blib/lib
    C:\strawberry\cpan\build\Time-Clock-1.03-VNbn9I/blib/arch
    C:\strawberry\cpan\build\Time-Clock-1.03-VNbn9I/blib/lib
    C:\strawberry\cpan\build\Rose-Object-0.860-vapbQ3/blib/arch
    C:\strawberry\cpan\build\Rose-Object-0.860-vapbQ3/blib/lib
    C:/strawberry/perl/site/lib
    C:/strawberry/perl/vendor/lib
    C:/strawberry/perl/lib
    .