Params-Util v1.102 Perl 5 v5.41.9 x86_64-linux
- Status
- Pass
- From
- John SJ Anderson
- Dist
-
Params-Util v1.102
- Platform
- Perl 5 v5.41.9 x86_64-linux
- Date
- 2025-02-24 18:50:02
- ID
- 27f91c1c-f2e0-11ef-81b7-9e462fe6695c
This distribution has been tested as part of the CPAN Testers
project, supporting the Perl programming language. See
http://wiki.cpantesters.org/ for more information or email
questions to cpan-testers-discuss@perl.org
--
Dear REHSACK,
This is a computer-generated report for Params-Util-1.102
on perl 5.41.9, created by App::cpanminus::reporter 0.22 (1.7048).
Thank you for uploading your work to CPAN. Congratulations!
All tests were successful.
Sections of this report:
* Tester comments
* Program output
* Prerequisites
* Environment and other context
------------------------------
TESTER COMMENTS
------------------------------
Additional comments from tester:
none provided
------------------------------
PROGRAM OUTPUT
------------------------------
Output from '':
Building and testing Params-Util-1.102
cp lib/Params/Util/PP.pm blib/lib/Params/Util/PP.pm
cp lib/Params/Util.pm blib/lib/Params/Util.pm
Running Mkbootstrap for Util ()
chmod 644 "Util.bs"
"/opt/plenv/versions/5.41.9/bin/perl5.41.9" -MExtUtils::Command::MM -e 'cp_nonempty' -- Util.bs blib/arch/auto/Params/Util/Util.bs 644
"/opt/plenv/versions/5.41.9/bin/perl5.41.9" "/opt/plenv/versions/5.41.9/lib/perl5/5.41.9/ExtUtils/xsubpp" -typemap '/opt/plenv/versions/5.41.9/lib/perl5/5.41.9/ExtUtils/typemap' Util.xs > Util.xsc
mv Util.xsc Util.c
cc -c -fwrapv -fno-strict-aliasing -pipe -fstack-protector-strong -I/usr/local/include -D_LARGEFILE_SOURCE -D_FILE_OFFSET_BITS=64 -D_FORTIFY_SOURCE=2 -O2 -DVERSION=\"1.102\" -DXS_VERSION=\"1.102\" -fPIC "-I/opt/plenv/versions/5.41.9/lib/perl5/5.41.9/x86_64-linux/CORE" Util.c
rm -f blib/arch/auto/Params/Util/Util.so
cc -shared -O2 -L/usr/local/lib -fstack-protector-strong Util.o -o blib/arch/auto/Params/Util/Util.so \
\
chmod 755 blib/arch/auto/Params/Util/Util.so
Manifying 2 pod documents
"/opt/plenv/versions/5.41.9/bin/perl5.41.9" -MExtUtils::Command::MM -e 'cp_nonempty' -- Util.bs blib/arch/auto/Params/Util/Util.bs 644
PERL_DL_NONLAZY=1 "/opt/plenv/versions/5.41.9/bin/perl5.41.9" "-MExtUtils::Command::MM" "-MTest::Harness" "-e" "undef *Test::Harness::Switches; test_harness(0, 'blib/lib', 'blib/arch')" t/pp/*.t t/xs/*.t xt/*.t
t/pp/01_compile.t .... ok
t/pp/02_main.t ....... ok
t/pp/03_all.t ........ ok
t/pp/04_codelike.t ... ok
t/pp/05_typelike.t ... ok
t/pp/06_invocant.t ... ok
t/pp/07_handle.t ..... ok
t/pp/08_driver.t ..... ok
t/pp/09_insideout.t .. ok
t/xs/01_compile.t .... ok
t/xs/02_main.t ....... ok
t/xs/03_all.t ........ ok
t/xs/04_codelike.t ... ok
t/xs/05_typelike.t ... ok
t/xs/06_invocant.t ... ok
t/xs/07_handle.t ..... ok
t/xs/08_driver.t ..... ok
t/xs/09_insideout.t .. ok
All tests successful.
Files=18, Tests=1864, 1 wallclock secs ( 0.15 usr 0.02 sys + 0.88 cusr 0.12 csys = 1.17 CPU)
Result: PASS
------------------------------
PREREQUISITES
------------------------------
Prerequisite modules loaded:
runtime:
Module Need Have
------------------- ---- -------
Scalar::Util 1.18 1.68_01
XSLoader 0.22 0.32
build:
Module Need Have
------------------- ---- -------
ExtUtils::MakeMaker 0 7.70
configure:
Module Need Have
------------------- ---- -------
Carp 0 1.54
ExtUtils::MakeMaker 0 7.70
File::Basename 0 2.86
File::Copy 0 2.41
File::Path 0 2.18
File::Spec 0 3.93
IPC::Cmd 0 1.04
parent 0 0.244
------------------------------
ENVIRONMENT AND OTHER CONTEXT
------------------------------
Environment variables:
LANG = en_US.UTF-8
LC_ALL = en_US.UTF-8
LC_TERMINAL = iTerm2
LC_TERMINAL_VERSION = 3.5.10
PATH = /opt/plenv/versions/5.41.9/bin:/opt/plenv/libexec:/opt/plenv/plugins/perl-build/bin:/home/genehack/bin:/opt/miniconda3/condabin:/opt/plenv/shims:/opt/plenv/bin:/opt/go/bin:/opt/git/bin:/opt/emacs/bin:/opt/local/bin:/usr/local/bin:/usr/bin:/bin:/usr/games:/opt/rust/cargo/bin
PERL_CPANM_OPT = --skip-installed --prompt
SHELL = /bin/zsh
TERM = screen-256color
Perl special variables (and OS-specific diagnostics, for MSWin32):
EGID = 1001 113 122 1001
EUID = 1001
EXECUTABLE_NAME = /opt/plenv/versions/5.41.9/bin/perl5.41.9
GID = 1001 113 122 1001
UID = 1001
Perl module toolchain versions installed:
Module Have
------------------- --------
CPAN 2.38
CPAN::Meta 2.150010
Cwd 3.92
ExtUtils::CBuilder 0.280240
ExtUtils::Command 7.70
ExtUtils::Install 2.22
ExtUtils::MakeMaker 7.70
ExtUtils::Manifest 1.75
ExtUtils::ParseXS 3.57
File::Spec 3.93
JSON n/a
JSON::PP 4.16
Module::Build n/a
Module::Signature n/a
Parse::CPAN::Meta 2.150010
Test::Harness 3.50
Test::More 1.302209
YAML n/a
YAML::Syck n/a
version 0.9933
--
Summary of my perl5 (revision 5 version 41 subversion 9) configuration:
Platform:
osname=linux
osvers=5.10.0-20-amd64
archname=x86_64-linux
uname='linux doof 5.10.0-20-amd64 #1 smp debian 5.10.158-2 (2022-12-13) x86_64 gnulinux '
config_args='-Dprefix=/opt/plenv/versions/5.41.9 -de -Dversiononly -Dusedevel -A'eval:scriptdir=/opt/plenv/versions/5.41.9/bin''
hint=recommended
useposix=true
d_sigaction=define
useithreads=undef
usemultiplicity=undef
use64bitint=define
use64bitall=define
uselongdouble=undef
usemymalloc=n
default_inc_excludes_dot=define
Compiler:
cc='cc'
ccflags ='-fwrapv -fno-strict-aliasing -pipe -fstack-protector-strong -I/usr/local/include -D_LARGEFILE_SOURCE -D_FILE_OFFSET_BITS=64 -D_FORTIFY_SOURCE=2'
optimize='-O2'
cppflags='-fwrapv -fno-strict-aliasing -pipe -fstack-protector-strong -I/usr/local/include'
ccversion=''
gccversion='12.2.0'
gccosandvers=''
intsize=4
longsize=8
ptrsize=8
doublesize=8
byteorder=12345678
doublekind=3
d_longlong=define
longlongsize=8
d_longdbl=define
longdblsize=16
longdblkind=3
ivtype='long'
ivsize=8
nvtype='double'
nvsize=8
Off_t='off_t'
lseeksize=8
alignbytes=8
prototype=define
Linker and Libraries:
ld='cc'
ldflags =' -fstack-protector-strong -L/usr/local/lib'
libpth=/usr/local/lib /usr/lib/x86_64-linux-gnu /usr/lib /usr/lib64
libs=-lpthread -lgdbm -ldl -lm -lcrypt -lutil -lc
perllibs=-lpthread -ldl -lm -lcrypt -lutil -lc
libc=/lib/x86_64-linux-gnu/libc.so.6
so=so
useshrplib=false
libperl=libperl.a
gnulibc_version='2.36'
Dynamic Linking:
dlsrc=dl_dlopen.xs
dlext=so
d_dlsymun=undef
ccdlflags='-Wl,-E'
cccdlflags='-fPIC'
lddlflags='-shared -O2 -L/usr/local/lib -fstack-protector-strong'
Characteristics of this binary (from libperl):
Compile-time options:
HAS_LONG_DOUBLE
HAS_STRTOLD
HAS_TIMES
PERLIO_LAYERS
PERL_COPY_ON_WRITE
PERL_DONT_CREATE_GVSV
PERL_HASH_FUNC_SIPHASH13
PERL_HASH_USE_SBOX32
PERL_MALLOC_WRAP
PERL_OP_PARENT
PERL_PRESERVE_IVUV
PERL_USE_DEVEL
PERL_USE_SAFE_PUTENV
USE_64_BIT_ALL
USE_64_BIT_INT
USE_LARGE_FILES
USE_LOCALE
USE_LOCALE_COLLATE
USE_LOCALE_CTYPE
USE_LOCALE_NUMERIC
USE_LOCALE_TIME
USE_PERLIO
USE_PERL_ATOF
Built under linux
Compiled at Feb 24 2025 10:41:35
%ENV:
PERL_CPANM_OPT="--skip-installed --prompt"
@INC:
/opt/plenv/versions/5.41.9/lib/perl5/site_perl/5.41.9/x86_64-linux
/opt/plenv/versions/5.41.9/lib/perl5/site_perl/5.41.9
/opt/plenv/versions/5.41.9/lib/perl5/5.41.9/x86_64-linux
/opt/plenv/versions/5.41.9/lib/perl5/5.41.9