Dist-Zilla-Plugin-Git v2.042 Perl 5 v5.26.0 amd64-freebsd

Status
Pass
From
Slaven Rezić (SREZIC)
Dist
Dist-Zilla-Plugin-Git v2.042
Platform
Perl 5 v5.26.0 amd64-freebsd
Date
2017-09-02 10:40:36
ID
27f51f52-8fcb-11e7-b3dd-b253afb76fca
This distribution has been tested as part of the CPAN Testers
project, supporting the Perl programming language.  See
http://wiki.cpantesters.org/ for more information or email
questions to cpan-testers-discuss@perl.org


--
Dear Karen Etheridge,

This is a computer-generated report for Dist-Zilla-Plugin-Git-2.042
on perl 5.26.0, created by CPAN-Reporter-1.2018.

Thank you for uploading your work to CPAN.  Congratulations!
All tests were successful.

Sections of this report:

    * Tester comments
    * Program output
    * Prerequisites
    * Environment and other context

------------------------------
TESTER COMMENTS
------------------------------

Additional comments from tester:

none provided

------------------------------
PROGRAM OUTPUT
------------------------------

Output from '/usr/bin/make test':

PERL_DL_NONLAZY=1 "/usr/perl5.26.0p/bin/perl" "-MExtUtils::Command::MM" "-MTest::Harness" "-e" "undef *Test::Harness::Switches; test_harness(0, 'blib/lib', 'blib/arch')" t/*.t
# 
# Versions for all modules listed in MYMETA.json (including optional ones):
# 
# === Configure Requires ===
# 
#     Module              Want   Have
#     ------------------- ---- ------
#     ExtUtils::MakeMaker  any   7.24
#     Text::ParseWords     any   3.30
#     version              any 0.9917
# 
# === Build Requires ===
# 
#     Module              Want Have
#     ------------------- ---- ----
#     ExtUtils::MakeMaker  any 7.24
# 
# === Test Requires ===
# 
#     Module                            Want     Have
#     -------------------------------- ----- --------
#     CPAN::Meta::Check                0.011    0.014
#     CPAN::Meta::Requirements           any    2.140
#     Devel::SimpleTrace                 any     0.08
#     Dist::Zilla::File::InMemory        any    6.010
#     Dist::Zilla::Plugin::Config::Git   any     0.92
#     Dist::Zilla::Role::Releaser        any    6.010
#     Dist::Zilla::Tester                any    6.010
#     Encode                             any     2.92
#     Exporter                           any     5.72
#     ExtUtils::MakeMaker                any     7.24
#     File::Copy                         any     2.32
#     File::Copy::Recursive              any     0.38
#     File::Path                        2.07  2.12_01
#     File::Spec                         any     3.67
#     File::Which                        any     1.21
#     File::pushd                        any    1.014
#     Log::Dispatchouli                  any    2.015
#     Test::DZil                         any    6.010
#     Test::Fatal                        any    0.014
#     Test::More                        0.88 1.302086
#     lib                                any     0.64
#     utf8                               any     1.19
# 
# === Test Recommends ===
# 
#     Module         Want     Have
#     ---------- -------- --------
#     CPAN::Meta 2.120900 2.150010
# 
# === Runtime Requires ===
# 
#     Module                                 Want     Have
#     ---------------------------------- -------- --------
#     Cwd                                     any     3.67
#     DateTime                                any     1.44
#     Dist::Zilla                               4    6.010
#     Dist::Zilla::Plugin::GatherDir     4.200016    6.010
#     Dist::Zilla::Role::AfterBuild           any    6.010
#     Dist::Zilla::Role::AfterMint            any    6.010
#     Dist::Zilla::Role::AfterRelease         any    6.010
#     Dist::Zilla::Role::BeforeRelease        any    6.010
#     Dist::Zilla::Role::FilePruner           any    6.010
#     Dist::Zilla::Role::GitConfig            any     0.92
#     Dist::Zilla::Role::PluginBundle         any    6.010
#     Dist::Zilla::Role::VersionProvider      any    6.010
#     File::HomeDir                          0.81    1.002
#     File::Spec::Functions                   any     3.67
#     File::Temp                              any   0.2304
#     File::chdir                             any   0.1010
#     Git::Wrapper                          0.021    0.047
#     IPC::Open3                              any     1.20
#     IPC::System::Simple                     any     1.25
#     List::Util                             1.45     1.48
#     Module::Runtime                         any    0.015
#     Moose                                   any   2.2006
#     Moose::Role                             any   2.2006
#     Moose::Util::TypeConstraints            any   2.2006
#     MooseX::Has::Sugar                      any 1.000006
#     MooseX::Types::Moose                    any     0.50
#     MooseX::Types::Path::Tiny             0.010    0.012
#     Path::Tiny                            0.048    0.104
#     String::Formatter                       any 0.102084
#     Try::Tiny                               any     0.28
#     Version::Next                           any    1.000
#     constant                                any     1.33
#     namespace::autoclean                   0.09     0.28
#     strict                                  any     1.11
#     version                                0.80   0.9917
#     warnings                                any     1.37
# 
# === Other Modules ===
# 
#     Module              Have
#     ------------- ----------
#     JSON::PP      2.27400_02
#     Pod::Coverage       0.23
#     Sub::Name           0.21
#     YAML                1.23
#     autodie             2.29
# 
t/00-report-prereqs.t ........... ok
# git version 2.14.1
t/000-report-git-version.t ...... ok
t/check.t ....................... ok
t/commit-build-custom.t ......... ok
t/commit-build-src-as-parent.t .. ok
t/commit-build.t ................ ok
t/commit-dirtydir.t ............. ok
t/commit-message.t .............. ok
t/commit-utf8.t ................. ok
t/commit-ws.t ................... ok
t/commit.t ...................... ok
t/gatherdir-multi.t ............. ok
t/gatherdir.t ................... ok
t/push-gitconfig.t .............. ok
t/push-multi.t .................. ok
t/push.t ........................ ok
t/repo-dir.t .................... ok
t/tag-signed.t .................. skipped: gpg couldn't be located in $PATH; required for GPG-signed tags
t/tag.t ......................... ok
t/version-by-branch.t ........... ok
t/version-default.t ............. ok
t/version-extraction.t .......... ok
t/version-regexp.t .............. ok
t/zzz-check-breaks.t ............ ok
All tests successful.
Files=24, Tests=198, 25 wallclock secs ( 0.09 usr  0.03 sys + 18.65 cusr  5.58 csys = 24.34 CPU)
Result: PASS

------------------------------
PREREQUISITES
------------------------------

Prerequisite modules loaded:

requires:

    Module                             Need     Have    
    ---------------------------------- -------- --------
    constant                           0        1.33    
    Cwd                                0        3.67    
    DateTime                           0        1.44    
    Dist::Zilla                        4        6.010   
    Dist::Zilla::Plugin::GatherDir     4.200016 6.010   
    Dist::Zilla::Role::AfterBuild      0        6.010   
    Dist::Zilla::Role::AfterMint       0        6.010   
    Dist::Zilla::Role::AfterRelease    0        6.010   
    Dist::Zilla::Role::BeforeRelease   0        6.010   
    Dist::Zilla::Role::FilePruner      0        6.010   
    Dist::Zilla::Role::GitConfig       0        0.92    
    Dist::Zilla::Role::PluginBundle    0        6.010   
    Dist::Zilla::Role::VersionProvider 0        6.010   
    File::chdir                        0        0.1010  
    File::HomeDir                      0.81     1.002   
    File::Spec::Functions              0        3.67    
    File::Temp                         0        0.2304  
    Git::Wrapper                       0.021    0.047   
    IPC::Open3                         0        1.20    
    IPC::System::Simple                0        1.25    
    List::Util                         1.45     1.48    
    Module::Runtime                    0        0.015   
    Moose                              0        2.2006  
    Moose::Role                        0        2.2006  
    Moose::Util::TypeConstraints       0        2.2006  
    MooseX::Has::Sugar                 0        1.000006
    MooseX::Types::Moose               0        0.50    
    MooseX::Types::Path::Tiny          0.010    0.012   
    namespace::autoclean               0.09     0.28    
    Path::Tiny                         0.048    0.104   
    perl                               5.010    5.026000
    strict                             0        1.11    
    String::Formatter                  0        0.102084
    Try::Tiny                          0        0.28    
    version                            0.80     0.9917  
    Version::Next                      0        1.000   
    warnings                           0        1.37    

build_requires:

    Module                             Need     Have    
    ---------------------------------- -------- --------
    CPAN::Meta::Check                  0.011    0.014   
    CPAN::Meta::Requirements           0        2.140   
    Devel::SimpleTrace                 0        0.08    
    Dist::Zilla::File::InMemory        0        6.010   
    Dist::Zilla::Plugin::Config::Git   0        0.92    
    Dist::Zilla::Role::Releaser        0        6.010   
    Dist::Zilla::Tester                0        6.010   
    Encode                             0        2.92    
    Exporter                           0        5.72    
    ExtUtils::MakeMaker                0        7.24    
    File::Copy                         0        2.32    
    File::Copy::Recursive              0        0.38    
    File::Path                         2.07     2.12_01 
    File::pushd                        0        1.014   
    File::Spec                         0        3.67    
    File::Which                        0        1.21    
    lib                                0        0.64    
    Log::Dispatchouli                  0        2.015   
    Test::DZil                         0        6.010   
    Test::Fatal                        0        0.014   
    Test::More                         0.88     1.302086
    utf8                               0        1.19    

configure_requires:

    Module                             Need     Have    
    ---------------------------------- -------- --------
    ExtUtils::MakeMaker                0        7.24    
    perl                               5.010    5.026000
    Text::ParseWords                   0        3.30    
    version                            0        0.9917  

opt_build_requires:

    Module                             Need     Have    
    ---------------------------------- -------- --------
    CPAN::Meta                         2.120900 2.150010


------------------------------
ENVIRONMENT AND OTHER CONTEXT
------------------------------

Environment variables:

    PATH = /usr/local/bin:/usr/bin:/bin:/usr/local/sbin:/usr/sbin:/sbin:/home/cpansand/bin/freebsd11.0:/home/cpansand/bin/sh:/home/cpansand/bin:/usr/games:/home/cpansand/devel:/home/eserte/src/srezic-misc/scripts
    PERL5LIB = 
    PERL5OPT = 
    PERL5_CPANPLUS_IS_RUNNING = 55658
    PERL5_CPAN_IS_RUNNING = 55658
    PERL5_CPAN_IS_RUNNING_IN_RECURSION = 42333,55658
    PERLDOC = -MPod::Perldoc::ToTextOverstrike
    PERL_BATCH = yes
    PERL_CANARY_STABILITY_NOPROMPT = 1
    PERL_CPAN_REPORTER_CONFIG = /var/tmp/cpansmoker-1023/2017090206/cpanreporter_005_config.ini
    PERL_EXTUTILS_AUTOINSTALL = --defaultdeps
    PERL_USE_UNSAFE_INC = 1
    SHELL = /usr/local/bin/zsh
    TERM = screen
    TMPDIR = /var/tmp/cpansmoker-1023/2017090206

Perl special variables (and OS-specific diagnostics, for MSWin32):

    $^X = /usr/perl5.26.0p/bin/perl
    $UID/$EUID = 1023 / 1023
    $GID = 1023 1023
    $EGID = 1023 1023

Perl module toolchain versions installed:

    Module              Have      
    ------------------- ----------
    CPAN                2.18      
    CPAN::Meta          2.150010  
    Cwd                 3.67      
    ExtUtils::CBuilder  0.280225  
    ExtUtils::Command   7.24      
    ExtUtils::Install   2.04      
    ExtUtils::MakeMaker 7.24      
    ExtUtils::Manifest  1.70      
    ExtUtils::ParseXS   3.34      
    File::Spec          3.67      
    JSON                2.94      
    JSON::PP            2.27400_02
    Module::Build       0.4224    
    Module::Signature   0.81      
    Parse::CPAN::Meta   2.150010  
    Test::Harness       3.38      
    Test::More          1.302086  
    YAML                1.23      
    YAML::Syck          1.30      
    version             0.9917    


--

Summary of my perl5 (revision 5 version 26 subversion 0) configuration:
   
  Platform:
    osname=freebsd
    osvers=11.1-prerelease
    archname=amd64-freebsd
    uname='freebsd ali3.bbbike.org 11.1-prerelease freebsd 11.1-prerelease #0 r313908+426f153a020(stable11): fri sep 1 20:49:08 cst 2017 root@ali3.bbbike.org:usrobjhomeprojectsfreebsdsysgeneric amd64 '
    config_args='-ds -e -Dprefix=/usr/perl5.26.0p -Dcf_email=srezic@cpan.org -Doptimize=-O2 -pipe'
    hint=recommended
    useposix=true
    d_sigaction=define
    useithreads=undef
    usemultiplicity=undef
    use64bitint=define
    use64bitall=define
    uselongdouble=undef
    usemymalloc=n
    default_inc_excludes_dot=define
    bincompat5005=undef
  Compiler:
    cc='cc'
    ccflags ='-DHAS_FPSETMASK -DHAS_FLOATINGPOINT_H -fno-strict-aliasing -pipe -fstack-protector-strong -I/usr/local/include -D_FORTIFY_SOURCE=2'
    optimize='-O2 -pipe'
    cppflags='-DHAS_FPSETMASK -DHAS_FLOATINGPOINT_H -fno-strict-aliasing -pipe -fstack-protector-strong -I/usr/local/include'
    ccversion=''
    gccversion='4.2.1 Compatible FreeBSD Clang 4.0.0 (tags/RELEASE_400/final 297347)'
    gccosandvers=''
    intsize=4
    longsize=8
    ptrsize=8
    doublesize=8
    byteorder=12345678
    doublekind=3
    d_longlong=define
    longlongsize=8
    d_longdbl=define
    longdblsize=16
    longdblkind=3
    ivtype='long'
    ivsize=8
    nvtype='double'
    nvsize=8
    Off_t='off_t'
    lseeksize=8
    alignbytes=8
    prototype=define
  Linker and Libraries:
    ld='cc'
    ldflags ='-pthread -Wl,-E  -fstack-protector-strong -L/usr/local/lib'
    libpth=/usr/lib /usr/local/lib /usr/bin/../lib/clang/4.0.0/lib /usr/lib
    libs=-lpthread -lgdbm -lm -lcrypt -lutil -lc
    perllibs=-lpthread -lm -lcrypt -lutil -lc
    libc=
    so=so
    useshrplib=false
    libperl=libperl.a
    gnulibc_version=''
  Dynamic Linking:
    dlsrc=dl_dlopen.xs
    dlext=so
    d_dlsymun=undef
    ccdlflags=' '
    cccdlflags='-DPIC -fPIC'
    lddlflags='-shared  -L/usr/local/lib -fstack-protector-strong'


Characteristics of this binary (from libperl): 
  Compile-time options:
    HAS_TIMES
    PERLIO_LAYERS
    PERL_COPY_ON_WRITE
    PERL_DONT_CREATE_GVSV
    PERL_MALLOC_WRAP
    PERL_OP_PARENT
    PERL_PRESERVE_IVUV
    USE_64_BIT_ALL
    USE_64_BIT_INT
    USE_LARGE_FILES
    USE_LOCALE
    USE_LOCALE_COLLATE
    USE_LOCALE_CTYPE
    USE_LOCALE_NUMERIC
    USE_LOCALE_TIME
    USE_PERLIO
    USE_PERL_ATOF
  Built under freebsd
  Compiled at Sep  1 2017 22:07:18
  %ENV:
    PERL5LIB=""
    PERL5OPT=""
    PERL5_CPANPLUS_IS_RUNNING="55658"
    PERL5_CPAN_IS_RUNNING="55658"
    PERL5_CPAN_IS_RUNNING_IN_RECURSION="42333,55658"
    PERLDOC="-MPod::Perldoc::ToTextOverstrike"
    PERL_BATCH="yes"
    PERL_CANARY_STABILITY_NOPROMPT="1"
    PERL_CPAN_REPORTER_CONFIG="/var/tmp/cpansmoker-1023/2017090206/cpanreporter_005_config.ini"
    PERL_EXTUTILS_AUTOINSTALL="--defaultdeps"
    PERL_USE_UNSAFE_INC="1"
  @INC:
    /usr/perl5.26.0p/lib/site_perl/5.26.0/amd64-freebsd
    /usr/perl5.26.0p/lib/site_perl/5.26.0
    /usr/perl5.26.0p/lib/5.26.0/amd64-freebsd
    /usr/perl5.26.0p/lib/5.26.0
    .