Report for Algorithm-AM-3.10

Back
From: metabase:user:a0e144f2-373b-11e6-8edd-c6848980b093
Subject: PASS Algorithm-AM-3.10 v5.25.0 GNU/Linux
Date: 2016-06-28T11:19:15Z

This distribution has been tested as part of the CPAN Testers
project, supporting the Perl programming language.  See
http://wiki.cpantesters.org/ for more information or email
questions to cpan-testers-discuss@perl.org


--
Dear Nathan Gary Glenn,

This is a computer-generated report for Algorithm-AM-3.10
on perl 5.25.0, created by CPAN-Reporter-1.2017.

Thank you for uploading your work to CPAN.  Congratulations!
All tests were successful.

Sections of this report:

    * Tester comments
    * Program output
    * Prerequisites
    * Environment and other context

------------------------------
TESTER COMMENTS
------------------------------

Additional comments from tester:

none provided

------------------------------
PROGRAM OUTPUT
------------------------------

Output from '/usr/bin/make test':

"/usr/bin/perl5.25.0" -MExtUtils::Command::MM -e 'cp_nonempty' -- AM.bs blib/arch/auto/Algorithm/AM/AM.bs 644
PERL_DL_NONLAZY=1 "/usr/bin/perl5.25.0" "-MExtUtils::Command::MM" "-MTest::Harness" "-e" "undef *Test::Harness::Switches; test_harness(0, 'blib/lib', 'blib/arch')" t/*.t
t/0-use_AM.t ........... ok
t/0-use_Batch.t ........ ok
# 
# Versions for all modules listed in MYMETA.json (including optional ones):
# 
# === Configure Requires ===
# 
#     Module              Want    Have
#     ------------------- ---- -------
#     ExtUtils::MakeMaker 6.17 7.19_02
# 
# === Build Requires ===
# 
#     Module              Want    Have
#     ------------------- ---- -------
#     ExtUtils::MakeMaker  any 7.19_02
# 
# === Test Requires ===
# 
#     Module              Want     Have
#     ------------------- ---- --------
#     ExtUtils::MakeMaker  any  7.19_02
#     File::Spec           any     3.63
#     FindBin              any     1.51
#     Test::Deep           any    1.120
#     Test::Exception      any     0.43
#     Test::LongString     any     0.17
#     Test::More          0.88 1.302030
#     Test::NoWarnings     any     1.04
# 
# === Test Recommends ===
# 
#     Module         Want     Have
#     ---------- -------- --------
#     CPAN::Meta 2.120900 2.150005
# 
# === Runtime Requires ===
# 
#     Module         Want     Have
#     -------------- ---- --------
#     Carp            any     1.40
#     Class::Tiny     any    1.004
#     Exporter::Easy  any     0.18
#     Getopt::Long   2.13     2.49
#     Import::Into    any 1.002005
#     Log::Any        any    1.040
#     Path::Tiny      any    0.094
#     Pod::Usage      any     1.68
#     Text::Table     any    1.130
#     XSLoader        any     0.21
#     feature         any     1.43
#     integer         any     1.01
#     strict          any     1.11
#     warnings        any     1.36
# 
t/00-report-prereqs.t .. ok
t/01-Item.t ............ ok
t/02-DataSet.t ......... ok
t/03-AM.t .............. ok
t/04-Result.t .......... ok
t/05-Bigint.t .......... ok
t/06-Batch.t ........... ok
t/07-Batch_hooks.t ..... ok
t/08-finnverb.t ........ ok
t/09-soybean.t ......... ok
All tests successful.
Files=12, Tests=143,  3 wallclock secs ( 0.05 usr  0.04 sys +  1.37 cusr  0.45 csys =  1.91 CPU)
Result: PASS

------------------------------
PREREQUISITES
------------------------------

Prerequisite modules loaded:

requires:

    Module              Need     Have    
    ------------------- -------- --------
    Carp                0        1.40    
    Class::Tiny         0        1.004   
    Exporter::Easy      0        0.18    
    feature             0        1.43    
    Getopt::Long        2.13     2.49    
    Import::Into        0        1.002005
    integer             0        1.01    
    Log::Any            0        1.040   
    Path::Tiny          0        0.094   
    perl                5.010000 5.025000
    Pod::Usage          0        1.68    
    strict              0        1.11    
    Text::Table         0        1.130   
    warnings            0        1.36    
    XSLoader            0        0.21    

build_requires:

    Module              Need     Have    
    ------------------- -------- --------
    ExtUtils::MakeMaker 0        7.19_02 
    File::Spec          0        3.63    
    FindBin             0        1.51    
    Test::Deep          0        1.120   
    Test::Exception     0        0.43    
    Test::LongString    0        0.17    
    Test::More          0.88     1.302030
    Test::NoWarnings    0        1.04    

configure_requires:

    Module              Need     Have    
    ------------------- -------- --------
    ExtUtils::MakeMaker 6.17     7.19_02 
    perl                5.010    5.025000

opt_build_requires:

    Module              Need     Have    
    ------------------- -------- --------
    CPAN::Meta          2.120900 2.150005


------------------------------
ENVIRONMENT AND OTHER CONTEXT
------------------------------

Environment variables:

    LANG = en_US.UTF-8
    PATH = /usr/local/bin:/usr/bin:/bin:/usr/local/games:/usr/games
    PERL5LIB = /home/dcollins/toolchain/.afl1/.cpan/build/Math-BigInt-1.999723-5kbbOW/blib/arch:/home/dcollins/toolchain/.afl1/.cpan/build/Math-BigInt-1.999723-5kbbOW/blib/lib:/home/dcollins/toolchain/.afl1/.cpan/build/Math-BigInt-1.999724-pEUmP3/blib/arch:/home/dcollins/toolchain/.afl1/.cpan/build/Math-BigInt-1.999724-pEUmP3/blib/lib:/home/dcollins/toolchain/.afl1/.cpan/build/Text-BibTeX-0.73-ve2iPi/blib/arch:/home/dcollins/toolchain/.afl1/.cpan/build/Text-BibTeX-0.73-ve2iPi/blib/lib:/home/dcollins/toolchain/.afl1/.cpan/build/Text-BibTeX-0.74-d4J5xh/blib/arch:/home/dcollins/toolchain/.afl1/.cpan/build/Text-BibTeX-0.74-d4J5xh/blib/lib:/home/dcollins/toolchain/.afl1/.cpan/build/Digest-MD4-1.9-JxXxF6/blib/arch:/home/dcollins/toolchain/.afl1/.cpan/build/Digest-MD4-1.9-JxXxF6/blib/lib:/home/dcollins/toolchain/.afl1/.cpan/build/Module-Signature-0.80-L8oODs/blib/arch:/home/dcollins/toolchain/.afl1/.cpan/build/Module-Signature-0.80-L8oODs/blib/lib:/home/dcollins/toolchain/.afl1/.cpan/build/IO-Socket-SSL-2.027-XPpHwZ/blib/arch:/home/dcollins/toolchain/.afl1/.cpan/build/IO-Socket-SSL-2.027-XPpHwZ/blib/lib:/home/dcollins/toolchain/.afl1/.cpan/build/Net-SSLeay-1.74-D2ckT4/blib/arch:/home/dcollins/toolchain/.afl1/.cpan/build/Net-SSLeay-1.74-D2ckT4/blib/lib
    PERL5OPT = 
    PERL5_CPANPLUS_IS_RUNNING = 38199
    PERL5_CPAN_IS_RUNNING = 38199
    SHELL = /bin/bash
    TERM = screen

Perl special variables (and OS-specific diagnostics, for MSWin32):

    $^X = /usr/bin/perl5.25.0
    $UID/$EUID = 1001 / 1001
    $GID = 1005 1005
    $EGID = 1005 1005

Perl module toolchain versions installed:

    Module              Have    
    ------------------- --------
    CPAN                2.11    
    CPAN::Meta          2.150005
    Cwd                 3.63    
    ExtUtils::CBuilder  0.280225
    ExtUtils::Command   7.19_02 
    ExtUtils::Install   2.04    
    ExtUtils::MakeMaker 7.19_02 
    ExtUtils::Manifest  1.70    
    ExtUtils::ParseXS   3.31    
    File::Spec          3.63    
    JSON                2.90    
    JSON::PP            2.27400 
    Module::Build       0.4218  
    Module::Signature   0.80    
    Parse::CPAN::Meta   1.4417  
    Test::Harness       3.36    
    Test::More          1.302030
    YAML                1.15    
    YAML::Syck          1.29    
    version             0.9917  


--

Summary of my perl5 (revision 5 version 25 subversion 0) configuration:
  Commit id: 2c5484a6fb758fd9bd9f56d504186972d12dd338
  Platform:
    osname=linux, osvers=4.6.0-1-amd64, archname=x86_64-linux-ld
    uname='linux nightshade64 4.6.0-1-amd64 #1 smp debian 4.6.1-1 (2016-06-06) x86_64 gnulinux '
    config_args='-Dusedevel -Dprefix=/usr -Dcc=ccache gcc-6 -Duselongdouble -Duse64bitall -Doptimize=-O3 -Dversiononly -Uman1dir -Uman3dir -Dsiteprefix=/home/dcollins/toolchain/local -DDEBUGGING -des'
    hint=recommended, useposix=true, d_sigaction=define
    useithreads=undef, usemultiplicity=undef
    use64bitint=define, use64bitall=define, uselongdouble=define
    usemymalloc=n, bincompat5005=undef
  Compiler:
    cc='ccache gcc-6', ccflags ='-fwrapv -DDEBUGGING -fno-strict-aliasing -pipe -fstack-protector-strong -I/usr/local/include -D_LARGEFILE_SOURCE -D_FILE_OFFSET_BITS=64',
    optimize='-O3 -g',
    cppflags='-fwrapv -DDEBUGGING -fno-strict-aliasing -pipe -fstack-protector-strong -I/usr/local/include'
    ccversion='', gccversion='6.1.1 20160519', gccosandvers=''
    intsize=4, longsize=8, ptrsize=8, doublesize=8, byteorder=12345678, doublekind=3
    d_longlong=define, longlongsize=8, d_longdbl=define, longdblsize=16, longdblkind=3
    ivtype='long', ivsize=8, nvtype='long double', nvsize=16, Off_t='off_t', lseeksize=8
    alignbytes=16, prototype=define
  Linker and Libraries:
    ld='ccache gcc-6', ldflags =' -fstack-protector-strong -L/usr/local/lib'
    libpth=/usr/local/lib /usr/lib/gcc/x86_64-linux-gnu/6/include-fixed /usr/include/x86_64-linux-gnu /usr/lib /lib/x86_64-linux-gnu /lib/../lib /usr/lib/x86_64-linux-gnu /usr/lib/../lib /lib
    libs=-lpthread -lnsl -ldl -lm -lcrypt -lutil -lc
    perllibs=-lpthread -lnsl -ldl -lm -lcrypt -lutil -lc
    libc=libc-2.22.so, so=so, useshrplib=false, libperl=libperl.a
    gnulibc_version='2.22'
  Dynamic Linking:
    dlsrc=dl_dlopen.xs, dlext=so, d_dlsymun=undef, ccdlflags='-Wl,-E'
    cccdlflags='-fPIC', lddlflags='-shared -O3 -g -L/usr/local/lib -fstack-protector-strong'


Characteristics of this binary (from libperl): 
  Compile-time options: DEBUGGING HAS_TIMES PERLIO_LAYERS PERL_COPY_ON_WRITE
                        PERL_DONT_CREATE_GVSV
                        PERL_HASH_FUNC_ONE_AT_A_TIME_HARD PERL_MALLOC_WRAP
                        PERL_PRESERVE_IVUV PERL_USE_DEVEL USE_64_BIT_ALL
                        USE_64_BIT_INT USE_LARGE_FILES USE_LOCALE
                        USE_LOCALE_COLLATE USE_LOCALE_CTYPE
                        USE_LOCALE_NUMERIC USE_LOCALE_TIME USE_LONG_DOUBLE
                        USE_PERLIO USE_PERL_ATOF
  Built under linux
  Compiled at Jan  1 1970 00:00:00
  %ENV:
    PERL5LIB="/home/dcollins/toolchain/.afl1/.cpan/build/Math-BigInt-1.999723-5kbbOW/blib/arch:/home/dcollins/toolchain/.afl1/.cpan/build/Math-BigInt-1.999723-5kbbOW/blib/lib:/home/dcollins/toolchain/.afl1/.cpan/build/Math-BigInt-1.999724-pEUmP3/blib/arch:/home/dcollins/toolchain/.afl1/.cpan/build/Math-BigInt-1.999724-pEUmP3/blib/lib:/home/dcollins/toolchain/.afl1/.cpan/build/Text-BibTeX-0.73-ve2iPi/blib/arch:/home/dcollins/toolchain/.afl1/.cpan/build/Text-BibTeX-0.73-ve2iPi/blib/lib:/home/dcollins/toolchain/.afl1/.cpan/build/Text-BibTeX-0.74-d4J5xh/blib/arch:/home/dcollins/toolchain/.afl1/.cpan/build/Text-BibTeX-0.74-d4J5xh/blib/lib:/home/dcollins/toolchain/.afl1/.cpan/build/Digest-MD4-1.9-JxXxF6/blib/arch:/home/dcollins/toolchain/.afl1/.cpan/build/Digest-MD4-1.9-JxXxF6/blib/lib:/home/dcollins/toolchain/.afl1/.cpan/build/Module-Signature-0.80-L8oODs/blib/arch:/home/dcollins/toolchain/.afl1/.cpan/build/Module-Signature-0.80-L8oODs/blib/lib:/home/dcollins/toolchain/.afl1/.cpan/build/IO-Socket-SSL-2.027-XPpHwZ/blib/arch:/home/dcollins/toolchain/.afl1/.cpan/build/IO-Socket-SSL-2.027-XPpHwZ/blib/lib:/home/dcollins/toolchain/.afl1/.cpan/build/Net-SSLeay-1.74-D2ckT4/blib/arch:/home/dcollins/toolchain/.afl1/.cpan/build/Net-SSLeay-1.74-D2ckT4/blib/lib"
    PERL5OPT=""
    PERL5_CPANPLUS_IS_RUNNING="38199"
    PERL5_CPAN_IS_RUNNING="38199"
  @INC:
    /home/dcollins/toolchain/.afl1/.cpan/build/Math-BigInt-1.999723-5kbbOW/blib/arch
    /home/dcollins/toolchain/.afl1/.cpan/build/Math-BigInt-1.999723-5kbbOW/blib/lib
    /home/dcollins/toolchain/.afl1/.cpan/build/Math-BigInt-1.999724-pEUmP3/blib/arch
    /home/dcollins/toolchain/.afl1/.cpan/build/Math-BigInt-1.999724-pEUmP3/blib/lib
    /home/dcollins/toolchain/.afl1/.cpan/build/Text-BibTeX-0.73-ve2iPi/blib/arch
    /home/dcollins/toolchain/.afl1/.cpan/build/Text-BibTeX-0.73-ve2iPi/blib/lib
    /home/dcollins/toolchain/.afl1/.cpan/build/Text-BibTeX-0.74-d4J5xh/blib/arch
    /home/dcollins/toolchain/.afl1/.cpan/build/Text-BibTeX-0.74-d4J5xh/blib/lib
    /home/dcollins/toolchain/.afl1/.cpan/build/Digest-MD4-1.9-JxXxF6/blib/arch
    /home/dcollins/toolchain/.afl1/.cpan/build/Digest-MD4-1.9-JxXxF6/blib/lib
    /home/dcollins/toolchain/.afl1/.cpan/build/Module-Signature-0.80-L8oODs/blib/arch
    /home/dcollins/toolchain/.afl1/.cpan/build/Module-Signature-0.80-L8oODs/blib/lib
    /home/dcollins/toolchain/.afl1/.cpan/build/IO-Socket-SSL-2.027-XPpHwZ/blib/arch
    /home/dcollins/toolchain/.afl1/.cpan/build/IO-Socket-SSL-2.027-XPpHwZ/blib/lib
    /home/dcollins/toolchain/.afl1/.cpan/build/Net-SSLeay-1.74-D2ckT4/blib/arch
    /home/dcollins/toolchain/.afl1/.cpan/build/Net-SSLeay-1.74-D2ckT4/blib/lib
    /home/dcollins/toolchain/local/lib/perl5/site_perl/5.25.0/x86_64-linux-ld
    /home/dcollins/toolchain/local/lib/perl5/site_perl/5.25.0
    /usr/lib/perl5/5.25.0/x86_64-linux-ld
    /usr/lib/perl5/5.25.0
    /home/dcollins/toolchain/local/lib/perl5/site_perl
    .