Archive-Tar-Wrapper v0.33 Perl 5 v5.29.1 x86_64-linux-thread-multi

Status
Pass
From
Slaven Rezić (SREZIC)
Dist
Archive-Tar-Wrapper v0.33
Platform
Perl 5 v5.29.1 x86_64-linux-thread-multi
Date
2018-07-26 23:46:42
ID
25c7d462-912e-11e8-a63e-df0d46a79274
This distribution has been tested as part of the CPAN Testers
project, supporting the Perl programming language.  See
http://wiki.cpantesters.org/ for more information or email
questions to cpan-testers-discuss@perl.org


--
Dear Alceu Rodrigues de Freitas Junior,

This is a computer-generated report for Archive-Tar-Wrapper-0.33
on perl 5.29.1, created by CPAN-Reporter-1.2018.

Thank you for uploading your work to CPAN.  Congratulations!
All tests were successful.

Sections of this report:

    * Tester comments
    * Program output
    * Prerequisites
    * Environment and other context

------------------------------
TESTER COMMENTS
------------------------------

Additional comments from tester:

none provided

------------------------------
PROGRAM OUTPUT
------------------------------

Output from '/usr/bin/make test':

PERL_DL_NONLAZY=1 "/opt/perl-5.29.1t/bin/perl5.29.1" "-MExtUtils::Command::MM" "-MTest::Harness" "-e" "undef *Test::Harness::Switches; test_harness(0, 'blib/lib', 'blib/arch')" t/*.t
t/001Basic.t .............. ok
t/002Mult.t ............... ok
t/003Dirs.t ............... ok
t/004Utf8.t ............... ok
t/005Cwd.t ................ ok
t/006DirPerms.t ........... ok
t/007bzip.t ............... ok
# with grep: Ran 1102 iterations (60 outliers).
# with grep: Rounded run time per iteration: 0.000799 +/- 0.000001 (0.2%)
# with grep and compiled regex: Ran 1473 iterations (428 outliers).
# with grep and compiled regex: Rounded run time per iteration: 0.000690 +/- 0.000000 (0.0%)
# with eq: Ran 1546 iterations (509 outliers).
# with eq: Rounded run time per iteration: 0.000430 +/- 0.000000 (0.0%)
# with enhanced eq: Ran 1403 iterations (377 outliers).
# with enhanced eq: Rounded run time per iteration: 0.000409 +/- 0.000000 (0.0%)
# with enhanced eq mark2: Ran 1473 iterations (464 outliers).
# with enhanced eq mark2: Rounded run time per iteration: 0.000354 +/- 0.000000 (0.0%)
# with enhanced eq mark3: Ran 1623 iterations (592 outliers).
# with enhanced eq mark3: Rounded run time per iteration: 0.000307 +/- 0.000000 (0.0%)
# sort and shift: Ran 1473 iterations (428 outliers).
# sort and shift: Rounded run time per iteration: 0.000501 +/- 0.000000 (0.0%)
t/008performance.t ........ ok
# with grep: Ran 1214 iterations (174 outliers).
# with grep: Rounded run time per iteration: 0.000011 +/- 0.000000 (0.0%)
# with grep and compiled regex: Ran 1214 iterations (171 outliers).
# with grep and compiled regex: Rounded run time per iteration: 0.000014 +/- 0.000000 (0.0%)
# with eq: Ran 1274 iterations (253 outliers).
# with eq: Rounded run time per iteration: 0.000010 +/- 0.000000 (0.0%)
# with enhanced eq: Ran 1623 iterations (586 outliers).
# with enhanced eq: Rounded run time per iteration: 0.000009 +/- 0.000000 (0.0%)
# with enhanced eq mark2: Ran 1214 iterations (158 outliers).
# with enhanced eq mark2: Rounded run time per iteration: 0.000009 +/- 0.000000 (0.0%)
# with enhanced eq mark3: Ran 1274 iterations (268 outliers).
# with enhanced eq mark3: Rounded run time per iteration: 0.000009 +/- 0.000000 (0.0%)
# sort and shift: Ran 1214 iterations (199 outliers).
# sort and shift: Rounded run time per iteration: 0.000009 +/- 0.000000 (0.0%)
t/009performance-small.t .. ok
All tests successful.

Test Summary Report
-------------------
t/008performance.t      (Wstat: 0 Tests: 1 Failed: 0)
  TODO passed:   1
t/009performance-small.t (Wstat: 0 Tests: 1 Failed: 0)
  TODO passed:   1
Files=9, Tests=54, 30 wallclock secs ( 0.04 usr  0.03 sys + 25.93 cusr  3.63 csys = 29.63 CPU)
Result: PASS

------------------------------
PREREQUISITES
------------------------------

Prerequisite modules loaded:

requires:

    Module              Need     Have      
    ------------------- -------- ----------
    Cwd                 0        3.74      
    File::Temp          0        0.2308    
    File::Which         0        1.22      
    IPC::Run            0        20180523.0
    Log::Log4perl       0        1.49      
    perl                5.008001 5.029001  

build_requires:

    Module              Need     Have      
    ------------------- -------- ----------
    Dumbbench           0.111    0.111     
    ExtUtils::MakeMaker 0        7.34      
    Test::Simple        1.302073 1.302138  

configure_requires:

    Module              Need     Have      
    ------------------- -------- ----------
    ExtUtils::MakeMaker 0        7.34      
    File::Which         0        1.22      


------------------------------
ENVIRONMENT AND OTHER CONTEXT
------------------------------

Environment variables:

    LANG = C
    PATH = /usr/local/bin:/usr/bin:/bin:/usr/local/sbin:/usr/sbin:/sbin:/home/cpansand/bin/linux-gnu:/home/cpansand/bin/sh:/home/cpansand/bin:/usr/games:/home/cpansand/devel:/home/eserte/src/srezic-misc/scripts
    PERL5LIB = 
    PERL5OPT = 
    PERL5_CPANPLUS_IS_RUNNING = 30748
    PERL5_CPAN_IS_RUNNING = 30748
    PERL5_CPAN_IS_RUNNING_IN_RECURSION = 28360,30748
    PERLDOC = -MPod::Perldoc::ToTextOverstrike
    PERL_BATCH = yes
    PERL_CANARY_STABILITY_NOPROMPT = 1
    PERL_CPAN_REPORTER_CONFIG = /var/tmp/cpansmoker-1023/2018072619/cpanreporter_001_config.ini
    PERL_EXTUTILS_AUTOINSTALL = --defaultdeps
    PERL_USE_UNSAFE_INC = 1
    PISTACHIO_PERL_MANAGER = 1
    SHELL = /usr/bin/zsh
    TERM = screen
    TMPDIR = /var/tmp/cpansmoker-1023/2018072619

Perl special variables (and OS-specific diagnostics, for MSWin32):

    $^X = /opt/perl-5.29.1t/bin/perl5.29.1
    $UID/$EUID = 1023 / 1023
    $GID = 1023 1023
    $EGID = 1023 1023

Perl module toolchain versions installed:

    Module              Have    
    ------------------- --------
    CPAN                2.20    
    CPAN::Meta          2.150010
    Cwd                 3.74    
    ExtUtils::CBuilder  0.280230
    ExtUtils::Command   7.34    
    ExtUtils::Install   2.14    
    ExtUtils::MakeMaker 7.34    
    ExtUtils::Manifest  1.71    
    ExtUtils::ParseXS   3.39    
    File::Spec          3.74    
    JSON                2.97001 
    JSON::PP            2.97001 
    Module::Build       0.4224  
    Module::Signature   n/a     
    Parse::CPAN::Meta   2.150010
    Test::Harness       3.42    
    Test::More          1.302138
    YAML                1.26    
    YAML::Syck          1.30    
    version             0.9924  


--

Summary of my perl5 (revision 5 version 29 subversion 1) configuration:
   
  Platform:
    osname=linux
    osvers=3.16.0-6-amd64
    archname=x86_64-linux-thread-multi
    uname='linux debian8 3.16.0-6-amd64 #1 smp debian 3.16.57-1 (2018-07-11) x86_64 gnulinux '
    config_args='-ds -e -Dprefix=/opt/perl-5.29.1t -Dusedevel -Dusemallocwrap=no -Dusethreads -Dcf_email=srezic@cpan.org'
    hint=recommended
    useposix=true
    d_sigaction=define
    useithreads=define
    usemultiplicity=define
    use64bitint=define
    use64bitall=define
    uselongdouble=undef
    usemymalloc=n
    default_inc_excludes_dot=define
    bincompat5005=undef
  Compiler:
    cc='cc'
    ccflags ='-D_REENTRANT -D_GNU_SOURCE -fwrapv -fno-strict-aliasing -pipe -fstack-protector-strong -I/usr/local/include -D_LARGEFILE_SOURCE -D_FILE_OFFSET_BITS=64 -D_FORTIFY_SOURCE=2'
    optimize='-O2'
    cppflags='-D_REENTRANT -D_GNU_SOURCE -fwrapv -fno-strict-aliasing -pipe -fstack-protector-strong -I/usr/local/include'
    ccversion=''
    gccversion='4.9.2'
    gccosandvers=''
    intsize=4
    longsize=8
    ptrsize=8
    doublesize=8
    byteorder=12345678
    doublekind=3
    d_longlong=define
    longlongsize=8
    d_longdbl=define
    longdblsize=16
    longdblkind=3
    ivtype='long'
    ivsize=8
    nvtype='double'
    nvsize=8
    Off_t='off_t'
    lseeksize=8
    alignbytes=8
    prototype=define
  Linker and Libraries:
    ld='cc'
    ldflags =' -fstack-protector-strong -L/usr/local/lib'
    libpth=/usr/local/lib /usr/lib/gcc/x86_64-linux-gnu/4.9/include-fixed /usr/include/x86_64-linux-gnu /usr/lib /lib/x86_64-linux-gnu /lib/../lib /usr/lib/x86_64-linux-gnu /usr/lib/../lib /lib
    libs=-lpthread -lnsl -lgdbm -ldb -ldl -lm -lcrypt -lutil -lc -lgdbm_compat
    perllibs=-lpthread -lnsl -ldl -lm -lcrypt -lutil -lc
    libc=libc-2.19.so
    so=so
    useshrplib=false
    libperl=libperl.a
    gnulibc_version='2.19'
  Dynamic Linking:
    dlsrc=dl_dlopen.xs
    dlext=so
    d_dlsymun=undef
    ccdlflags='-Wl,-E'
    cccdlflags='-fPIC'
    lddlflags='-shared -O2 -L/usr/local/lib -fstack-protector-strong'


Characteristics of this binary (from libperl): 
  Compile-time options:
    HAS_TIMES
    MULTIPLICITY
    PERLIO_LAYERS
    PERL_COPY_ON_WRITE
    PERL_DONT_CREATE_GVSV
    PERL_IMPLICIT_CONTEXT
    PERL_OP_PARENT
    PERL_PRESERVE_IVUV
    PERL_USE_DEVEL
    USE_64_BIT_ALL
    USE_64_BIT_INT
    USE_ITHREADS
    USE_LARGE_FILES
    USE_LOCALE
    USE_LOCALE_COLLATE
    USE_LOCALE_CTYPE
    USE_LOCALE_NUMERIC
    USE_LOCALE_TIME
    USE_PERLIO
    USE_PERL_ATOF
    USE_REENTRANT_API
  Built under linux
  Compiled at Jul 26 2018 15:02:30
  %ENV:
    PERL5LIB=""
    PERL5OPT=""
    PERL5_CPANPLUS_IS_RUNNING="30748"
    PERL5_CPAN_IS_RUNNING="30748"
    PERL5_CPAN_IS_RUNNING_IN_RECURSION="28360,30748"
    PERLDOC="-MPod::Perldoc::ToTextOverstrike"
    PERL_BATCH="yes"
    PERL_CANARY_STABILITY_NOPROMPT="1"
    PERL_CPAN_REPORTER_CONFIG="/var/tmp/cpansmoker-1023/2018072619/cpanreporter_001_config.ini"
    PERL_EXTUTILS_AUTOINSTALL="--defaultdeps"
    PERL_USE_UNSAFE_INC="1"
  @INC:
    /opt/perl-5.29.1t/lib/site_perl/5.29.1/x86_64-linux-thread-multi
    /opt/perl-5.29.1t/lib/site_perl/5.29.1
    /opt/perl-5.29.1t/lib/5.29.1/x86_64-linux-thread-multi
    /opt/perl-5.29.1t/lib/5.29.1
    .