Report for Mo-0.40

Back
From: metabase:user:5d3557d2-3c72-11e3-a020-0dfbcd73216e
Subject: PASS Mo-0.40 v5.26.0 Mac OS X
Date: 2017-06-12T17:25:35Z

This distribution has been tested as part of the CPAN Testers
project, supporting the Perl programming language.  See
http://wiki.cpantesters.org/ for more information or email
questions to cpan-testers-discuss@perl.org


--
Dear Tina Muller,

This is a computer-generated report for Mo-0.40
on perl 5.26.0, created by CPAN-Reporter-1.2018.

Thank you for uploading your work to CPAN.  Congratulations!
All tests were successful.

Sections of this report:

    * Tester comments
    * Program output
    * Prerequisites
    * Environment and other context

------------------------------
TESTER COMMENTS
------------------------------

Additional comments from tester:

none provided

------------------------------
PROGRAM OUTPUT
------------------------------

Output from '/usr/bin/make test':

PERL_DL_NONLAZY=1 "/Users/sno/perl5/perlbrew/perls/perl-5.26.0/bin/perl" "-MExtUtils::Command::MM" "-MTest::Harness" "-e" "undef *Test::Harness::Switches; test_harness(0, 'blib/lib', 'blib/arch')" t/*.t
# 
# 
# Generated by Dist::Zilla::Plugin::ReportVersions::Tiny v1.12
# perl: 5.026000 (wanted v5.6.0) on darwin from /Users/sno/perl5/perlbrew/perls/perl-5.26.0/bin/perl
# 
# Class::XSAccessor                             => 1.19       (want any version)
# ExtUtils::MakeMaker                           => 7.24       (want any version)
# IO::All                                       => module not found. (want any version)
# Moose                                         => module not found. (want any version)
# Mouse                                         => module not found. (want any version)
# Test::More                                    => 1.302073   (want 0.96)   
# 
# Thanks for using my code.  I hope it works for you.
# If not, please try and include this output in the bug report.
# That will help me reproduce the issue and solve your problem.
# 
t/000-report-versions-tiny.t .. ok
t/author-00-compile.t ......... skipped: these tests are for testing by the author
t/author-pod-spell.t .......... skipped: these tests are for testing by the author
t/author-pod-syntax.t ......... skipped: these tests are for testing by the author
t/author-test-version.t ....... skipped: these tests are for testing by the author
t/build.t ..................... ok
t/builder.t ................... ok
t/chain.t ..................... ok
t/coerce.t .................... ok
t/combined.t .................. ok
t/default.t ................... ok
t/extends.t ................... ok
t/importer.t .................. ok
t/is.t ........................ ok
t/lazy-nonlazy.t .............. ok
t/main_sub.t .................. ok
t/Moose.t ..................... skipped: Moose is needed
t/Mouse.t ..................... skipped: Mouse is needed
t/object.t .................... ok
t/option.t .................... ok
t/release-correct-version.t ... skipped: these tests are for release candidate testing
t/release-distmeta.t .......... skipped: these tests are for release candidate testing
t/release-eol.t ............... skipped: these tests are for release candidate testing
t/release-no-tabs.t ........... skipped: these tests are for release candidate testing
t/required.t .................. ok
t/strict.t .................... ok
t/test.t ...................... ok
t/xs.t ........................ ok
All tests successful.
Files=28, Tests=148,  1 wallclock secs ( 0.08 usr  0.06 sys +  1.26 cusr  0.18 csys =  1.58 CPU)
Result: PASS

------------------------------
PREREQUISITES
------------------------------

Prerequisite modules loaded:

requires:

    Module              Need     Have    
    ------------------- -------- --------
    perl                5.006000 5.026000

build_requires:

    Module              Need     Have    
    ------------------- -------- --------
    ExtUtils::MakeMaker 0        7.24    
    Test::More          0.96     1.302073

configure_requires:

    Module              Need     Have    
    ------------------- -------- --------
    ExtUtils::MakeMaker 0        7.24    


------------------------------
ENVIRONMENT AND OTHER CONTEXT
------------------------------

Environment variables:

    LANG = de_DE.UTF-8
    NONINTERACTIVE_TESTING = 1
    PATH = /Users/sno/perl5/perlbrew/bin:/Users/sno/perl5/perlbrew/perls/perl-5.26.0/bin:/Users/sno/bin:/opt/pkg/bin:/opt/pkg/sbin:/usr/local/bin:/usr/bin:/bin:/usr/sbin:/sbin:/opt/X11/bin:/usr/local/MacGPG2/bin:/Applications/Wireshark.app/Contents/MacOS
    PERL5LIB = 
    PERL5OPT = 
    PERL5_CPANPLUS_IS_RUNNING = 68884
    PERL5_CPAN_IS_RUNNING = 68884
    PERLBREW_BASHRC_VERSION = 0.75
    PERLBREW_HOME = /Users/sno/.perlbrew
    PERLBREW_MANPATH = /Users/sno/perl5/perlbrew/perls/perl-5.26.0/man
    PERLBREW_PATH = /Users/sno/perl5/perlbrew/bin:/Users/sno/perl5/perlbrew/perls/perl-5.26.0/bin
    PERLBREW_PERL = perl-5.26.0
    PERLBREW_ROOT = /Users/sno/perl5/perlbrew
    PERLBREW_VERSION = 0.75
    PERL_MM_USE_DEFAULT = 1
    PERL_USE_UNSAFE_INC = 1
    SHELL = /bin/bash
    TERM = xterm
    TMPDIR = /var/folders/5s/sk58jrwj7jj73phc9lcx9nh80000gn/T/

Perl special variables (and OS-specific diagnostics, for MSWin32):

    $^X = /Users/sno/perl5/perlbrew/perls/perl-5.26.0/bin/perl
    $UID/$EUID = 501 / 501
    $GID = 20 20 501 12 61 79 80 81 98 33 100 204 395 398 399
    $EGID = 20 20 501 12 61 79 80 81 98 33 100 204 395 398 399

Perl module toolchain versions installed:

    Module              Have      
    ------------------- ----------
    CPAN                2.18      
    CPAN::Meta          2.150010  
    Cwd                 3.67      
    ExtUtils::CBuilder  0.280225  
    ExtUtils::Command   7.24      
    ExtUtils::Install   2.04      
    ExtUtils::MakeMaker 7.24      
    ExtUtils::Manifest  1.70      
    ExtUtils::ParseXS   3.34      
    File::Spec          3.67      
    JSON                n/a       
    JSON::PP            2.27400_02
    Module::Build       0.4224    
    Module::Signature   n/a       
    Parse::CPAN::Meta   2.150010  
    Test::Harness       3.38      
    Test::More          1.302073  
    YAML                n/a       
    YAML::Syck          n/a       
    version             0.9917    


--

Summary of my perl5 (revision 5 version 26 subversion 0) configuration:
   
  Platform:
    osname=darwin
    osvers=16.6.0
    archname=darwin-2level
    uname='darwin ernie-t.muppets.liwing.de 16.6.0 darwin kernel version 16.6.0: fri apr 14 16:21:16 pdt 2017; root:xnu-3789.60.24~6release_x86_64 x86_64 '
    config_args='-de -Dprefix=/Users/sno/perl5/perlbrew/perls/perl-5.26.0 -Aeval:scriptdir=/Users/sno/perl5/perlbrew/perls/perl-5.26.0/bin'
    hint=recommended
    useposix=true
    d_sigaction=define
    useithreads=undef
    usemultiplicity=undef
    use64bitint=define
    use64bitall=define
    uselongdouble=undef
    usemymalloc=n
    default_inc_excludes_dot=define
    bincompat5005=undef
  Compiler:
    cc='cc'
    ccflags ='-fno-common -DPERL_DARWIN -fno-strict-aliasing -pipe -fstack-protector-strong'
    optimize='-O3'
    cppflags='-fno-common -DPERL_DARWIN -fno-strict-aliasing -pipe -fstack-protector-strong'
    ccversion=''
    gccversion='4.2.1 Compatible Apple LLVM 8.1.0 (clang-802.0.42)'
    gccosandvers=''
    intsize=4
    longsize=8
    ptrsize=8
    doublesize=8
    byteorder=12345678
    doublekind=3
    d_longlong=define
    longlongsize=8
    d_longdbl=define
    longdblsize=16
    longdblkind=3
    ivtype='long'
    ivsize=8
    nvtype='double'
    nvsize=8
    Off_t='off_t'
    lseeksize=8
    alignbytes=8
    prototype=define
  Linker and Libraries:
    ld='env MACOSX_DEPLOYMENT_TARGET=10.3 cc'
    ldflags =' -fstack-protector-strong'
    libpth=/Applications/Xcode.app/Contents/Developer/Toolchains/XcodeDefault.xctoolchain/usr/bin/../lib/clang/8.1.0/lib /Applications/Xcode.app/Contents/Developer/Toolchains/XcodeDefault.xctoolchain/usr/lib /Applications/Xcode.app/Contents/Developer/Platforms/MacOSX.platform/Developer/SDKs/MacOSX10.12.sdk/usr/lib /usr/lib
    libs=-lpthread -ldbm -ldl -lm -lutil -lc
    perllibs=-lpthread -ldl -lm -lutil -lc
    libc=
    so=dylib
    useshrplib=false
    libperl=libperl.a
    gnulibc_version=''
  Dynamic Linking:
    dlsrc=dl_dlopen.xs
    dlext=bundle
    d_dlsymun=undef
    ccdlflags=' '
    cccdlflags=' '
    lddlflags=' -bundle -undefined dynamic_lookup -fstack-protector-strong'


Characteristics of this binary (from libperl): 
  Compile-time options:
    HAS_TIMES
    PERLIO_LAYERS
    PERL_COPY_ON_WRITE
    PERL_DONT_CREATE_GVSV
    PERL_MALLOC_WRAP
    PERL_OP_PARENT
    PERL_PRESERVE_IVUV
    USE_64_BIT_ALL
    USE_64_BIT_INT
    USE_LARGE_FILES
    USE_LOCALE
    USE_LOCALE_COLLATE
    USE_LOCALE_CTYPE
    USE_LOCALE_NUMERIC
    USE_LOCALE_TIME
    USE_PERLIO
    USE_PERL_ATOF
  Built under darwin
  Compiled at Jun  2 2017 12:35:15
  %ENV:
    PERL5LIB=""
    PERL5OPT=""
    PERL5_CPANPLUS_IS_RUNNING="68884"
    PERL5_CPAN_IS_RUNNING="68884"
    PERLBREW_BASHRC_VERSION="0.75"
    PERLBREW_HOME="/Users/sno/.perlbrew"
    PERLBREW_MANPATH="/Users/sno/perl5/perlbrew/perls/perl-5.26.0/man"
    PERLBREW_PATH="/Users/sno/perl5/perlbrew/bin:/Users/sno/perl5/perlbrew/perls/perl-5.26.0/bin"
    PERLBREW_PERL="perl-5.26.0"
    PERLBREW_ROOT="/Users/sno/perl5/perlbrew"
    PERLBREW_VERSION="0.75"
    PERL_MM_USE_DEFAULT="1"
    PERL_USE_UNSAFE_INC="1"
  @INC:
    /Users/sno/perl5/perlbrew/perls/perl-5.26.0/lib/site_perl/5.26.0/darwin-2level
    /Users/sno/perl5/perlbrew/perls/perl-5.26.0/lib/site_perl/5.26.0
    /Users/sno/perl5/perlbrew/perls/perl-5.26.0/lib/5.26.0/darwin-2level
    /Users/sno/perl5/perlbrew/perls/perl-5.26.0/lib/5.26.0
    .