Tags-HTML-Element v0.15 Perl 5 v5.32.0 amd64-freebsd

Status
Pass
From
David Cantrell (DCANTRELL)
Dist
Tags-HTML-Element v0.15
Platform
Perl 5 v5.32.0 amd64-freebsd
Date
2024-06-01 00:51:56
ID
24ecf17c-1fb1-11ef-ba6a-6d6f15708ede
This distribution has been tested as part of the CPAN Testers
project, supporting the Perl programming language.  See
http://wiki.cpantesters.org/ for more information or email
questions to cpan-testers-discuss@perl.org


--
Dear Michal Josef Spacek,

This is a computer-generated report for Tags-HTML-Element-0.15
on perl 5.32.0, created by CPAN-Reporter-1.2018.

Thank you for uploading your work to CPAN.  Congratulations!
All tests were successful.

Sections of this report:

    * Tester comments
    * Program output
    * Prerequisites
    * Environment and other context

------------------------------
TESTER COMMENTS
------------------------------

Additional comments from tester:

this report is from an automated smoke testing program
and was not reviewed by a human for accuracy

------------------------------
PROGRAM OUTPUT
------------------------------

Output from '/usr/bin/make test':

PERL_DL_NONLAZY=1 "/usr/home/david/cpantesting/perl-5.32.0/bin/perl" "-MExtUtils::Command::MM" "-MTest::Harness" "-e" "undef *Test::Harness::Switches; test_harness(0, 'inc', 'blib/lib', 'blib/arch')" t/Tags-HTML-Element-A/*.t t/Tags-HTML-Element-Button/*.t t/Tags-HTML-Element-Form/*.t t/Tags-HTML-Element-Input/*.t t/Tags-HTML-Element-Option/*.t t/Tags-HTML-Element-Select/*.t t/Tags-HTML-Element-Textarea/*.t t/Tags-HTML-Element-Utils/*.t t/Tags-HTML-Element/*.t
t/Tags-HTML-Element-A/01-use.t ................. ok
t/Tags-HTML-Element-A/02-version.t ............. ok
t/Tags-HTML-Element-A/03-new.t ................. ok
t/Tags-HTML-Element-A/04-cleanup.t ............. ok
t/Tags-HTML-Element-A/05-init.t ................ ok
t/Tags-HTML-Element-A/06-process.t ............. ok
t/Tags-HTML-Element-A/07-process_css.t ......... ok
t/Tags-HTML-Element-Button/01-use.t ............ ok
t/Tags-HTML-Element-Button/02-version.t ........ ok
t/Tags-HTML-Element-Button/03-new.t ............ ok
t/Tags-HTML-Element-Button/04-cleanup.t ........ ok
t/Tags-HTML-Element-Button/05-init.t ........... ok
t/Tags-HTML-Element-Button/06-process.t ........ ok
t/Tags-HTML-Element-Button/07-process_css.t .... ok
t/Tags-HTML-Element-Form/01-use.t .............. ok
t/Tags-HTML-Element-Form/02-version.t .......... ok
t/Tags-HTML-Element-Form/03-new.t .............. ok
t/Tags-HTML-Element-Form/04-cleanup.t .......... ok
t/Tags-HTML-Element-Form/05-init.t ............. ok
t/Tags-HTML-Element-Form/06-process.t .......... ok
t/Tags-HTML-Element-Form/07-process_css.t ...... ok
t/Tags-HTML-Element-Input/01-use.t ............. ok
t/Tags-HTML-Element-Input/02-version.t ......... ok
t/Tags-HTML-Element-Input/03-new.t ............. ok
t/Tags-HTML-Element-Input/04-init.t ............ ok
t/Tags-HTML-Element-Input/05-process.t ......... ok
t/Tags-HTML-Element-Input/06-process_css.t ..... ok
t/Tags-HTML-Element-Option/01-use.t ............ ok
t/Tags-HTML-Element-Option/02-version.t ........ ok
t/Tags-HTML-Element-Option/03-new.t ............ ok
t/Tags-HTML-Element-Option/04-cleanup.t ........ ok
t/Tags-HTML-Element-Option/05-init.t ........... ok
t/Tags-HTML-Element-Option/06-process.t ........ ok
t/Tags-HTML-Element-Option/07-process_css.t .... ok
t/Tags-HTML-Element-Select/01-use.t ............ ok
t/Tags-HTML-Element-Select/02-version.t ........ ok
t/Tags-HTML-Element-Select/03-new.t ............ ok
t/Tags-HTML-Element-Select/04-cleanup.t ........ ok
t/Tags-HTML-Element-Select/05-init.t ........... ok
t/Tags-HTML-Element-Select/06-process.t ........ ok
t/Tags-HTML-Element-Select/07-process_css.t .... ok
t/Tags-HTML-Element-Textarea/01-use.t .......... ok
t/Tags-HTML-Element-Textarea/02-version.t ...... ok
t/Tags-HTML-Element-Textarea/03-new.t .......... ok
t/Tags-HTML-Element-Textarea/04-cleanup.t ...... ok
t/Tags-HTML-Element-Textarea/05-init.t ......... ok
t/Tags-HTML-Element-Textarea/06-process.t ...... ok
t/Tags-HTML-Element-Textarea/07-process_css.t .. ok
t/Tags-HTML-Element-Utils/01-use.t ............. ok
t/Tags-HTML-Element-Utils/02-version.t ......... ok
t/Tags-HTML-Element-Utils/03-tags_boolean.t .... ok
t/Tags-HTML-Element-Utils/04-tags_data.t ....... ok
t/Tags-HTML-Element-Utils/05-tags_label.t ...... ok
t/Tags-HTML-Element-Utils/06-tags_value.t ...... ok
t/Tags-HTML-Element/01-use.t ................... ok
t/Tags-HTML-Element/02-version.t ............... ok
All tests successful.
Files=56, Tests=243, 18 wallclock secs ( 0.24 usr  0.15 sys +  8.16 cusr  1.52 csys = 10.07 CPU)
Result: PASS

------------------------------
PREREQUISITES
------------------------------

Prerequisite modules loaded:

requires:

    Module                         Need  Have      
    ------------------------------ ----- ----------
    Class::Utils                   0     0.14      
    Error::Pure                    0     0.34      
    perl                           5.008 5.032000  
    Scalar::Util                   0     1.63      
    Tags::HTML                     0.06  0.1       

build_requires:

    Module                         Need  Have      
    ------------------------------ ----- ----------
    CSS::Struct::Output::Structure 0.03  0.04      
    Data::HTML::Element::Button    0.1   0.17      
    Data::HTML::Element::Form      0.1   0.17      
    Data::HTML::Element::Input     0.13  0.17      
    Data::HTML::Element::Select    0.14  0.17      
    Data::HTML::Element::Textarea  0.1   0.17      
    English                        0     1.11      
    Error::Pure::Utils             0     0.34      
    ExtUtils::MakeMaker            6.59  7.70      
    Tags::Output::Structure        0     0.08      
    Test::MockObject               0     1.20200122
    Test::More                     0     1.302198  
    Test::NoWarnings               0     1.06      

configure_requires:

    Module                         Need  Have      
    ------------------------------ ----- ----------
    ExtUtils::MakeMaker            6.59  7.70      


------------------------------
ENVIRONMENT AND OTHER CONTEXT
------------------------------

Environment variables:

    AUTOMATED_TESTING = 1
    LANG = en_GB.UTF-8
    NONINTERACTIVE_TESTING = 1
    PATH = /home/david/perl5/perlbrew/bin:/home/david/perl5/perlbrew/perls/perl-5.30.2/bin:/home/david/.cargo/bin:/sbin:/bin:/usr/sbin:/usr/bin:/usr/local/sbin:/usr/local/bin:/home/david/bin
    PERL = 5.32.0
    PERL5LIB = 
    PERL5OPT = 
    PERL5_CPANPLUS_IS_RUNNING = 55972
    PERL5_CPAN_IS_RUNNING = 55972
    PERLBREW_HOME = /home/david/.perlbrew
    PERLBREW_MANPATH = /home/david/perl5/perlbrew/perls/perl-5.30.2/man
    PERLBREW_PATH = /home/david/perl5/perlbrew/bin:/home/david/perl5/perlbrew/perls/perl-5.30.2/bin
    PERLBREW_PERL = perl-5.30.2
    PERLBREW_ROOT = /home/david/perl5/perlbrew
    PERLBREW_SHELLRC_VERSION = 0.89
    PERLBREW_VERSION = 0.89
    PERLVER = 5.32.0
    PERL_INLINE_DIRECTORY = /home/david/.Inline-5.32.0
    PERL_MM_USE_DEFAULT = 1
    PERL_USE_UNSAFE_INC = 0
    SHELL = /usr/local/bin/bash
    TERM = screen

Perl special variables (and OS-specific diagnostics, for MSWin32):

    $^X = /usr/home/david/cpantesting/perl-5.32.0/bin/perl
    $UID/$EUID = 1001 / 1001
    $GID = 1001 1001 0
    $EGID = 1001 1001 0

Perl module toolchain versions installed:

    Module              Have    
    ------------------- --------
    CPAN                2.27    
    CPAN::Meta          2.150010
    Cwd                 3.75    
    ExtUtils::CBuilder  0.280236
    ExtUtils::Command   7.70    
    ExtUtils::Install   2.22    
    ExtUtils::MakeMaker 7.70    
    ExtUtils::Manifest  1.75    
    ExtUtils::ParseXS   3.51    
    File::Spec          3.75    
    JSON                4.10    
    JSON::PP            4.16    
    Module::Build       0.4234  
    Module::Signature   n/a     
    Parse::CPAN::Meta   2.150010
    Test::Harness       3.48    
    Test::More          1.302198
    YAML                1.30    
    YAML::Syck          n/a     
    version             0.9930  


--

Summary of my perl5 (revision 5 version 32 subversion 0) configuration:
   
  Platform:
    osname=freebsd
    osvers=13.0-release-p7
    archname=amd64-freebsd
    uname='freebsd cpantesting-freebsd-utm.local 13.0-release-p7 freebsd 13.0-release-p7 #0: mon jan 31 18:24:03 utc 2022 root@amd64-builder.daemonology.net:usrobjusrsrcamd64.amd64sysgeneric amd64 '
    config_args='-de -Dprefix=/home/david/cpantesting/perl-5.32.0'
    hint=recommended
    useposix=true
    d_sigaction=define
    useithreads=undef
    usemultiplicity=undef
    use64bitint=define
    use64bitall=define
    uselongdouble=undef
    usemymalloc=n
    default_inc_excludes_dot=define
    bincompat5005=undef
  Compiler:
    cc='cc'
    ccflags ='-DHAS_FPSETMASK -DHAS_FLOATINGPOINT_H -fno-strict-aliasing -pipe -fstack-protector-strong -I/usr/local/include'
    optimize='-O2'
    cppflags='-DHAS_FPSETMASK -DHAS_FLOATINGPOINT_H -fno-strict-aliasing -pipe -fstack-protector-strong -I/usr/local/include'
    ccversion=''
    gccversion='FreeBSD Clang 11.0.1 (git@github.com:llvm/llvm-project.git llvmorg-11.0.1-0-g43ff75f2c3fe)'
    gccosandvers=''
    intsize=4
    longsize=8
    ptrsize=8
    doublesize=8
    byteorder=12345678
    doublekind=3
    d_longlong=define
    longlongsize=8
    d_longdbl=define
    longdblsize=16
    longdblkind=3
    ivtype='long'
    ivsize=8
    nvtype='double'
    nvsize=8
    Off_t='off_t'
    lseeksize=8
    alignbytes=8
    prototype=define
  Linker and Libraries:
    ld='cc'
    ldflags ='-Wl,-E  -fstack-protector-strong -L/usr/local/lib'
    libpth=/usr/lib /usr/local/lib /usr/lib/clang/11.0.1/lib /usr/lib
    libs=-lpthread -lgdbm -ldl -lm -lcrypt -lutil -lc
    perllibs=-lpthread -ldl -lm -lcrypt -lutil -lc
    libc=
    so=so
    useshrplib=false
    libperl=libperl.a
    gnulibc_version=''
  Dynamic Linking:
    dlsrc=dl_dlopen.xs
    dlext=so
    d_dlsymun=undef
    ccdlflags=' '
    cccdlflags='-DPIC -fPIC'
    lddlflags='-shared  -L/usr/local/lib -fstack-protector-strong'


Characteristics of this binary (from libperl): 
  Compile-time options:
    HAS_TIMES
    PERLIO_LAYERS
    PERL_COPY_ON_WRITE
    PERL_DONT_CREATE_GVSV
    PERL_MALLOC_WRAP
    PERL_OP_PARENT
    PERL_PRESERVE_IVUV
    USE_64_BIT_ALL
    USE_64_BIT_INT
    USE_LARGE_FILES
    USE_LOCALE
    USE_LOCALE_COLLATE
    USE_LOCALE_CTYPE
    USE_LOCALE_NUMERIC
    USE_LOCALE_TIME
    USE_PERLIO
    USE_PERL_ATOF
  Locally applied patches:
    Devel::PatchPerl 2.08
  Built under freebsd
  Compiled at Feb  3 2022 13:37:09
  %ENV:
    PERL="5.32.0"
    PERL5LIB=""
    PERL5OPT=""
    PERL5_CPANPLUS_IS_RUNNING="55972"
    PERL5_CPAN_IS_RUNNING="55972"
    PERLBREW_HOME="/home/david/.perlbrew"
    PERLBREW_MANPATH="/home/david/perl5/perlbrew/perls/perl-5.30.2/man"
    PERLBREW_PATH="/home/david/perl5/perlbrew/bin:/home/david/perl5/perlbrew/perls/perl-5.30.2/bin"
    PERLBREW_PERL="perl-5.30.2"
    PERLBREW_ROOT="/home/david/perl5/perlbrew"
    PERLBREW_SHELLRC_VERSION="0.89"
    PERLBREW_VERSION="0.89"
    PERLVER="5.32.0"
    PERL_INLINE_DIRECTORY="/home/david/.Inline-5.32.0"
    PERL_MM_USE_DEFAULT="1"
    PERL_USE_UNSAFE_INC="0"
  @INC:
    /home/david/cpantesting/perl-5.32.0/lib/site_perl/5.32.0/amd64-freebsd
    /home/david/cpantesting/perl-5.32.0/lib/site_perl/5.32.0
    /home/david/cpantesting/perl-5.32.0/lib/5.32.0/amd64-freebsd
    /home/david/cpantesting/perl-5.32.0/lib/5.32.0