Report for Devel-CheckLib-1.09

Back
From: metabase:user:93ecf480-1846-11e6-bc3e-524f5bb4017d
Subject: PASS Devel-CheckLib-1.09 v5.24.1 GNU/Linux
Date: 2017-03-24T07:18:56Z

This distribution has been tested as part of the CPAN Testers
project, supporting the Perl programming language.  See
http://wiki.cpantesters.org/ for more information or email
questions to cpan-testers-discuss@perl.org


--
Dear Yasuhiro Matsumoto,

This is a computer-generated report for Devel-CheckLib-1.09
on perl 5.24.1, created by CPAN-Reporter-1.2018.

Thank you for uploading your work to CPAN.  Congratulations!
All tests were successful.

Sections of this report:

    * Tester comments
    * Program output
    * Prerequisites
    * Environment and other context

------------------------------
TESTER COMMENTS
------------------------------

Additional comments from tester:

none provided

------------------------------
PROGRAM OUTPUT
------------------------------

Output from '/usr/bin/make test':

PERL_DL_NONLAZY=1 "/opt/perlbrew/perls/perl-5.24.1/bin/perl" "-MExtUtils::Command::MM" "-MTest::Harness" "-e" "undef *Test::Harness::Switches; test_harness(0, 'blib/lib', 'blib/arch')" t/*.t
t/00-load.t ................... ok
t/analyze-binary.t ............ ok
Subroutine STORE redefined at /opt/perlbrew/perls/perl-5.24.1/lib/5.24.1/x86_64-linux-thread-multi/Config_heavy.pl line 1401.
t/bad-single-word-compiler.t .. ok
t/cmdline-LIBS-INC.t .......... ok
t/custom-function.t ........... ok
t/dash-l-libs.t ............... ok
t/exit_with_message.t ......... ok
t/flags.t ..................... ok
t/found.t ..................... ok
t/headers.t ................... ok
Subroutine STORE redefined at /opt/perlbrew/perls/perl-5.24.1/lib/5.24.1/x86_64-linux-thread-multi/Config_heavy.pl line 1401.
t/multi-word-compiler.t ....... ok
t/not_found.t ................. ok
All tests successful.
Files=12, Tests=42,  7 wallclock secs ( 0.05 usr  0.04 sys +  4.83 cusr  1.24 csys =  6.16 CPU)
Result: PASS

------------------------------
PREREQUISITES
------------------------------

Prerequisite modules loaded:

requires:

    Module              Need    Have    
    ------------------- ------- --------
    Exporter            0       5.72    
    File::Spec          0       3.63_01 
    File::Temp          0.16    0.2304  
    perl                5.00405 5.024001

build_requires:

    Module              Need    Have    
    ------------------- ------- --------
    IO::CaptureOutput   1.0801  1.1104  
    Test::More          0.62    1.302075

configure_requires:

    Module              Need    Have    
    ------------------- ------- --------
    ExtUtils::MakeMaker 0       7.24    


------------------------------
ENVIRONMENT AND OTHER CONTEXT
------------------------------

Environment variables:

    LANG = en_US.utf8
    NONINTERACTIVE_TESTING = 1
    PATH = /opt/perlbrew/bin:/opt/perlbrew/perls/perl-5.24.1/bin:/home/feinorgh/projects/go/bin:/home/feinorgh/.cargo/bin:/home/feinorgh/.local/bin:/opt/perlbrew/bin:/opt/perlbrew/perls/perl-5.24.1/bin:/usr/local/bin:/usr/bin:/bin:/opt/bin:/usr/x86_64-pc-linux-gnu/gcc-bin/4.9.4:/usr/x86_64-pc-linux-gnu/armv6j-hardfloat-linux-gnueabi/gcc-bin/4.9.4:/usr/x86_64-pc-linux-gnu/armv7a-hardfloat-linux-gnueabi/gcc-bin/4.9.4
    PERL5LIB = 
    PERL5OPT = 
    PERL5_CPANPLUS_IS_RUNNING = 30724
    PERL5_CPAN_IS_RUNNING = 30724
    PERLBREW_BASHRC_VERSION = 0.78
    PERLBREW_HOME = /home/feinorgh/.perlbrew
    PERLBREW_LIB = 
    PERLBREW_MANPATH = /opt/perlbrew/perls/perl-5.24.1/man
    PERLBREW_PATH = /opt/perlbrew/bin:/opt/perlbrew/perls/perl-5.24.1/bin
    PERLBREW_PERL = perl-5.24.1
    PERLBREW_ROOT = /opt/perlbrew
    PERLBREW_VERSION = 0.78
    PERL_LOCAL_LIB_ROOT = 
    PERL_MM_USE_DEFAULT = 1
    SHELL = /bin/bash
    TERM = screen.xterm-256color

Perl special variables (and OS-specific diagnostics, for MSWin32):

    $^X = /opt/perlbrew/perls/perl-5.24.1/bin/perl
    $UID/$EUID = 1001 / 1001
    $GID = 1001 10 18 19 80 85 250 999 1001
    $EGID = 1001 10 18 19 80 85 250 999 1001

Perl module toolchain versions installed:

    Module              Have    
    ------------------- --------
    CPAN                2.16    
    CPAN::Meta          2.150010
    Cwd                 3.63_01 
    ExtUtils::CBuilder  0.280225
    ExtUtils::Command   7.24    
    ExtUtils::Install   2.04    
    ExtUtils::MakeMaker 7.24    
    ExtUtils::Manifest  1.70    
    ExtUtils::ParseXS   3.31    
    File::Spec          3.63_01 
    JSON                2.90    
    JSON::PP            2.27400 
    Module::Build       0.4220  
    Module::Signature   n/a     
    Parse::CPAN::Meta   2.150010
    Test::Harness       3.36_01 
    Test::More          1.302075
    YAML                1.23    
    YAML::Syck          n/a     
    version             0.9917  


--

Summary of my perl5 (revision 5 version 24 subversion 1) configuration:
   
  Platform:
    osname=linux, osvers=4.4.39-gentoo, archname=x86_64-linux-thread-multi
    uname='linux elektra 4.4.39-gentoo #1 smp tue dec 27 19:26:39 cet 2016 x86_64 amd athlon(tm) dual core processor 4850e authenticamd gnulinux '
    config_args='-de -Dprefix=/opt/perlbrew/perls/perl-5.24.1 -Doptimize=-O3 -march=native -Duseshrplib -Dusethreads -Dusemultiplicity -Aeval:scriptdir=/opt/perlbrew/perls/perl-5.24.1/bin'
    hint=recommended, useposix=true, d_sigaction=define
    useithreads=define, usemultiplicity=define
    use64bitint=define, use64bitall=define, uselongdouble=undef
    usemymalloc=n, bincompat5005=undef
  Compiler:
    cc='cc', ccflags ='-D_REENTRANT -D_GNU_SOURCE -fwrapv -fno-strict-aliasing -pipe -fstack-protector-strong -D_LARGEFILE_SOURCE -D_FILE_OFFSET_BITS=64',
    optimize='-O3 -march=native',
    cppflags='-D_REENTRANT -D_GNU_SOURCE -fwrapv -fno-strict-aliasing -pipe -fstack-protector-strong'
    ccversion='', gccversion='4.9.4', gccosandvers=''
    intsize=4, longsize=8, ptrsize=8, doublesize=8, byteorder=12345678, doublekind=3
    d_longlong=define, longlongsize=8, d_longdbl=define, longdblsize=16, longdblkind=3
    ivtype='long', ivsize=8, nvtype='double', nvsize=8, Off_t='off_t', lseeksize=8
    alignbytes=8, prototype=define
  Linker and Libraries:
    ld='cc', ldflags =' -fstack-protector-strong -L/usr/local/lib'
    libpth=/usr/lib/gcc/x86_64-pc-linux-gnu/4.9.4/include-fixed /usr/lib /usr/local/lib /lib/../lib64 /usr/lib/../lib64 /lib /lib64 /usr/lib64 /usr/local/lib64
    libs=-lpthread -lnsl -lgdbm -ldb -ldl -lm -lcrypt -lutil -lc -lgdbm_compat
    perllibs=-lpthread -lnsl -ldl -lm -lcrypt -lutil -lc
    libc=libc-2.23.so, so=so, useshrplib=true, libperl=libperl.so
    gnulibc_version='2.23'
  Dynamic Linking:
    dlsrc=dl_dlopen.xs, dlext=so, d_dlsymun=undef, ccdlflags='-Wl,-E -Wl,-rpath,/opt/perlbrew/perls/perl-5.24.1/lib/5.24.1/x86_64-linux-thread-multi/CORE'
    cccdlflags='-fPIC', lddlflags='-shared -O3 -march=native -L/usr/local/lib -fstack-protector-strong'


Characteristics of this binary (from libperl): 
  Compile-time options: HAS_TIMES MULTIPLICITY PERLIO_LAYERS
                        PERL_COPY_ON_WRITE PERL_DONT_CREATE_GVSV
                        PERL_HASH_FUNC_ONE_AT_A_TIME_HARD
                        PERL_IMPLICIT_CONTEXT PERL_MALLOC_WRAP
                        PERL_PRESERVE_IVUV USE_64_BIT_ALL USE_64_BIT_INT
                        USE_ITHREADS USE_LARGE_FILES USE_LOCALE
                        USE_LOCALE_COLLATE USE_LOCALE_CTYPE
                        USE_LOCALE_NUMERIC USE_LOCALE_TIME USE_PERLIO
                        USE_PERL_ATOF USE_REENTRANT_API
  Locally applied patches:
	Devel::PatchPerl 1.38
  Built under linux
  Compiled at Jan 24 2017 14:40:47
  %ENV:
    PERL5LIB=""
    PERL5OPT=""
    PERL5_CPANPLUS_IS_RUNNING="30724"
    PERL5_CPAN_IS_RUNNING="30724"
    PERLBREW_BASHRC_VERSION="0.78"
    PERLBREW_HOME="/home/feinorgh/.perlbrew"
    PERLBREW_LIB=""
    PERLBREW_MANPATH="/opt/perlbrew/perls/perl-5.24.1/man"
    PERLBREW_PATH="/opt/perlbrew/bin:/opt/perlbrew/perls/perl-5.24.1/bin"
    PERLBREW_PERL="perl-5.24.1"
    PERLBREW_ROOT="/opt/perlbrew"
    PERLBREW_VERSION="0.78"
    PERL_LOCAL_LIB_ROOT=""
    PERL_MM_USE_DEFAULT="1"
  @INC:
    /opt/perlbrew/perls/perl-5.24.1/lib/site_perl/5.24.1/x86_64-linux-thread-multi
    /opt/perlbrew/perls/perl-5.24.1/lib/site_perl/5.24.1
    /opt/perlbrew/perls/perl-5.24.1/lib/5.24.1/x86_64-linux-thread-multi
    /opt/perlbrew/perls/perl-5.24.1/lib/5.24.1
    .