Treex-Core v2.20151210 Perl 5 v5.26.0 MSWin32-x86-multi-thread-64int

Status
Pass
From
Alexandr Ciornii (CHORNY)
Dist
Treex-Core v2.20151210
Platform
Perl 5 v5.26.0 MSWin32-x86-multi-thread-64int
Date
2018-01-22 01:17:36
ID
248105a5-6c46-1014-a985-2c53f4b80ee6
This distribution has been tested as part of the CPAN Testers
project, supporting the Perl programming language.  See
http://wiki.cpantesters.org/ for more information or email
questions to cpan-testers-discuss@perl.org


--
Dear Dusan Varis,

This is a computer-generated report for Treex-Core-2.20151210
on perl 5.26.0, created by CPAN-Reporter-1.2018.

Thank you for uploading your work to CPAN.  Congratulations!
All tests were successful.

Sections of this report:

    * Tester comments
    * Program output
    * Prerequisites
    * Environment and other context

------------------------------
TESTER COMMENTS
------------------------------

Additional comments from tester:

this report is from an automated smoke testing program
and was not reviewed by a human for accuracy

------------------------------
PROGRAM OUTPUT
------------------------------

Output from 'C:\STRAWB~1\c\bin\gmake.exe test':

Skip blib\lib\auto\share\dist\Treex-Core\tred_extension\treex\stylesheets\Treex_stylesheet (unchanged)
Skip blib\lib\auto\share\dist\Treex-Core\tred_extension\treex\contrib\treex\Treex_mode.inc (unchanged)
Skip blib\lib\auto\share\dist\Treex-Core\tred_extension\treex\resources\treex_subschema_a_layer.xml (unchanged)
Skip blib\lib\auto\share\dist\Treex-Core\tred_extension\treex\resources\treex_subschema_langcodes.xml (unchanged)
Skip blib\lib\auto\share\dist\Treex-Core\tred_extension\treex\package.xml (unchanged)
Skip blib\lib\auto\share\dist\Treex-Core\tred_extension\treex\resources\treex_subschema_bbn.xml (unchanged)
Skip blib\lib\auto\share\dist\Treex-Core\tred_extension\extensions.lst (unchanged)
Skip blib\lib\auto\share\dist\Treex-Core\tred_extension\treex\resources\treex_subschema_w_layer.xml (unchanged)
Skip blib\lib\auto\share\dist\Treex-Core\tred_extension\treex\resources\pmlbackend_conf.xml (unchanged)
Skip blib\lib\auto\share\dist\Treex-Core\tred_extension\treex\contrib\treex\contrib.mac (unchanged)
Skip blib\lib\auto\share\dist\Treex-Core\tred_extension\treex\resources\treex_schema.xml (unchanged)
Skip blib\lib\auto\share\dist\Treex-Core\tred_extension\treex\resources\treex_subschema_interset.xml (unchanged)
Skip blib\lib\auto\share\dist\Treex-Core\tred_extension\treex\resources\treex_subschema_n_layer.xml (unchanged)
Skip blib\lib\auto\share\dist\Treex-Core\tred_extension\treex\resources\treex_subschema_p_layer.xml (unchanged)
Skip blib\lib\auto\share\dist\Treex-Core\tred_extension\treex\resources\treex_subschema_t_layer.xml (unchanged)
"C:\Strawberry260\perl\bin\perl.exe" "-MExtUtils::Command::MM" "-MTest::Harness" "-e" "undef *Test::Harness::Switches; test_harness(0, 'blib\lib', 'blib\arch')" t/*.t
t/00-compile.t ..................... ok
t/a_effective_rel.t ................ ok
t/alignment.t ...................... ok
t/attribute.t ...................... ok
t/author-critic.t .................. skipped: these tests are for testing by the author
t/backrefs.t ....................... ok
t/base.t ........................... ok
t/block.t .......................... ok
t/bundle.t ......................... ok
t/bundle_zones.t ................... ok
t/common.t ......................... ok
t/config.t ......................... ok
t/document.t ....................... ok
t/document_zones.t ................. ok
t/dump_scen.t ...................... ok
t/files.t .......................... ok
t/following_node.t ................. ok
sysread() is deprecated on :utf8 handles. This will be a fatal error in Perl 5.30 at C:/Strawberry260/perl/vendor/lib/File/Slurp.pm line 225.
sysread() is deprecated on :utf8 handles. This will be a fatal error in Perl 5.30 at C:/Strawberry260/perl/vendor/lib/File/Slurp.pm line 225.
sysread() is deprecated on :utf8 handles. This will be a fatal error in Perl 5.30 at C:/Strawberry260/perl/vendor/lib/File/Slurp.pm line 225.
sysread() is deprecated on :utf8 handles. This will be a fatal error in Perl 5.30 at C:/Strawberry260/perl/vendor/lib/File/Slurp.pm line 225.
t/grammar.t ........................ ok
t/log.t ............................ ok
t/n_tree.t ......................... ok
t/node.t ........................... ok
t/ordered.t ........................ ok
t/p_penn_treebank_string_format.t .. ok
t/phrase.t ......................... ok
t/release-cpan-changes.t ........... skipped: these tests are for release candidate testing
t/release-dist-manifest.t .......... skipped: these tests are for release candidate testing
t/release-distmeta.t ............... skipped: these tests are for release candidate testing
t/release-kwalitee.t ............... skipped: these tests are for release candidate testing
t/release-minimum-version.t ........ skipped: these tests are for release candidate testing
t/release-mojibake.t ............... skipped: these tests are for release candidate testing
t/release-no-tabs.t ................ skipped: these tests are for release candidate testing
t/release-pod-coverage.t ........... skipped: these tests are for release candidate testing
t/release-pod-linkcheck.t .......... skipped: these tests are for release candidate testing
t/release-pod-syntax.t ............. skipped: these tests are for release candidate testing
t/release-portability.t ............ skipped: these tests are for release candidate testing
t/release-synopsis.t ............... skipped: these tests are for release candidate testing
t/release-test-version.t ........... skipped: these tests are for release candidate testing
t/release-unused-vars.t ............ skipped: these tests are for release candidate testing
t/remove_bundle.t .................. ok
t/resource.t ....................... ok
t/run.t ............................ ok
t/scenario.t ....................... ok
t/scenario_parser.t ................ ok
t/storable.t ....................... ok
t/t_effective_rel.t ................ ok
t/trees.t .......................... ok
t/wildattr.t ....................... ok
t/writers.t ........................ skipped: these tests require export AUTHOR_TESTING=1
All tests successful.
Files=48, Tests=654, 303 wallclock secs ( 0.20 usr +  0.23 sys =  0.43 CPU)
Result: PASS

------------------------------
PREREQUISITES
------------------------------

Prerequisite modules loaded:

requires:

    Module                                          Need    Have      
    ----------------------------------------------- ------- ----------
    App::whichpm                                    0       0.05      
    autodie                                         0       2.29      
    base                                            0       2.25      
    Cache::LRU                                      0       0.04      
    Carp                                            0       1.42      
    Cwd                                             0       3.67      
    Data::Dumper                                    0       2.167     
    Digest::MD5                                     0       2.55      
    Encode                                          0       2.93      
    English                                         0       1.10      
    Exporter                                        0       5.72      
    File::Basename                                  0       2.85      
    File::chdir                                     0       0.1010    
    File::Glob                                      0       1.28      
    File::HomeDir                                   0.97    1.002     
    File::Path                                      2.08    2.15      
    File::ShareDir                                  0       1.104     
    File::Slurp                                     9999.19 9999.19   
    File::Spec                                      0       3.67      
    File::Spec::Functions                           0       3.67      
    File::Temp                                      0       0.2304    
    File::Which                                     0       1.22      
    integer                                         0       1.01      
    IO::Handle                                      0       1.36      
    IO::Interactive                                 0       1.022     
    Lingua::Interset                                2.050   3.010     
    Lingua::Interset::FeatureStructure              0       3.010     
    List::MoreUtils                                 0       0.428     
    List::Util                                      0       1.49      
    Locale::Language                                0       3.55      
    LWP::Simple                                     0       6.31      
    Module::Reload                                  0       1.11      
    Moose                                           0       2.2009    
    Moose::Exporter                                 0       2.2009    
    Moose::Role                                     0       2.2009    
    Moose::Util::TypeConstraints                    0       2.2009    
    MooseX::Getopt                                  0       0.71      
    MooseX::NonMoose                                0       0.26      
    MooseX::Params::Validate                        0       0.21      
    MooseX::Role::Parameterized                     0       1.10      
    MooseX::SemiAffordanceAccessor                  0.09    0.10      
    MooseX::SemiAffordanceAccessor::Role::Attribute 0.09    0.10      
    namespace::autoclean                            0       0.28      
    Parse::RecDescent                               0       1.967015  
    perl                                            5.010   5.026000  
    PerlIO::via::gzip                               0       0.03      
    POSIX                                           0       1.76      
    Readonly                                        0       2.05      
    Scalar::Util                                    0       1.49      
    Storable                                        0       2.62      
    strict                                          0       1.11      
    Sys::Hostname                                   0       1.20      
    Text::Balanced                                  0       2.03      
    Time::HiRes                                     0       1.9750    
    Treex::Block::Read::BaseSplitterRole            0       2.20160630
    Treex::PML                                      0       2.22      
    Treex::PML::Factory                             0       2.22      
    Treex::PML::IO                                  0       2.22      
    Treex::PML::Node                                0       2.22      
    Treex::PML::Struct                              0       2.22      
    UNIVERSAL::DOES                                 0       0.005     
    utf8                                            0       1.19      
    vars                                            0       1.03      
    warnings                                        0       1.37      
    YAML                                            0.72    1.24      

build_requires:

    Module                                          Need    Have      
    ----------------------------------------------- ------- ----------
    constant                                        0       1.33      
    ExtUtils::MakeMaker                             0       7.30      
    File::Spec                                      0       3.67      
    IO::Handle                                      0       1.36      
    IPC::Open3                                      0       1.20      
    Test::Moose                                     0       2.2009    
    Test::More                                      0       1.302120  
    Test::Output                                    0       1.031     

configure_requires:

    Module                                          Need    Have      
    ----------------------------------------------- ------- ----------
    ExtUtils::MakeMaker                             0       7.30      
    File::ShareDir::Install                         0.06    0.11      


------------------------------
ENVIRONMENT AND OTHER CONTEXT
------------------------------

Environment variables:

    AUTOMATED_TESTING = 1
    COMSPEC = C:\WINDOWS\system32\cmd.exe
    NUMBER_OF_PROCESSORS = 1
    PATH = C:\WINDOWS\system32;C:\WINDOWS;C:\WINDOWS\System32\Wbem;C:\Git\cmd;C:\Strawberry260\c\bin;C:\Strawberry260\perl\site\bin;C:\Strawberry260\perl\bin
    PERL5LIB = 
    PERL5OPT = 
    PERL5_CPANPLUS_IS_RUNNING = 1908
    PERL5_CPAN_IS_RUNNING = 1908
    PERL5_CPAN_IS_RUNNING_IN_RECURSION = 1676,1908
    PERL_CR_SMOKER_CURRENT = Treex-Core-2.20151210
    PERL_CR_SMOKER_RUNONCE = 1
    PERL_EXTUTILS_AUTOINSTALL = --defaultdeps
    PERL_MM_USE_DEFAULT = 1
    PERL_USE_UNSAFE_INC = 1
    PROCESSOR_IDENTIFIER = x86 Family 16 Model 5 Stepping 3, AuthenticAMD
    TEMP = C:\DOCUME~1\a\LOCALS~1\Temp

Perl special variables (and OS-specific diagnostics, for MSWin32):

    $^X = C:\Strawberry260\perl\bin\perl.exe
    $UID/$EUID = 0 / 0
    $GID = 0
    $EGID = 0
    Win32::GetOSName = WinXP/.Net
    Win32::GetOSVersion = Service Pack 3, 5, 1, 2600, 2, 3, 0, 256, 1
    Win32::FsType = NTFS
    Win32::IsAdminUser = 1

Perl module toolchain versions installed:

    Module              Have    
    ------------------- --------
    CPAN                2.18    
    CPAN::Meta          2.150010
    Cwd                 3.67    
    ExtUtils::CBuilder  0.280230
    ExtUtils::Command   7.30    
    ExtUtils::Install   2.14    
    ExtUtils::MakeMaker 7.30    
    ExtUtils::Manifest  1.70    
    ExtUtils::ParseXS   3.35    
    File::Spec          3.67    
    JSON                2.97001 
    JSON::PP            2.97001 
    Module::Build       0.4224  
    Module::Signature   0.81    
    Parse::CPAN::Meta   2.150010
    Test::Harness       3.39    
    Test::More          1.302120
    YAML                1.24    
    YAML::Syck          1.30    
    version             0.9918  


--

Summary of my perl5 (revision 5 version 26 subversion 0) configuration:
   
  Platform:
    osname=MSWin32
    osvers=4.0
    archname=MSWin32-x86-multi-thread-64int
    uname='Win32 strawberry-perl 5.26.0.1 #1 Sat Dec 30 15:55:34 2017 i386'
    config_args='undef'
    hint=recommended
    useposix=true
    d_sigaction=undef
    useithreads=define
    usemultiplicity=define
    use64bitint=define
    use64bitall=undef
    uselongdouble=undef
    usemymalloc=n
    default_inc_excludes_dot=define
    bincompat5005=undef
  Compiler:
    cc='gcc'
    ccflags =' -s -O2 -DWIN32 -D__USE_MINGW_ANSI_STDIO -DPERL_TEXTMODE_SCRIPTS -DPERL_IMPLICIT_CONTEXT -DPERL_IMPLICIT_SYS -DUSE_PERLIO -fwrapv -fno-strict-aliasing -mms-bitfields'
    optimize='-s -O2'
    cppflags='-DWIN32'
    ccversion=''
    gccversion='7.1.0'
    gccosandvers=''
    intsize=4
    longsize=4
    ptrsize=4
    doublesize=8
    byteorder=12345678
    doublekind=3
    d_longlong=define
    longlongsize=8
    d_longdbl=define
    longdblsize=12
    longdblkind=3
    ivtype='long long'
    ivsize=8
    nvtype='double'
    nvsize=8
    Off_t='long long'
    lseeksize=8
    alignbytes=8
    prototype=define
  Linker and Libraries:
    ld='g++'
    ldflags ='-s -L"C:\STRAWB~1\perl\lib\CORE" -L"C:\STRAWB~1\c\lib"'
    libpth=C:\STRAWB~1\c\lib C:\STRAWB~1\c\i686-w64-mingw32\lib C:\STRAWB~1\c\lib\gcc\i686-w64-mingw32\7.1.0
    libs= -lmoldname -lkernel32 -luser32 -lgdi32 -lwinspool -lcomdlg32 -ladvapi32 -lshell32 -lole32 -loleaut32 -lnetapi32 -luuid -lws2_32 -lmpr -lwinmm -lversion -lodbc32 -lodbccp32 -lcomctl32
    perllibs= -lmoldname -lkernel32 -luser32 -lgdi32 -lwinspool -lcomdlg32 -ladvapi32 -lshell32 -lole32 -loleaut32 -lnetapi32 -luuid -lws2_32 -lmpr -lwinmm -lversion -lodbc32 -lodbccp32 -lcomctl32
    libc=
    so=dll
    useshrplib=true
    libperl=libperl526.a
    gnulibc_version=''
  Dynamic Linking:
    dlsrc=dl_win32.xs
    dlext=xs.dll
    d_dlsymun=undef
    ccdlflags=' '
    cccdlflags=' '
    lddlflags='-mdll -s -L"C:\STRAWB~1\perl\lib\CORE" -L"C:\STRAWB~1\c\lib"'


Characteristics of this binary (from libperl): 
  Compile-time options:
    HAS_TIMES
    HAVE_INTERP_INTERN
    MULTIPLICITY
    PERLIO_LAYERS
    PERL_COPY_ON_WRITE
    PERL_DONT_CREATE_GVSV
    PERL_IMPLICIT_CONTEXT
    PERL_IMPLICIT_SYS
    PERL_MALLOC_WRAP
    PERL_OP_PARENT
    PERL_PRESERVE_IVUV
    USE_64_BIT_INT
    USE_ITHREADS
    USE_LARGE_FILES
    USE_LOCALE
    USE_LOCALE_COLLATE
    USE_LOCALE_CTYPE
    USE_LOCALE_NUMERIC
    USE_LOCALE_TIME
    USE_PERLIO
    USE_PERL_ATOF
  Built under MSWin32
  Compiled at Dec 30 2017 16:05:39
  %ENV:
    PERL5_CPANPLUS_IS_RUNNING="1908"
    PERL5_CPAN_IS_RUNNING="1908"
    PERL5_CPAN_IS_RUNNING_IN_RECURSION="1676,1908"
    PERL_CR_SMOKER_CURRENT="Treex-Core-2.20151210"
    PERL_CR_SMOKER_RUNONCE="1"
    PERL_EXTUTILS_AUTOINSTALL="--defaultdeps"
    PERL_MM_USE_DEFAULT="1"
    PERL_USE_UNSAFE_INC="1"
  @INC:
    C:/Strawberry260/perl/site/lib
    C:/Strawberry260/perl/vendor/lib
    C:/Strawberry260/perl/lib
    .