PLS v0.897 Perl 5 v5.28.2 x86_64-linux

Status
Pass
From
Johann Rolschewski (JOROL)
Dist
PLS v0.897
Platform
Perl 5 v5.28.2 x86_64-linux
Date
2022-01-11 12:36:47
ID
246d6dc4-72db-11ec-b398-9436e97bd7c2
This distribution has been tested as part of the CPAN Testers
project, supporting the Perl programming language.  See
http://wiki.cpantesters.org/ for more information or email
questions to cpan-testers-discuss@perl.org


--
Dear MREISNER,

This is a computer-generated report for PLS-0.897
on perl 5.28.2, created by App::cpanminus::reporter 0.17 (1.7044).

Thank you for uploading your work to CPAN.  Congratulations!
All tests were successful.

Sections of this report:

    * Tester comments
    * Program output
    * Prerequisites
    * Environment and other context

------------------------------
TESTER COMMENTS
------------------------------

Additional comments from tester:

none provided

------------------------------
PROGRAM OUTPUT
------------------------------

Output from '':

Building and testing PLS-0.897
cp lib/PLS/Server/Method/Workspace.pm blib/lib/PLS/Server/Method/Workspace.pm
cp lib/PLS/Parser/PackageSymbols.pm blib/lib/PLS/Parser/PackageSymbols.pm
cp lib/PLS/Parser/Pod/Variable.pm blib/lib/PLS/Parser/Pod/Variable.pm
cp lib/PLS/Parser/Pod/Package.pm blib/lib/PLS/Parser/Pod/Package.pm
cp lib/PLS/Parser/Index.pm blib/lib/PLS/Parser/Index.pm
cp lib/PLS/Server/Request.pm blib/lib/PLS/Server/Request.pm
cp lib/PLS/Server/Message.pm blib/lib/PLS/Server/Message.pm
cp lib/PLS.pm blib/lib/PLS.pm
cp lib/PLS/Parser/Pod/Builtin.pm blib/lib/PLS/Parser/Pod/Builtin.pm
cp lib/PLS/Parser/Element/Subroutine.pm blib/lib/PLS/Parser/Element/Subroutine.pm
cp lib/PLS/Server/Method/ServerMethod.pm blib/lib/PLS/Server/Method/ServerMethod.pm
cp lib/PLS/Server/Request/Initialize.pm blib/lib/PLS/Server/Request/Initialize.pm
cp lib/PLS/Parser/DocumentSymbols.pm blib/lib/PLS/Parser/DocumentSymbols.pm
cp lib/PLS/Server/Method/TextDocument.pm blib/lib/PLS/Server/Method/TextDocument.pm
cp lib/PLS/Server/Request/TextDocument/Completion.pm blib/lib/PLS/Server/Request/TextDocument/Completion.pm
cp lib/PLS/Parser/Element/Package.pm blib/lib/PLS/Parser/Element/Package.pm
cp lib/PLS/Server/Request/Factory.pm blib/lib/PLS/Server/Request/Factory.pm
cp lib/PLS/Server/Request/CompletionItem/Resolve.pm blib/lib/PLS/Server/Request/CompletionItem/Resolve.pm
cp lib/PLS/Server/Request/TextDocument/Definition.pm blib/lib/PLS/Server/Request/TextDocument/Definition.pm
cp lib/PLS/Parser/Pod/ClassMethod.pm blib/lib/PLS/Parser/Pod/ClassMethod.pm
cp lib/PLS/Parser/Document.pm blib/lib/PLS/Parser/Document.pm
cp lib/PLS/Server/Method/CompletionItem.pm blib/lib/PLS/Server/Method/CompletionItem.pm
cp lib/PLS/Server/Request/Client/RegisterCapability.pm blib/lib/PLS/Server/Request/Client/RegisterCapability.pm
cp lib/PLS/Parser/Pod/Subroutine.pm blib/lib/PLS/Parser/Pod/Subroutine.pm
cp lib/PLS/Server/Request/Initialized.pm blib/lib/PLS/Server/Request/Initialized.pm
cp lib/PLS/Server/Request/CancelRequest.pm blib/lib/PLS/Server/Request/CancelRequest.pm
cp lib/PLS/Server.pm blib/lib/PLS/Server.pm
cp lib/PLS/Parser/Element/VariableStatement.pm blib/lib/PLS/Parser/Element/VariableStatement.pm
cp lib/PLS/Parser/Element/Variable.pm blib/lib/PLS/Parser/Element/Variable.pm
cp lib/PLS/Parser/Element/Constant.pm blib/lib/PLS/Parser/Element/Constant.pm
cp lib/PLS/Parser/Element.pm blib/lib/PLS/Parser/Element.pm
cp lib/PLS/Parser/Pod/Method.pm blib/lib/PLS/Parser/Pod/Method.pm
cp lib/PLS/Parser/Pod.pm blib/lib/PLS/Parser/Pod.pm
cp lib/PLS/Server/Response/Location.pm blib/lib/PLS/Server/Response/Location.pm
cp lib/PLS/Server/Request/TextDocument/DidOpen.pm blib/lib/PLS/Server/Request/TextDocument/DidOpen.pm
cp lib/PLS/Server/Request/TextDocument/DidChange.pm blib/lib/PLS/Server/Request/TextDocument/DidChange.pm
cp lib/PLS/Server/Request/TextDocument/Hover.pm blib/lib/PLS/Server/Request/TextDocument/Hover.pm
cp lib/PLS/Server/Request/Workspace/ApplyEdit.pm blib/lib/PLS/Server/Request/Workspace/ApplyEdit.pm
cp lib/PLS/Server/Request/TextDocument/Formatting.pm blib/lib/PLS/Server/Request/TextDocument/Formatting.pm
cp lib/PLS/Server/Response.pm blib/lib/PLS/Server/Response.pm
cp lib/PLS/Server/Request/TextDocument/DidSave.pm blib/lib/PLS/Server/Request/TextDocument/DidSave.pm
cp lib/PLS/Server/Response/Completion.pm blib/lib/PLS/Server/Response/Completion.pm
cp lib/PLS/Server/Request/TextDocument/SignatureHelp.pm blib/lib/PLS/Server/Request/TextDocument/SignatureHelp.pm
cp lib/PLS/Server/Response/DocumentSymbol.pm blib/lib/PLS/Server/Response/DocumentSymbol.pm
cp lib/PLS/Server/Response/InitializeResult.pm blib/lib/PLS/Server/Response/InitializeResult.pm
cp lib/PLS/Server/Request/Workspace/ExecuteCommand.pm blib/lib/PLS/Server/Request/Workspace/ExecuteCommand.pm
cp lib/PLS/Server/Response/Resolve.pm blib/lib/PLS/Server/Response/Resolve.pm
cp lib/PLS/Server/Request/TextDocument/RangeFormatting.pm blib/lib/PLS/Server/Request/TextDocument/RangeFormatting.pm
cp lib/PLS/Server/Request/Workspace/DidChangeWatchedFiles.pm blib/lib/PLS/Server/Request/Workspace/DidChangeWatchedFiles.pm
cp lib/PLS/Server/Request/Workspace/Configuration.pm blib/lib/PLS/Server/Request/Workspace/Configuration.pm
cp lib/PLS/Server/Response/Cancelled.pm blib/lib/PLS/Server/Response/Cancelled.pm
cp lib/PLS/Server/Request/Workspace/Symbol.pm blib/lib/PLS/Server/Request/Workspace/Symbol.pm
cp lib/PLS/Server/Request/TextDocument/DidClose.pm blib/lib/PLS/Server/Request/TextDocument/DidClose.pm
cp lib/PLS/Server/Request/Workspace/DidChangeConfiguration.pm blib/lib/PLS/Server/Request/Workspace/DidChangeConfiguration.pm
cp lib/PLS/Server/Response/RangeFormatting.pm blib/lib/PLS/Server/Response/RangeFormatting.pm
cp lib/PLS/Server/Response/Hover.pm blib/lib/PLS/Server/Response/Hover.pm
cp lib/PLS/Server/Request/TextDocument/DocumentSymbol.pm blib/lib/PLS/Server/Request/TextDocument/DocumentSymbol.pm
cp lib/PLS/Server/Response/Formatting.pm blib/lib/PLS/Server/Response/Formatting.pm
cp lib/PLS/Server/Request/TextDocument/PublishDiagnostics.pm blib/lib/PLS/Server/Request/TextDocument/PublishDiagnostics.pm
cp lib/PLS/Server/Response/SignatureHelp.pm blib/lib/PLS/Server/Response/SignatureHelp.pm
cp lib/PLS/Trie/Node.pm blib/lib/PLS/Trie/Node.pm
cp lib/PLS/Trie.pm blib/lib/PLS/Trie.pm
cp lib/PLS/Server/State.pm blib/lib/PLS/Server/State.pm
cp lib/PLS/Server/Response/WorkspaceSymbols.pm blib/lib/PLS/Server/Response/WorkspaceSymbols.pm
cp lib/PLS/Server/Response/ServerNotInitialized.pm blib/lib/PLS/Server/Response/ServerNotInitialized.pm
cp bin/pls blib/script/pls
"/home/johann.rolschewski/perl5/perlbrew/perls/perl-5.28.2/bin/perl" -MExtUtils::MY -e 'MY->fixin(shift)' -- blib/script/pls
Manifying 30 pod documents
Manifying 23 pod documents
Manifying 10 pod documents
PERL_DL_NONLAZY=1 "/home/johann.rolschewski/perl5/perlbrew/perls/perl-5.28.2/bin/perl" "-MExtUtils::Command::MM" "-MTest::Harness" "-e" "undef *Test::Harness::Switches; test_harness(0, 'blib/lib', 'blib/arch')" t/*.t
t/00compile.t .......................... ok
t/02document-new.t ..................... ok
t/03document-find_word_under_cursor.t .. ok
All tests successful.
Files=3, Tests=85,  2 wallclock secs ( 0.03 usr  0.00 sys +  1.37 cusr  0.20 csys =  1.60 CPU)
Result: PASS

------------------------------
PREREQUISITES
------------------------------

Prerequisite modules loaded:

    No requirements found

------------------------------
ENVIRONMENT AND OTHER CONTEXT
------------------------------

Environment variables:

    LANG = de_DE.UTF-8
    LC_CTYPE = de_DE.UTF-8
    PATH = /home/johann.rolschewski/.local/bin:/home/johann.rolschewski/bin:/home/johann.rolschewski/perl5/perlbrew/bin:/home/johann.rolschewski/perl5/perlbrew/perls/perl-5.28.2/bin:/usr/local/bin:/usr/bin:/bin:/usr/local/games:/usr/games
    PERLBREW_HOME = /home/johann.rolschewski/.perlbrew
    PERLBREW_MANPATH = /home/johann.rolschewski/perl5/perlbrew/perls/perl-5.28.2/man
    PERLBREW_PATH = /home/johann.rolschewski/perl5/perlbrew/bin:/home/johann.rolschewski/perl5/perlbrew/perls/perl-5.28.2/bin
    PERLBREW_PERL = perl-5.28.2
    PERLBREW_ROOT = /home/johann.rolschewski/perl5/perlbrew
    PERLBREW_SHELLRC_VERSION = 0.87
    PERLBREW_VERSION = 0.87
    SHELL = /bin/bash
    TERM = xterm

Perl special variables (and OS-specific diagnostics, for MSWin32):

    EGID = 1001 1000 1001
    EUID = 4028
    EXECUTABLE_NAME = /home/johann.rolschewski/perl5/perlbrew/perls/perl-5.28.2/bin/perl
    GID = 1001 1000 1001
    UID = 4028

Perl module toolchain versions installed:

    Module              Have    
    ------------------- --------
    CPAN                2.20    
    CPAN::Meta          2.150010
    Cwd                 3.74    
    ExtUtils::CBuilder  0.280230
    ExtUtils::Command   7.34    
    ExtUtils::Install   2.14    
    ExtUtils::MakeMaker 7.34    
    ExtUtils::Manifest  1.70    
    ExtUtils::ParseXS   3.39    
    File::Spec          3.74    
    JSON                4.02    
    JSON::PP            2.97001 
    Module::Build       0.4229  
    Module::Signature   n/a     
    Parse::CPAN::Meta   2.150010
    Test::Harness       3.42    
    Test::More          1.302168
    YAML                1.29    
    YAML::Syck          n/a     
    version             0.9923  


--

Summary of my perl5 (revision 5 version 28 subversion 2) configuration:
   
  Platform:
    osname=linux
    osvers=4.19.0-6-amd64
    archname=x86_64-linux
    uname='linux b-lx0081 4.19.0-6-amd64 #1 smp debian 4.19.67-2+deb10u2 (2019-11-11) x86_64 gnulinux '
    config_args='-de -Dprefix=/home/johann.rolschewski/perl5/perlbrew/perls/perl-5.28.2 -Aeval:scriptdir=/home/johann.rolschewski/perl5/perlbrew/perls/perl-5.28.2/bin'
    hint=recommended
    useposix=true
    d_sigaction=define
    useithreads=undef
    usemultiplicity=undef
    use64bitint=define
    use64bitall=define
    uselongdouble=undef
    usemymalloc=n
    default_inc_excludes_dot=define
    bincompat5005=undef
  Compiler:
    cc='cc'
    ccflags ='-fwrapv -fno-strict-aliasing -pipe -fstack-protector-strong -I/usr/local/include -D_LARGEFILE_SOURCE -D_FILE_OFFSET_BITS=64'
    optimize='-O2'
    cppflags='-fwrapv -fno-strict-aliasing -pipe -fstack-protector-strong -I/usr/local/include'
    ccversion=''
    gccversion='8.3.0'
    gccosandvers=''
    intsize=4
    longsize=8
    ptrsize=8
    doublesize=8
    byteorder=12345678
    doublekind=3
    d_longlong=define
    longlongsize=8
    d_longdbl=define
    longdblsize=16
    longdblkind=3
    ivtype='long'
    ivsize=8
    nvtype='double'
    nvsize=8
    Off_t='off_t'
    lseeksize=8
    alignbytes=8
    prototype=define
  Linker and Libraries:
    ld='cc'
    ldflags =' -fstack-protector-strong -L/usr/local/lib'
    libpth=/usr/local/lib /usr/lib/gcc/x86_64-linux-gnu/8/include-fixed /usr/include/x86_64-linux-gnu /usr/lib /lib/x86_64-linux-gnu /lib/../lib /usr/lib/x86_64-linux-gnu /usr/lib/../lib /lib /lib64 /usr/lib64
    libs=-lpthread -lnsl -ldl -lm -lcrypt -lutil -lc
    perllibs=-lpthread -lnsl -ldl -lm -lcrypt -lutil -lc
    libc=libc-2.28.so
    so=so
    useshrplib=false
    libperl=libperl.a
    gnulibc_version='2.28'
  Dynamic Linking:
    dlsrc=dl_dlopen.xs
    dlext=so
    d_dlsymun=undef
    ccdlflags='-Wl,-E'
    cccdlflags='-fPIC'
    lddlflags='-shared -O2 -L/usr/local/lib -fstack-protector-strong'


Characteristics of this binary (from libperl): 
  Compile-time options:
    HAS_TIMES
    PERLIO_LAYERS
    PERL_COPY_ON_WRITE
    PERL_DONT_CREATE_GVSV
    PERL_MALLOC_WRAP
    PERL_OP_PARENT
    PERL_PRESERVE_IVUV
    USE_64_BIT_ALL
    USE_64_BIT_INT
    USE_LARGE_FILES
    USE_LOCALE
    USE_LOCALE_COLLATE
    USE_LOCALE_CTYPE
    USE_LOCALE_NUMERIC
    USE_LOCALE_TIME
    USE_PERLIO
    USE_PERL_ATOF
  Locally applied patches:
    Devel::PatchPerl 1.66
  Built under linux
  Compiled at Nov 15 2019 12:19:18
  %ENV:
    PERLBREW_HOME="/home/johann.rolschewski/.perlbrew"
    PERLBREW_MANPATH="/home/johann.rolschewski/perl5/perlbrew/perls/perl-5.28.2/man"
    PERLBREW_PATH="/home/johann.rolschewski/perl5/perlbrew/bin:/home/johann.rolschewski/perl5/perlbrew/perls/perl-5.28.2/bin"
    PERLBREW_PERL="perl-5.28.2"
    PERLBREW_ROOT="/home/johann.rolschewski/perl5/perlbrew"
    PERLBREW_SHELLRC_VERSION="0.87"
    PERLBREW_VERSION="0.87"
  @INC:
    /home/johann.rolschewski/perl5/perlbrew/perls/perl-5.28.2/lib/site_perl/5.28.2/x86_64-linux
    /home/johann.rolschewski/perl5/perlbrew/perls/perl-5.28.2/lib/site_perl/5.28.2
    /home/johann.rolschewski/perl5/perlbrew/perls/perl-5.28.2/lib/5.28.2/x86_64-linux
    /home/johann.rolschewski/perl5/perlbrew/perls/perl-5.28.2/lib/5.28.2