Plack v1.0051 Perl 5 v5.32.1 darwin-thread-multi-2level
- Status
- Pass
- From
- aero
- Dist
-
Plack v1.0051
- Platform
- Perl 5 v5.32.1 darwin-thread-multi-2level
- Date
- 2024-01-07 23:33:20
- ID
- 240ef03e-adb5-11ee-a60e-d272d670bd34
This distribution has been tested as part of the CPAN Testers
project, supporting the Perl programming language. See
http://wiki.cpantesters.org/ for more information or email
questions to cpan-testers-discuss@perl.org
--
Dear Tatsuhiko Miyagawa,
This is a computer-generated report for Plack-1.0051
on perl 5.32.1, created by CPAN-Reporter-1.2019.
Thank you for uploading your work to CPAN. Congratulations!
All tests were successful.
Sections of this report:
* Tester comments
* Program output
* Prerequisites
* Environment and other context
------------------------------
TESTER COMMENTS
------------------------------
Additional comments from tester:
none provided
------------------------------
PROGRAM OUTPUT
------------------------------
Output from '/usr/bin/make test':
Skip blib/lib/auto/share/dist/Plack/face.jpg (unchanged)
Skip blib/lib/auto/share/dist/Plack/baybridge.jpg (unchanged)
PERL_DL_NONLAZY=1 "/Users/chadwick/CASE_SENSITIVE_APFS/perl5/perlbrew/perls/perl-5.32/bin/perl" "-MExtUtils::Command::MM" "-MTest::Harness" "-e" "undef *Test::Harness::Switches; test_harness(0, 'blib/lib', 'blib/arch')" t/*.t t/HTTP-Message-PSGI/*.t t/HTTP-Server-PSGI/*.t t/Plack-Builder/*.t t/Plack-HTTPParser-PP/*.t t/Plack-Handler/*.t t/Plack-Loader/*.t t/Plack-MIME/*.t t/Plack-Middleware/*.t t/Plack-Middleware/cascade/*.t t/Plack-Middleware/recursive/*.t t/Plack-Middleware/stacktrace/*.t t/Plack-Request/*.t t/Plack-Response/*.t t/Plack-Runner/*.t t/Plack-TempBuffer/*.t t/Plack-Test/*.t t/Plack-Util/*.t
t/author-pod-syntax.t ................................ skipped: these tests are for testing by the author
t/HTTP-Message-PSGI/content_length.t ................. ok
t/HTTP-Message-PSGI/empty_delayed_writer.t ........... ok
t/HTTP-Message-PSGI/empty_streamed_response.t ........ ok
t/HTTP-Message-PSGI/host.t ........................... ok
t/HTTP-Message-PSGI/path_info.t ...................... ok
t/HTTP-Message-PSGI/unknown_response.t ............... ok
t/HTTP-Message-PSGI/utf8_req.t ....................... ok
t/HTTP-Server-PSGI/harakiri.t ........................ ok
t/HTTP-Server-PSGI/listen.t .......................... ok
t/HTTP-Server-PSGI/post.t ............................ ok
t/Plack-Builder/builder.t ............................ ok
t/Plack-Builder/mount.t .............................. ok
t/Plack-Builder/oo_interface.t ....................... ok
t/Plack-Handler/apache1.t ............................ skipped: TEST_APACHE1 is not set
t/Plack-Handler/apache2-registry.t ................... skipped: TEST_APACHE2 is not set
t/Plack-Handler/apache2.t ............................ skipped: TEST_APACHE2 is not set
t/Plack-Handler/cgi.t ................................ skipped: Test requires module 'HTTP::Request::AsCGI' but it's not found
t/Plack-Handler/fcgi.t ............................... skipped: Test requires module 'FCGI::ProcManager' but it's not found
t/Plack-Handler/fcgi_cleanup.t ....................... skipped: Test requires module 'FCGI::ProcManager' but it's not found
t/Plack-Handler/output_encoding.t .................... ok
t/Plack-Handler/standalone.t ......................... ok
t/Plack-HTTPParser-PP/simple.t ....................... ok
t/Plack-Loader/auto.t ................................ ok
t/Plack-Loader/auto_fallback.t ....................... ok
t/Plack-Loader/delayed.t ............................. ok
t/Plack-Loader/restarter.t ........................... skipped: author test only
t/Plack-Loader/restarter_valid.t ..................... ok
t/Plack-Loader/shotgun.t ............................. ok
t/Plack-Middleware/access_log.t ...................... ok
t/Plack-Middleware/access_log_timed.t ................ ok
t/Plack-Middleware/access_log_value_zero.t ........... ok
t/Plack-Middleware/auth_basic.t ...................... ok
t/Plack-Middleware/auth_basic_env.t .................. ok
t/Plack-Middleware/auth_basic_simple.t ............... skipped: Test requires module 'Authen::Simple::Passwd' but it's not found
t/Plack-Middleware/bufferedstreaming.t ............... ok
t/Plack-Middleware/cascade/basic.t ................... ok
t/Plack-Middleware/cascade/streaming.t ............... ok
t/Plack-Middleware/cgibin.t .......................... skipped: Test requires module 'CGI::Emulate::PSGI' but it's not found
t/Plack-Middleware/cgibin_exec.t ..................... skipped: Test requires module 'CGI::Emulate::PSGI' but it's not found
t/Plack-Middleware/chunked.t ......................... skipped: Test requires module 'IO::Handle::Util' but it's not found
t/Plack-Middleware/component-leak.t .................. ok
t/Plack-Middleware/component.t ....................... skipped: Test requires module 'IO::Handle::Util' but it's not found
t/Plack-Middleware/conditional.t ..................... ok
t/Plack-Middleware/conditional_new.t ................. ok
t/Plack-Middleware/conditionalget.t .................. ok
t/Plack-Middleware/conditionalget_writer.t ........... ok
t/Plack-Middleware/content_length.t .................. ok
t/Plack-Middleware/directory.t ....................... ok
t/Plack-Middleware/error_document.t .................. ok
t/Plack-Middleware/error_document_streaming_app.t .... ok
t/Plack-Middleware/file.t ............................ ok
t/Plack-Middleware/head.t ............................ ok
t/Plack-Middleware/head_streaming.t .................. ok
t/Plack-Middleware/httpexceptions.t .................. ok
t/Plack-Middleware/httpexceptions_streaming.t ........ ok
t/Plack-Middleware/iis6_script_name_fix.t ............ ok
t/Plack-Middleware/iis7_keep_alive_fix.t ............. ok
t/Plack-Middleware/jsonp.t ........................... ok
t/Plack-Middleware/lint.t ............................ ok
t/Plack-Middleware/lint_env.t ........................ ok
t/Plack-Middleware/lint_utf8_false_alarm.t ........... ok
t/Plack-Middleware/lint_wrong_header_info.t .......... ok
t/Plack-Middleware/log4perl-category.t ............... ok
t/Plack-Middleware/log4perl.t ........................ ok
t/Plack-Middleware/log_dispatch.t .................... ok
t/Plack-Middleware/order.t ........................... ok
t/Plack-Middleware/prefix.t .......................... ok
t/Plack-Middleware/psgibin.t ......................... ok
t/Plack-Middleware/rearrange_headers.t ............... ok
t/Plack-Middleware/recursive/base.t .................. ok
t/Plack-Middleware/recursive/streaming.t ............. ok
t/Plack-Middleware/recursive/throw.t ................. ok
t/Plack-Middleware/recursive/throw_streaming.t ....... ok
t/Plack-Middleware/refresh-init.t .................... ok
t/Plack-Middleware/runtime.t ......................... ok
t/Plack-Middleware/simple_content_filter.t ........... ok
t/Plack-Middleware/simple_logger.t ................... ok
t/Plack-Middleware/stacktrace/basic.t ................ ok
t/Plack-Middleware/stacktrace/force.t ................ ok
t/Plack-Middleware/stacktrace/multiple_exceptions.t .. ok
t/Plack-Middleware/stacktrace/sigdie.t ............... ok
t/Plack-Middleware/stacktrace/streaming.t ............ ok
t/Plack-Middleware/stacktrace/utf8.t ................. ok
t/Plack-Middleware/static.t .......................... ok
t/Plack-Middleware/static_env.t ...................... ok
t/Plack-Middleware/urlmap.t .......................... ok
t/Plack-Middleware/urlmap_builder.t .................. ok
t/Plack-Middleware/urlmap_env.t ...................... ok
t/Plack-Middleware/urlmap_ports.t .................... ok
t/Plack-Middleware/wrapcgi.t ......................... skipped: Test requires module 'CGI::Compile' but it's not found
t/Plack-Middleware/wrapcgi_exec.t .................... skipped: Test requires module 'CGI::Compile' but it's not found
t/Plack-Middleware/xframework.t ...................... ok
t/Plack-Middleware/xsendfile.t ....................... ok
t/Plack-MIME/add_type.t .............................. ok
t/Plack-MIME/basic.t ................................. ok
t/Plack-MIME/fallback.t .............................. skipped: Test requires module 'MIME::Types' but it's not found
t/Plack-Request/base.t ............................... ok
t/Plack-Request/body-unbuffered.t .................... ok
t/Plack-Request/body.t ............................... ok
t/Plack-Request/content-on-get.t ..................... ok
t/Plack-Request/content.t ............................ ok
t/Plack-Request/cookie.t ............................. ok
t/Plack-Request/double_port.t ........................ ok
t/Plack-Request/headers.t ............................ ok
t/Plack-Request/hostname.t ........................... ok
t/Plack-Request/many_upload.t ........................ ok
t/Plack-Request/multi_read.t ......................... ok
t/Plack-Request/new.t ................................ ok
t/Plack-Request/parameters.t ......................... ok
t/Plack-Request/params.t ............................. ok
t/Plack-Request/path_info.t .......................... ok
t/Plack-Request/path_info_escaped.t .................. ok
t/Plack-Request/query_string.t ....................... ok
t/Plack-Request/readbody.t ........................... ok
t/Plack-Request/request_uri.t ........................ ok
t/Plack-Request/upload-basename.t .................... ok
t/Plack-Request/upload-large.t ....................... ok
t/Plack-Request/upload.t ............................. ok
t/Plack-Request/uri.t ................................ ok
t/Plack-Request/uri_utf8.t ........................... ok
t/Plack-Response/body.t .............................. ok
t/Plack-Response/compatible.t ........................ ok
t/Plack-Response/cookie.t ............................ ok
t/Plack-Response/headers.t ........................... ok
t/Plack-Response/new.t ............................... ok
t/Plack-Response/redirect.t .......................... ok
t/Plack-Response/response.t .......................... ok
t/Plack-Response/to_app.t ............................ ok
t/Plack-Runner/options.t ............................. ok
t/Plack-Runner/path.t ................................ skipped: release test only
t/Plack-TempBuffer/print.t ........................... ok
t/Plack-Test/2args.t ................................. ok
t/Plack-Test/cookie.t ................................ ok
t/Plack-Test/hello.t ................................. ok
t/Plack-Test/hello_server.t .......................... ok
t/Plack-Test/suite.t ................................. ok
t/Plack-Util/can.t ................................... ok
t/Plack-Util/foreach.t ............................... ok
t/Plack-Util/header_exists.t ......................... ok
t/Plack-Util/header_get.t ............................ ok
t/Plack-Util/header_push.t ........................... ok
t/Plack-Util/header_remove.t ......................... ok
t/Plack-Util/header_set.t ............................ ok
t/Plack-Util/headers_obj.t ........................... ok
t/Plack-Util/inline_object.t ......................... ok
t/Plack-Util/io_with_path.t .......................... ok
t/Plack-Util/is_real_fh.t ............................ ok
t/Plack-Util/load.t .................................. ok
t/Plack-Util/response_cb.t ........................... ok
All tests successful.
Files=150, Tests=1222, 16 wallclock secs ( 0.14 usr 0.15 sys + 5.34 cusr 1.48 csys = 7.11 CPU)
Result: PASS
------------------------------
PREREQUISITES
------------------------------
Prerequisite modules loaded:
requires:
Module Need Have
--------------------------- -------- --------
Apache::LogFormat::Compiler 0.33 0.36
Cookie::Baker 0.07 0.12
Devel::StackTrace 1.23 2.04
Devel::StackTrace::AsHTML 0.11 0.15
File::ShareDir 1.00 1.118
Filesys::Notify::Simple 0 0.14
Hash::MultiValue 0.05 0.16
HTTP::Entity::Parser 0.25 0.25
HTTP::Headers::Fast 0.18 0.22
HTTP::Message 5.814 6.45
HTTP::Tiny 0.034 0.088
parent 0 0.241
perl 5.012000 5.032001
Pod::Usage 1.36 2.03
Stream::Buffered 0.02 0.03
Test::TCP 2.15 2.22
Try::Tiny 0 0.31
URI 1.59 5.21
WWW::Form::UrlEncoded 0.23 0.26
build_requires:
Module Need Have
--------------------------- -------- --------
ExtUtils::MakeMaker 0 7.70
Test::More 0.88 1.302198
Test::Requires 0 0.11
configure_requires:
Module Need Have
--------------------------- -------- --------
ExtUtils::MakeMaker 0 7.70
File::ShareDir::Install 0.06 0.14
------------------------------
ENVIRONMENT AND OTHER CONTEXT
------------------------------
Environment variables:
LANG = ko_KR.UTF-8
LC_TERMINAL = iTerm2
LC_TERMINAL_VERSION = 3.4.23
NONINTERACTIVE_TESTING = 1
PATH = /Users/chadwick/.anyenv/envs/pyenv/shims:/Users/chadwick/.anyenv/envs/pyenv/bin:/Users/chadwick/.anyenv/envs/nodenv/shims:/Users/chadwick/.anyenv/envs/nodenv/bin:/Users/chadwick/.anyenv/envs/jenv/shims:/Users/chadwick/.anyenv/envs/jenv/bin:/Users/chadwick/.anyenv/envs/goenv/bin:/Users/chadwick/.anyenv/bin:/Users/chadwick/CASE_SENSITIVE_APFS/.rakubrew/versions/moar-2023.09/install/bin:/Users/chadwick/CASE_SENSITIVE_APFS/.rakubrew/versions/moar-2023.09/install/share/perl6/site/bin:/Users/chadwick/perl5/perlbrew/bin:/Users/chadwick/perl5/perlbrew/perls/perl-5.32/bin:/Users/chadwick/bin:/opt/homebrew/bin:/opt/homebrew/sbin:/usr/local/bin:/System/Cryptexes/App/usr/bin:/usr/bin:/bin:/usr/sbin:/sbin:/var/run/com.apple.security.cryptexd/codex.system/bootstrap/usr/local/bin:/var/run/com.apple.security.cryptexd/codex.system/bootstrap/usr/bin:/var/run/com.apple.security.cryptexd/codex.system/bootstrap/usr/appleinternal/bin:/opt/X11/bin:/Library/Apple/usr/bin:/Users/chadwick/.anyenv/envs/goenv/shims
PERL5LIB =
PERL5OPT =
PERL5_CPANPLUS_IS_RUNNING = 5876
PERL5_CPAN_IS_RUNNING = 5876
PERLBREW_HOME = /Users/chadwick/.perlbrew
PERLBREW_MANPATH = /Users/chadwick/perl5/perlbrew/perls/perl-5.32/man
PERLBREW_PATH = /Users/chadwick/perl5/perlbrew/bin:/Users/chadwick/perl5/perlbrew/perls/perl-5.32/bin
PERLBREW_PERL = perl-5.32
PERLBREW_ROOT = /Users/chadwick/perl5/perlbrew
PERLBREW_SHELLRC_VERSION = 0.98
PERLBREW_VERSION = 0.98
PERL_MM_USE_DEFAULT = 1
PERL_USE_UNSAFE_INC = 1
SHELL = /opt/homebrew/bin/bash
TERM = xterm-256color
TMPDIR = /var/folders/67/gvpdjjy932sgfc3cm678s56h0000gn/T/
Perl special variables (and OS-specific diagnostics, for MSWin32):
$^X = /Users/chadwick/CASE_SENSITIVE_APFS/perl5/perlbrew/perls/perl-5.32/bin/perl
$UID/$EUID = 501 / 501
$GID = 20 20 12 61 79 80 81 98 399 701 33 100 204 250 395 398 400
$EGID = 20 20 12 61 79 80 81 98 399 701 33 100 204 250 395 398 400
Perl module toolchain versions installed:
Module Have
------------------- --------
CPAN 2.36
CPAN::Meta 2.150010
Cwd 3.78
ExtUtils::CBuilder 0.280236
ExtUtils::Command 7.70
ExtUtils::Install 2.22
ExtUtils::MakeMaker 7.70
ExtUtils::Manifest 1.75
ExtUtils::ParseXS 3.51
File::Spec 3.78
JSON 4.10
JSON::PP 4.16
Module::Build 0.4234
Module::Signature n/a
Parse::CPAN::Meta 2.150010
Test2 1.302198
Test::Harness 3.48
Test::More 1.302198
YAML 1.31
YAML::Syck 1.34
version 0.9930
--
Summary of my perl5 (revision 5 version 32 subversion 1) configuration:
Platform:
osname=darwin
osvers=21.6.0
archname=darwin-thread-multi-2level
uname='darwin chadwick-m1 21.6.0 darwin kernel version 21.6.0: sat jun 18 17:07:22 pdt 2022; root:xnu-8020.140.41~1release_arm64_t6000 arm64 '
config_args='-de -Dprefix=/Users/chadwick/perl5/perlbrew/perls/perl-5.32 -Dman1dir=none -Dman3dir=none -Dusethreads -Aeval:scriptdir=/Users/chadwick/perl5/perlbrew/perls/perl-5.32/bin'
hint=recommended
useposix=true
d_sigaction=define
useithreads=define
usemultiplicity=define
use64bitint=define
use64bitall=define
uselongdouble=undef
usemymalloc=n
default_inc_excludes_dot=define
bincompat5005=undef
Compiler:
cc='cc'
ccflags ='-fno-common -DPERL_DARWIN -mmacosx-version-min=12.5 -fno-strict-aliasing -pipe -fstack-protector-strong -DPERL_USE_SAFE_PUTENV'
optimize='-O3'
cppflags='-fno-common -DPERL_DARWIN -mmacosx-version-min=12.5 -fno-strict-aliasing -pipe -fstack-protector-strong'
ccversion=''
gccversion='Apple LLVM 13.1.6 (clang-1316.0.21.2.5)'
gccosandvers=''
intsize=4
longsize=8
ptrsize=8
doublesize=8
byteorder=12345678
doublekind=3
d_longlong=define
longlongsize=8
d_longdbl=define
longdblsize=8
longdblkind=0
ivtype='long'
ivsize=8
nvtype='double'
nvsize=8
Off_t='off_t'
lseeksize=8
alignbytes=8
prototype=define
Linker and Libraries:
ld='cc'
ldflags =' -mmacosx-version-min=12.5 -fstack-protector-strong -L/usr/local/lib'
libpth=/Library/Developer/CommandLineTools/usr/lib/clang/13.1.6/lib /Library/Developer/CommandLineTools/SDKs/MacOSX.sdk/usr/lib /Library/Developer/CommandLineTools/usr/lib /usr/local/lib /usr/lib
libs=
perllibs=
libc=
so=dylib
useshrplib=false
libperl=libperl.a
gnulibc_version=''
Dynamic Linking:
dlsrc=dl_dlopen.xs
dlext=bundle
d_dlsymun=undef
ccdlflags=' '
cccdlflags=' '
lddlflags=' -mmacosx-version-min=12.5 -bundle -undefined dynamic_lookup -L/usr/local/lib -fstack-protector-strong'
Characteristics of this binary (from libperl):
Compile-time options:
HAS_TIMES
MULTIPLICITY
PERLIO_LAYERS
PERL_COPY_ON_WRITE
PERL_DONT_CREATE_GVSV
PERL_IMPLICIT_CONTEXT
PERL_MALLOC_WRAP
PERL_OP_PARENT
PERL_PRESERVE_IVUV
PERL_USE_SAFE_PUTENV
USE_64_BIT_ALL
USE_64_BIT_INT
USE_ITHREADS
USE_LARGE_FILES
USE_LOCALE
USE_LOCALE_COLLATE
USE_LOCALE_CTYPE
USE_LOCALE_NUMERIC
USE_LOCALE_TIME
USE_PERLIO
USE_PERL_ATOF
USE_REENTRANT_API
USE_THREAD_SAFE_LOCALE
Locally applied patches:
Devel::PatchPerl 2.08
Built under darwin
Compiled at Aug 13 2022 03:16:24
%ENV:
PERL5LIB=""
PERL5OPT=""
PERL5_CPANPLUS_IS_RUNNING="5876"
PERL5_CPAN_IS_RUNNING="5876"
PERLBREW_HOME="/Users/chadwick/.perlbrew"
PERLBREW_MANPATH="/Users/chadwick/perl5/perlbrew/perls/perl-5.32/man"
PERLBREW_PATH="/Users/chadwick/perl5/perlbrew/bin:/Users/chadwick/perl5/perlbrew/perls/perl-5.32/bin"
PERLBREW_PERL="perl-5.32"
PERLBREW_ROOT="/Users/chadwick/perl5/perlbrew"
PERLBREW_SHELLRC_VERSION="0.98"
PERLBREW_VERSION="0.98"
PERL_MM_USE_DEFAULT="1"
PERL_USE_UNSAFE_INC="1"
@INC:
/Users/chadwick/perl5/perlbrew/perls/perl-5.32/lib/site_perl/5.32.1/darwin-thread-multi-2level
/Users/chadwick/perl5/perlbrew/perls/perl-5.32/lib/site_perl/5.32.1
/Users/chadwick/perl5/perlbrew/perls/perl-5.32/lib/5.32.1/darwin-thread-multi-2level
/Users/chadwick/perl5/perlbrew/perls/perl-5.32/lib/5.32.1
.