Business-CyberSource v0.010008 Perl 5 v5.18.4 x86_64-linux
- Status
- Pass
- From
- Oleg Pronin (SYBER)
- Dist
-
Business-CyberSource v0.010008
- Platform
- Perl 5 v5.18.4 x86_64-linux
- Date
- 2019-08-07 17:45:27
- ID
- 240b3502-b93b-11e9-a527-c4d52958ff60
This distribution has been tested as part of the CPAN Testers
project, supporting the Perl programming language. See
http://wiki.cpantesters.org/ for more information or email
questions to cpan-testers-discuss@perl.org
--
Dear Allie Gator,
This is a computer-generated report for Business-CyberSource-0.010008
on perl 5.18.4, created by CPAN-Reporter-1.2018.
Thank you for uploading your work to CPAN. Congratulations!
All tests were successful.
Sections of this report:
* Tester comments
* Program output
* Prerequisites
* Environment and other context
------------------------------
TESTER COMMENTS
------------------------------
Additional comments from tester:
this report is from an automated smoke testing program
and was not reviewed by a human for accuracy
------------------------------
PROGRAM OUTPUT
------------------------------
Output from '/usr/bin/make test':
Skip blib/lib/auto/share/dist/Business-CyberSource/test/CyberSourceTransaction_1_71.wsdl (unchanged)
Skip blib/lib/auto/share/dist/Business-CyberSource/test/CyberSourceTransaction_1_71.xsd (unchanged)
Skip blib/lib/auto/share/dist/Business-CyberSource/production/CyberSourceTransaction_1_71.wsdl (unchanged)
Skip blib/lib/auto/share/dist/Business-CyberSource/production/CyberSourceTransaction_1_71.xsd (unchanged)
PERL_DL_NONLAZY=1 "/home/syber/perl5/perlbrew/perls/5.18.4/bin/perl" "-MExtUtils::Command::MM" "-MTest::Harness" "-e" "undef *Test::Harness::Switches; test_harness(0, 'blib/lib', 'blib/arch')" t/*.t
t/00-compile.t ............................. ok
#
# Versions for all modules listed in MYMETA.json (including optional ones):
#
# === Configure Requires ===
#
# Module Want Have
# ----------------------- ---- -------
# ExtUtils::MakeMaker any 7.37_03
# File::ShareDir::Install 0.06 0.13
#
# === Build Requires ===
#
# Module Want Have
# ------------------- ---- -------
# ExtUtils::MakeMaker any 7.37_03
#
# === Test Requires ===
#
# Module Want Have
# -------------------- ---- --------
# Business::CreditCard 0.32 0.36
# DateTime any 1.51
# ExtUtils::MakeMaker any 7.37_03
# File::Spec any 3.75
# FindBin any 1.51
# IO::Handle any 1.39
# IPC::Open3 any 1.13
# Test::Deep any 1.128
# Test::Fatal any 0.015
# Test::Method any 0.001002
# Test::Moose any 2.2011
# Test::More any 1.302164
# Test::Requires any 0.10
# blib 1.01 1.06
# lib any 0.63
#
# === Test Recommends ===
#
# Module Want Have
# ------------ -------- --------
# Bread::Board 0.25 0.37
# CPAN::Meta 2.120900 2.150010
#
# === Runtime Requires ===
#
# Module Want Have
# -------------------------------------------- -------- ---------
# Business::CreditCard 0.32 0.36
# DateTime::Format::W3CDTF 0.06 0.07_01
# File::ShareDir::ProjectDistDir 1.000 1.000009
# LWP::Protocol::https any 6.07
# Module::Load any 0.34
# Module::Runtime any 0.016
# Moose any 2.2011
# Moose::Exception any 2.2011
# Moose::Exception::AttributeIsRequired any 2.2011
# Moose::Role any 2.2011
# Moose::Util any 2.2011
# Moose::Util::TypeConstraints any 2.2011
# MooseX::AbstractFactory any 0.004003
# MooseX::Aliases any 0.11
# MooseX::RemoteHelper any 0.001021
# MooseX::RemoteHelper::CompositeSerialization any 0.001021
# MooseX::RemoteHelper::Types any 0.001021
# MooseX::SetOnce 0.200001 0.200002
# MooseX::Types any 0.50
# MooseX::Types::Common::Numeric 0.001003 0.001014
# MooseX::Types::Common::String 0.001005 0.001014
# MooseX::Types::CreditCard 0.002 0.002003
# MooseX::Types::DateTime any 0.13
# MooseX::Types::DateTime::W3C any 1.103360
# MooseX::Types::Email any 0.008
# MooseX::Types::Locale::Country any 0.05
# MooseX::Types::Locale::Currency any 0.001005
# MooseX::Types::Moose any 0.50
# MooseX::Types::NetAddr::IP any 0.07
# MooseY::RemoteHelper::MessagePart any 0.001021
# MooseY::RemoteHelper::Role::Client any 0.001021
# Type::Params any 1.005_003
# Type::Utils 0.040 1.005_003
# Types::Standard any 1.005_003
# XML::Compile::SOAP11 any 3.24
# XML::Compile::SOAP::WSS 1.04 1.14
# XML::Compile::Transport::SOAPHTTP any 3.24
# XML::Compile::WSDL11 any 3.07
# namespace::autoclean any 0.28
# strict any 1.07
# warnings any 1.18
#
t/00-report-prereqs.t ...................... ok
t/auth-reversal.t .......................... ok
street deprecated check the perldoc for the actual attribute at /home/syber/perl5/perlbrew/perls/5.18.4/lib/site_perl/5.18.4/x86_64-linux/Class/MOP/Method/Wrapped.pm line 164.
street deprecated check the perldoc for the actual attribute at /home/syber/perl5/perlbrew/perls/5.18.4/lib/site_perl/5.18.4/x86_64-linux/Class/MOP/Method/Wrapped.pm line 164.
street deprecated check the perldoc for the actual attribute at /home/syber/perl5/perlbrew/perls/5.18.4/lib/site_perl/5.18.4/x86_64-linux/Class/MOP/Method/Wrapped.pm line 164.
t/authorization.t .......................... ok
street deprecated check the perldoc for the actual attribute at /home/syber/perl5/perlbrew/perls/5.18.4/lib/site_perl/5.18.4/x86_64-linux/Class/MOP/Method/Wrapped.pm line 164.
zip deprecated check the perldoc for the actual attribute at /home/syber/perl5/perlbrew/perls/5.18.4/lib/site_perl/5.18.4/x86_64-linux/Class/MOP/Method/Wrapped.pm line 164.
street deprecated check the perldoc for the actual attribute at /home/syber/perl5/perlbrew/perls/5.18.4/lib/site_perl/5.18.4/x86_64-linux/Class/MOP/Method/Wrapped.pm line 164.
street deprecated check the perldoc for the actual attribute at /home/syber/perl5/perlbrew/perls/5.18.4/lib/site_perl/5.18.4/x86_64-linux/Class/MOP/Method/Wrapped.pm line 164.
t/billto-exceptions.t ...................... ok
t/billto.t ................................. ok
t/business-rules.t ......................... ok
t/capture.t ................................ ok
t/card.t ................................... ok
t/client.t ................................. ok
street deprecated check the perldoc for the actual attribute at /home/syber/perl5/perlbrew/perls/5.18.4/lib/site_perl/5.18.4/x86_64-linux/Class/MOP/Method/Wrapped.pm line 164.
t/credit.t ................................. ok
t/dcc-autorization.t ....................... ok
t/dcc.t .................................... ok
t/error-exception.t ........................ ok
street deprecated check the perldoc for the actual attribute at /home/syber/perl5/perlbrew/perls/5.18.4/lib/site_perl/5.18.4/x86_64-linux/Class/MOP/Method/Wrapped.pm line 164.
t/exceptions.t ............................. ok
t/factory-request.t ........................ ok
t/invoiceheader.t .......................... ok
t/item-serialization.t ..................... ok
t/items.t .................................. ok
t/othertax.t ............................... ok
t/purchase-totals.t ........................ ok
t/response-removed-methods-successfully.t .. ok
t/response-sale.t .......................... ok
t/response.t ............................... ok
t/rule-expired-card.t ...................... skipped: Unable to send with fake credentials. Set both PERL_BUSINESS_CYBERSOURCE_USERNAME and PERL_BUSINESS_CYBERSOURCE_PASSWORD in the environment
t/rule-request-id-is-zero.t ................ skipped: Unable to send with fake credentials. Set both PERL_BUSINESS_CYBERSOURCE_USERNAME and PERL_BUSINESS_CYBERSOURCE_PASSWORD in the environment
t/service.t ................................ ok
t/shipfrom.t ............................... ok
t/shipto-exceptions.t ...................... ok
t/shipto.t ................................. ok
All tests successful.
Files=30, Tests=313, 36 wallclock secs ( 0.08 usr 0.04 sys + 33.58 cusr 2.05 csys = 35.75 CPU)
Result: PASS
------------------------------
PREREQUISITES
------------------------------
Prerequisite modules loaded:
requires:
Module Need Have
-------------------------------------------- -------- ---------
Business::CreditCard 0.32 0.36
DateTime::Format::W3CDTF 0.06 0.07_01
File::ShareDir::ProjectDistDir 1.000 1.000009
LWP::Protocol::https 0 6.07
Module::Load 0 0.34
Module::Runtime 0 0.016
Moose 0 2.2011
Moose::Exception 0 2.2011
Moose::Exception::AttributeIsRequired 0 2.2011
Moose::Role 0 2.2011
Moose::Util 0 2.2011
Moose::Util::TypeConstraints 0 2.2011
MooseX::AbstractFactory 0 0.004003
MooseX::Aliases 0 0.11
MooseX::RemoteHelper 0 0.001021
MooseX::RemoteHelper::CompositeSerialization 0 0.001021
MooseX::RemoteHelper::Types 0 0.001021
MooseX::SetOnce 0.200001 0.200002
MooseX::Types 0 0.50
MooseX::Types::Common::Numeric 0.001003 0.001014
MooseX::Types::Common::String 0.001005 0.001014
MooseX::Types::CreditCard 0.002 0.002003
MooseX::Types::DateTime 0 0.13
MooseX::Types::DateTime::W3C 0 1.103360
MooseX::Types::Email 0 0.008
MooseX::Types::Locale::Country 0 0.05
MooseX::Types::Locale::Currency 0 0.001005
MooseX::Types::Moose 0 0.50
MooseX::Types::NetAddr::IP 0 0.07
MooseY::RemoteHelper::MessagePart 0 0.001021
MooseY::RemoteHelper::Role::Client 0 0.001021
namespace::autoclean 0 0.28
perl 5.010 5.018004
strict 0 1.07
Type::Params 0 1.005_003
Type::Utils 0.040 1.005_003
Types::Standard 0 1.005_003
warnings 0 1.18
XML::Compile::SOAP11 0 3.24
XML::Compile::SOAP::WSS 1.04 1.14
XML::Compile::Transport::SOAPHTTP 0 3.24
XML::Compile::WSDL11 0 3.07
build_requires:
Module Need Have
-------------------------------------------- -------- ---------
blib 1.01 1.06
Business::CreditCard 0.32 0.36
DateTime 0 1.51
ExtUtils::MakeMaker 0 7.37_03
File::Spec 0 3.75
FindBin 0 1.51
IO::Handle 0 1.39
IPC::Open3 0 1.13
lib 0 0.63
Test::Deep 0 1.128
Test::Fatal 0 0.015
Test::Method 0 0.001002
Test::Moose 0 2.2011
Test::More 0 1.302164
Test::Requires 0 0.10
configure_requires:
Module Need Have
-------------------------------------------- -------- ---------
ExtUtils::MakeMaker 0 7.37_03
File::ShareDir::Install 0.06 0.13
opt_build_requires:
Module Need Have
-------------------------------------------- -------- ---------
Bread::Board 0.25 0.37
CPAN::Meta 2.120900 2.150010
------------------------------
ENVIRONMENT AND OTHER CONTEXT
------------------------------
Environment variables:
AUTOMATED_TESTING = 1
LC_COLLATE = ru_RU.utf8
LC_CTYPE = ru_RU.utf8
PATH = /home/syber/perl5/perlbrew/bin:/home/syber/perl5/perlbrew/perls/5.18.4/bin:/usr/local/bin:/usr/bin:/bin:/usr/local/games:/usr/games
PERL5LIB =
PERL5OPT =
PERL5_CPANPLUS_IS_RUNNING = 26921
PERL5_CPAN_IS_RUNNING = 26921
PERL5_CPAN_IS_RUNNING_IN_RECURSION = 24915,26921
PERLBREW_HOME = /home/syber/.perlbrew
PERLBREW_MANPATH = /home/syber/perl5/perlbrew/perls/5.18.4/man
PERLBREW_PATH = /home/syber/perl5/perlbrew/bin:/home/syber/perl5/perlbrew/perls/5.18.4/bin
PERLBREW_PERL = 5.18.4
PERLBREW_ROOT = /home/syber/perl5/perlbrew
PERLBREW_SHELLRC_VERSION = 0.86
PERLBREW_VERSION = 0.86
PERL_CR_SMOKER_CURRENT = Business-CyberSource-0.010008
PERL_EXTUTILS_AUTOINSTALL = --defaultdeps
PERL_MM_USE_DEFAULT = 1
PERL_USE_UNSAFE_INC = 1
SHELL = /bin/bash
TERM = screen
Perl special variables (and OS-specific diagnostics, for MSWin32):
$^X = /home/syber/perl5/perlbrew/perls/5.18.4/bin/perl
$UID/$EUID = 1003 / 1003
$GID = 1003 11 1003
$EGID = 1003 11 1003
Perl module toolchain versions installed:
Module Have
------------------- ---------
CPAN 2.27
CPAN::Meta 2.150010
Cwd 3.75
ExtUtils::CBuilder 0.280231
ExtUtils::Command 7.37_03
ExtUtils::Install 2.14
ExtUtils::MakeMaker 7.37_03
ExtUtils::Manifest 1.72
ExtUtils::ParseXS 3.36_03
File::Spec 3.75
JSON 4.02
JSON::PP 4.04
Module::Build 0.42_30
Module::Signature 0.83
Parse::CPAN::Meta 2.150010
Test::Harness 3.42
Test::More 1.302164
YAML 1.29
YAML::Syck 1.31
version 0.9924_02
--
Summary of my perl5 (revision 5 version 18 subversion 4) configuration:
Platform:
osname=linux, osvers=4.9.0-8-amd64, archname=x86_64-linux
uname='linux dexter.crazypanda.ru 4.9.0-8-amd64 #1 smp debian 4.9.110-3+deb9u6 (2018-10-08) x86_64 gnulinux '
config_args='-de -Dprefix=/home/syber/perl5/perlbrew/perls/5.18.4 -Aeval:scriptdir=/home/syber/perl5/perlbrew/perls/5.18.4/bin'
hint=recommended, useposix=true, d_sigaction=define
useithreads=undef, usemultiplicity=undef
useperlio=define, d_sfio=undef, uselargefiles=define, usesocks=undef
use64bitint=define, use64bitall=define, uselongdouble=undef
usemymalloc=n, bincompat5005=undef
Compiler:
cc='cc', ccflags ='-fwrapv -fno-strict-aliasing -pipe -fstack-protector -I/usr/local/include -D_LARGEFILE_SOURCE -D_FILE_OFFSET_BITS=64',
optimize='-O2',
cppflags='-fwrapv -fno-strict-aliasing -pipe -fstack-protector -I/usr/local/include'
ccversion='', gccversion='6.3.0 20170516', gccosandvers=''
intsize=4, longsize=8, ptrsize=8, doublesize=8, byteorder=12345678
d_longlong=define, longlongsize=8, d_longdbl=define, longdblsize=16
ivtype='long', ivsize=8, nvtype='double', nvsize=8, Off_t='off_t', lseeksize=8
alignbytes=8, prototype=define
Linker and Libraries:
ld='cc', ldflags =' -fstack-protector -L/usr/local/lib'
libpth=/usr/local/lib /lib/x86_64-linux-gnu /lib/../lib /usr/lib/x86_64-linux-gnu /usr/lib/../lib /lib /usr/lib
libs=-lnsl -ldl -lm -lcrypt -lutil -lc
perllibs=-lnsl -ldl -lm -lcrypt -lutil -lc
libc=libc-2.24.so, so=so, useshrplib=false, libperl=libperl.a
gnulibc_version='2.24'
Dynamic Linking:
dlsrc=dl_dlopen.xs, dlext=so, d_dlsymun=undef, ccdlflags='-Wl,-E'
cccdlflags='-fPIC', lddlflags='-shared -O2 -L/usr/local/lib -fstack-protector'
Characteristics of this binary (from libperl):
Compile-time options: HAS_TIMES PERLIO_LAYERS PERL_DONT_CREATE_GVSV
PERL_HASH_FUNC_ONE_AT_A_TIME_HARD PERL_MALLOC_WRAP
PERL_PRESERVE_IVUV PERL_SAWAMPERSAND USE_64_BIT_ALL
USE_64_BIT_INT USE_LARGE_FILES USE_LOCALE
USE_LOCALE_COLLATE USE_LOCALE_CTYPE
USE_LOCALE_NUMERIC USE_PERLIO USE_PERL_ATOF
Locally applied patches:
Devel::PatchPerl 1.64
Built under linux
Compiled at Aug 5 2019 14:02:29
%ENV:
PERL5LIB=""
PERL5OPT=""
PERL5_CPANPLUS_IS_RUNNING="26921"
PERL5_CPAN_IS_RUNNING="26921"
PERL5_CPAN_IS_RUNNING_IN_RECURSION="24915,26921"
PERLBREW_HOME="/home/syber/.perlbrew"
PERLBREW_MANPATH="/home/syber/perl5/perlbrew/perls/5.18.4/man"
PERLBREW_PATH="/home/syber/perl5/perlbrew/bin:/home/syber/perl5/perlbrew/perls/5.18.4/bin"
PERLBREW_PERL="5.18.4"
PERLBREW_ROOT="/home/syber/perl5/perlbrew"
PERLBREW_SHELLRC_VERSION="0.86"
PERLBREW_VERSION="0.86"
PERL_CR_SMOKER_CURRENT="Business-CyberSource-0.010008"
PERL_EXTUTILS_AUTOINSTALL="--defaultdeps"
PERL_MM_USE_DEFAULT="1"
PERL_USE_UNSAFE_INC="1"
@INC:
/home/syber/perl5/perlbrew/perls/5.18.4/lib/site_perl/5.18.4/x86_64-linux
/home/syber/perl5/perlbrew/perls/5.18.4/lib/site_perl/5.18.4
/home/syber/perl5/perlbrew/perls/5.18.4/lib/5.18.4/x86_64-linux
/home/syber/perl5/perlbrew/perls/5.18.4/lib/5.18.4
.