Devel-CheckLib v1.16 Perl 5 v5.20.0 cygwin-thread-multi

Status
Pass
From
Peter John Acklam (PJACKLAM)
Dist
Devel-CheckLib v1.16
Platform
Perl 5 v5.20.0 cygwin-thread-multi
Date
2024-06-13 07:32:42
ID
23d3fc30-6c5d-1014-89ef-c55a9ec4f0fb
This distribution has been tested as part of the CPAN Testers
project, supporting the Perl programming language.  See
http://wiki.cpantesters.org/ for more information or email
questions to cpan-testers-discuss@perl.org


--
Dear Yasuhiro Matsumoto,

This is a computer-generated report for Devel-CheckLib-1.16
on perl 5.20.0, created by CPAN-Reporter-1.2019.

Thank you for uploading your work to CPAN.  Congratulations!
All tests were successful.

Sections of this report:

    * Tester comments
    * Program output
    * Prerequisites
    * Environment and other context

------------------------------
TESTER COMMENTS
------------------------------

Additional comments from tester:

this report is from an automated smoke testing program
and was not reviewed by a human for accuracy

------------------------------
PROGRAM OUTPUT
------------------------------

Output from '/usr/bin/make test':

PERL_DL_NONLAZY=1 /cygdrive/d/opt/perl5/cygwin_nt-10.0/3.4.5/x86_64/perl/5.20.0/x86_64-cygwin-thread-multi/bin/perl5.20.0.exe "-MExtUtils::Command::MM" "-MTest::Harness" "-e" "undef *Test::Harness::Switches; test_harness(0, 'blib/lib', 'blib/arch')" t/*.t
t/00-load.t ................... ok
t/analyze-binary.t ............ ok
t/bad-single-word-compiler.t .. ok
t/cmdline-LIBS-INC.t .......... ok
t/custom-function.t ........... ok
t/dash-l-libs.t ............... ok
t/exit_with_message.t ......... ok
t/flags.t ..................... ok
t/found.t ..................... ok
t/headers.t ................... ok
t/multi-word-compiler.t ....... ok
t/not_found.t ................. ok
All tests successful.
Files=12, Tests=42, 83 wallclock secs ( 0.12 usr  0.77 sys + 12.99 cusr 48.10 csys = 61.98 CPU)
Result: PASS

------------------------------
PREREQUISITES
------------------------------

Prerequisite modules loaded:

requires:

    Module              Need    Have    
    ------------------- ------- --------
    Exporter            0       5.70    
    File::Spec          0       3.47    
    File::Temp          0.16    0.2304  
    perl                5.00405 5.020000

build_requires:

    Module              Need    Have    
    ------------------- ------- --------
    Capture::Tiny       0       0.48    
    ExtUtils::MakeMaker 0       6.98    
    Mock::Config        0.02    0.03    
    Test::More          0.88    1.302199

configure_requires:

    Module              Need    Have    
    ------------------- ------- --------
    ExtUtils::MakeMaker 0       6.98    


------------------------------
ENVIRONMENT AND OTHER CONTEXT
------------------------------

Environment variables:

    AUTOMATED_TESTING = 1
    COMSPEC = C:\WINDOWS\system32\cmd.exe
    NUMBER_OF_PROCESSORS = 8
    PATH = /opt/perl5/cygwin_nt-10.0/3.4.5/x86_64/perl/5.20.0/x86_64-cygwin-thread-multi/bin:/opt/perl5/cygwin_nt-10.0/3.4.5/x86_64/perl/5.20.0/x86_64-cygwin-thread-multi/local/bin:/usr/lib/lapack:/usr/local/bin:/usr/bin:/bin
    PERL5LIB = /opt/perl5/cygwin_nt-10.0/3.4.5/x86_64/perl/5.20.0/x86_64-cygwin-thread-multi/local/lib/perl5:/opt/perl5/cygwin_nt-10.0/3.4.5/x86_64/perl/5.20.0/x86_64-cygwin-thread-multi/local/lib/site_perl:/opt/perl5/cygwin_nt-10.0/3.4.5/x86_64/perl/5.20.0/x86_64-cygwin-thread-multi/local/lib
    PERL5OPT = 
    PERL5_CPANPLUS_IS_RUNNING = 41488
    PERL5_CPAN_IS_RUNNING = 41488
    PERL_CANARY_STABILITY_NOPROMPT = 1
    PERL_CPAN_REPORTER_CONFIG = /cygdrive/d/home/peter/.cpanreporter/config-cygwin-rigel.ini
    PERL_EXTUTILS_AUTOINSTALL = 1
    PERL_MB_OPT = --install_base /opt/perl5/cygwin_nt-10.0/3.4.5/x86_64/perl/5.20.0/x86_64-cygwin-thread-multi/local
    PERL_MM_OPT = INSTALL_BASE=/opt/perl5/cygwin_nt-10.0/3.4.5/x86_64/perl/5.20.0/x86_64-cygwin-thread-multi/local
    PERL_MM_USE_DEFAULT = 1
    PERL_TEST_CRITIC = 1
    PERL_TEST_CRITIC = 1
    PERL_TEST_POD = 1
    PERL_TEST_POD = 1
    PERL_USE_UNSAFE_INC = 1
    POD_TESTING = 1
    POD_TESTS = 1
    PROCESSOR_IDENTIFIER = Intel64 Family 6 Model 42 Stepping 7, GenuineIntel
    SHELL = /bin/bash
    TEMP = /tmp
    TERM = xterm

Perl special variables (and OS-specific diagnostics, for MSWin32):

    $^X = /cygdrive/d/opt/perl5/cygwin_nt-10.0/3.4.5/x86_64/perl/5.20.0/x86_64-cygwin-thread-multi/bin/perl5.20.0
    $UID/$EUID = 197609 / 197609
    $GID = 197609 401408 545 4 66049 11 15 68380 113 4095 66048 262180
    $EGID = 197609 401408 545 4 66049 11 15 68380 113 4095 66048 262180

Perl module toolchain versions installed:

    Module              Have    
    ------------------- --------
    CPAN                2.36    
    CPAN::Meta          2.150010
    Cwd                 3.47    
    ExtUtils::CBuilder  0.280216
    ExtUtils::Command   1.18    
    ExtUtils::Install   1.67    
    ExtUtils::MakeMaker 6.98    
    ExtUtils::Manifest  1.63    
    ExtUtils::ParseXS   3.51    
    File::Spec          3.47    
    JSON                n/a     
    JSON::PP            4.16    
    Module::Build       0.4234  
    Module::Signature   n/a     
    Parse::CPAN::Meta   2.150010
    Test2               1.302199
    Test::Harness       3.30    
    Test::More          1.302199
    YAML                1.31    
    YAML::Syck          n/a     
    version             0.9908  


--

Summary of my perl5 (revision 5 version 20 subversion 0) configuration:
   
  Platform:
    osname=cygwin, osvers=3.4.5-1.x86_64, archname=cygwin-thread-multi
    uname='cygwin_nt-10.0-19045 rigel 3.4.5-1.x86_64 2023-01-19 19:09 utc x86_64 cygwin '
    config_args='-de -Dmksymlinks -Uinc_version_list -Uinstallusrbinperl -Dusethreads -Dusemultiplicity -Dusequadmath -Uloclibpth -Dlibpth=/usr/lib /usr/lib/gcc/x86_64-pc-cygwin/11 -Dprefix=/opt/perl5/cygwin_nt-10.0/3.4.5/x86_64/perl/5.20.0/x86_64-cygwin-thread-multi -Darchname=x86_64-cygwin-thread-multi'
    hint=recommended, useposix=true, d_sigaction=define
    useithreads=define, usemultiplicity=define
    use64bitint=define, use64bitall=define, uselongdouble=undef
    usemymalloc=n, bincompat5005=undef
  Compiler:
    cc='gcc', ccflags ='-U__STRICT_ANSI__ -D_GNU_SOURCE -fwrapv -fpcc-struct-return -pipe -fstack-protector',
    optimize='-O3',
    cppflags='-U__STRICT_ANSI__ -D_GNU_SOURCE -fwrapv -fpcc-struct-return -pipe -fstack-protector -D__GNUC__'
    ccversion='', gccversion='11.3.0', gccosandvers=''
    intsize=4, longsize=8, ptrsize=8, doublesize=8, byteorder=12345678
    d_longlong=define, longlongsize=8, d_longdbl=define, longdblsize=16
    ivtype='long', ivsize=8, nvtype='double', nvsize=8, Off_t='off_t', lseeksize=8
    alignbytes=8, prototype=define
  Linker and Libraries:
    ld='g++', ldflags =' -Wl,--enable-auto-import -Wl,--export-all-symbols -Wl,--enable-auto-image-base -fstack-protector'
    libpth=/usr/lib /usr/lib/gcc/x86_64-pc-cygwin/11 /usr/lib /usr/lib/gcc/x86_64-pc-cygwin/11/../../../../lib/../include/w32api /lib /usr/local/lib
    libs=-ldl
    perllibs=-ldl
    libc=/usr/lib/libcygwin.a, so=dll, useshrplib=true, libperl=cygperl5_20_0.dll
    gnulibc_version=''
  Dynamic Linking:
    dlsrc=dl_dlopen.xs, dlext=dll, d_dlsymun=undef, ccdlflags=' '
    cccdlflags=' ', lddlflags=' --shared  -Wl,--enable-auto-import -Wl,--export-all-symbols -Wl,--enable-auto-image-base -fstack-protector'


Characteristics of this binary (from libperl): 
  Compile-time options: HAS_TIMES MULTIPLICITY PERLIO_LAYERS
                        PERL_DONT_CREATE_GVSV
                        PERL_HASH_FUNC_ONE_AT_A_TIME_HARD
                        PERL_IMPLICIT_CONTEXT PERL_NEW_COPY_ON_WRITE
                        PERL_PRESERVE_IVUV USE_64_BIT_ALL USE_64_BIT_INT
                        USE_ITHREADS USE_LARGE_FILES USE_LOCALE
                        USE_LOCALE_COLLATE USE_LOCALE_CTYPE
                        USE_LOCALE_NUMERIC USE_PERLIO USE_PERL_ATOF
                        USE_REENTRANT_API
  Built under cygwin
  Compiled at May 11 2024 21:43:19
  %ENV:
    PERL5LIB="/opt/perl5/cygwin_nt-10.0/3.4.5/x86_64/perl/5.20.0/x86_64-cygwin-thread-multi/local/lib/perl5:/opt/perl5/cygwin_nt-10.0/3.4.5/x86_64/perl/5.20.0/x86_64-cygwin-thread-multi/local/lib/site_perl:/opt/perl5/cygwin_nt-10.0/3.4.5/x86_64/perl/5.20.0/x86_64-cygwin-thread-multi/local/lib"
    PERL5OPT=""
    PERL5_CPANPLUS_IS_RUNNING="41488"
    PERL5_CPAN_IS_RUNNING="41488"
    PERL_CANARY_STABILITY_NOPROMPT="1"
    PERL_CPAN_REPORTER_CONFIG="/cygdrive/d/home/peter/.cpanreporter/config-cygwin-rigel.ini"
    PERL_EXTUTILS_AUTOINSTALL="1"
    PERL_MB_OPT="--install_base /opt/perl5/cygwin_nt-10.0/3.4.5/x86_64/perl/5.20.0/x86_64-cygwin-thread-multi/local"
    PERL_MM_OPT="INSTALL_BASE=/opt/perl5/cygwin_nt-10.0/3.4.5/x86_64/perl/5.20.0/x86_64-cygwin-thread-multi/local"
    PERL_MM_USE_DEFAULT="1"
    PERL_TEST_CRITIC="1"
    PERL_TEST_POD="1"
    PERL_USE_UNSAFE_INC="1"
  @INC:
    /opt/perl5/cygwin_nt-10.0/3.4.5/x86_64/perl/5.20.0/x86_64-cygwin-thread-multi/local/lib/perl5/cygwin-thread-multi
    /opt/perl5/cygwin_nt-10.0/3.4.5/x86_64/perl/5.20.0/x86_64-cygwin-thread-multi/local/lib/perl5
    /opt/perl5/cygwin_nt-10.0/3.4.5/x86_64/perl/5.20.0/x86_64-cygwin-thread-multi/local/lib/site_perl
    /opt/perl5/cygwin_nt-10.0/3.4.5/x86_64/perl/5.20.0/x86_64-cygwin-thread-multi/local/lib
    /opt/perl5/cygwin_nt-10.0/3.4.5/x86_64/perl/5.20.0/x86_64-cygwin-thread-multi/lib/site_perl/5.20.0/cygwin-thread-multi
    /opt/perl5/cygwin_nt-10.0/3.4.5/x86_64/perl/5.20.0/x86_64-cygwin-thread-multi/lib/site_perl/5.20.0
    /opt/perl5/cygwin_nt-10.0/3.4.5/x86_64/perl/5.20.0/x86_64-cygwin-thread-multi/lib/5.20.0/cygwin-thread-multi
    /opt/perl5/cygwin_nt-10.0/3.4.5/x86_64/perl/5.20.0/x86_64-cygwin-thread-multi/lib/5.20.0
    .