Google-Ads-AdWords-Client v5.5.0 Perl 5 v5.14.2 x86_64-linux-thread-multi

Status
Pass
From
Nigel Horne
Dist
Google-Ads-AdWords-Client v5.5.0
Platform
Perl 5 v5.14.2 x86_64-linux-thread-multi
Date
2018-07-31 09:00:14
ID
23a639ce-94a0-11e8-9497-9e6cbe9bcd2c
This distribution has been tested as part of the CPAN Testers
project, supporting the Perl programming language.  See
http://wiki.cpantesters.org/ for more information or email
questions to cpan-testers-discuss@perl.org


--
Dear Nadine Sundquist,

This is a computer-generated report for Google-Ads-AdWords-Client-5.5.0
on perl 5.14.2, created by CPAN-Reporter-1.2018.

Thank you for uploading your work to CPAN.  Congratulations!
All tests were successful.

Sections of this report:

    * Tester comments
    * Program output
    * Prerequisites
    * Environment and other context

------------------------------
TESTER COMMENTS
------------------------------

Additional comments from tester:

this report is from an automated smoke testing program
and was not reviewed by a human for accuracy

------------------------------
PROGRAM OUTPUT
------------------------------

Output from './Build test':

t/001_require.t ....................... ok
t/011_Client.t ........................ ok
t/012_Serializer.t .................... ok
 clientCustomerId=INSERT_CLIENT_CUSTOMER_ID_HERE server=https://adwords.google.com service=CampaignService method=get responseTime=2429 requestId=07a93c67b1dd3ff5242c98d436ba7043 operations=1 isFault=yes faultMessage=[PolicyViolationError.POLICY_ERROR @ operations[0].operand.criterion.text; trigger:'MED'] at /home/njh/.cpan/build/Google-Ads-AdWords-Client-5.5.0-4/blib/lib/Google/Ads/AdWords/Deserializer.pm line 83
t/013_Deserializer.t .................. ok
t/014_XPathSAXParser.t ................ ok
 clientCustomerId=INSERT_CLIENT_CUSTOMER_ID_HERE server=https://adwords.google.com service=CampaignService method=get responseTime=2429 requestId=07a93c67b1dd3ff5242c98d436ba7043 operations=1 isFault=yes faultMessage=[RequiredError.REQUIRED @ operations[0].operand.advertisingChannelType] at lib/Google/Ads/AdWords/Deserializer.pm line 83
t/015_RequestStats.t .................. ok
t/017_OAuth2ApplicationsHandler.t ..... ok
t/018_MapUtils.t ...................... ok
t/019_OAuth2ServiceAccountsHandler.t .. ok
t/020_GenerateOfflineCredentials.t .... ok
t/021_ReportingConfiguration.t ........ ok
t/022_ReportUtils.t ................... ok
t/023_AdsUtilityRegistry.t ............ ok
t/024_BatchJobHandler.t ............... ok
t/025_ReportQueryBuilder.t ............ ok
t/026_ServiceQueryBuilder.t ........... ok
All tests successful.
Files=16, Tests=3297, 10 wallclock secs ( 0.26 usr  0.04 sys +  6.07 cusr  0.58 csys =  6.95 CPU)
Result: PASS

------------------------------
PREREQUISITES
------------------------------

Prerequisite modules loaded:

requires:

    Module                    Need    Have      
    ------------------------- ------- ----------
    Class::Load               0       0.24      
    Class::Std::Fast          0       0.0.8     
    Crypt::OpenSSL::RSA       0       0.28      
    Cwd                       0       3.74      
    Data::Uniqid              0       0.12      
    Date::Format              0       2.24      
    Date::Parse               0       2.30      
    Digest::SHA               0       5.96      
    File::Basename            0       2.82      
    File::HomeDir             0       1.004     
    File::Path                0       2.12      
    File::Spec                0       3.74      
    File::Temp                0       0.2304    
    Getopt::Long              0       2.49      
    HTTP::Server::Simple::CGI 0       0         
    IO::Socket::SSL           0       2.048     
    JSON::Parse               0       0.49      
    List::Util                0       1.47      
    Log::Log4perl             0       1.49      
    LWP::Protocol::https      0       6.07      
    LWP::UserAgent            0       6.35      
    Math::Random::MT          0       1.17      
    perl                      v5.14.0 5.014002  
    POSIX                     0       1.24      
    SOAP::WSDL                v2.0.10 3.003     
    Template                  0       2.25      
    URI::Escape               0       3.31      
    XML::LibXML               0       2.0106    
    XML::Simple               0       2.20      
    XML::XPath                0       1.42      

build_requires:

    Module                    Need    Have      
    ------------------------- ------- ----------
    Class::Std::Fast          v0.0.5  0.0.8     
    Config::Properties        0       1.80      
    Module::Build             0       0.4218    
    Test::Deep                0       1.124     
    Test::Exception           0       0.43      
    Test::MockObject          0       1.20180705
    Test::MockObject::Extends 0       1.20180705
    Test::More                0       1.302136  

configure_requires:

    Module                    Need    Have      
    ------------------------- ------- ----------
    Module::Build             0.42    0.4218    


------------------------------
ENVIRONMENT AND OTHER CONTEXT
------------------------------

Environment variables:

    AUTOMATED_TESTING = 1
    LANG = en_GB.UTF-8
    LANGUAGE = en_GB:en
    PATH = /home/njh/perl5/perlbrew/bin:/home/njh/perl5/perlbrew/perls/perl-5.14.2/bin:/home/njh/perl5/perlbrew/bin:/usr/bin:/bin
    PERL5LIB = /home/njh/.cpan/build/XML-XPath-1.42-3/blib/arch:/home/njh/.cpan/build/XML-XPath-1.42-3/blib/lib:/home/njh/.cpan/build/SOAP-WSDL-3.003-4/blib/arch:/home/njh/.cpan/build/SOAP-WSDL-3.003-4/blib/lib:/home/njh/.cpan/build/Math-Random-MT-1.17-4/blib/arch:/home/njh/.cpan/build/Math-Random-MT-1.17-4/blib/lib:/home/njh/.cpan/build/Data-Uniqid-0.12-4/blib/arch:/home/njh/.cpan/build/Data-Uniqid-0.12-4/blib/lib:/home/njh/.cpan/build/Config-Properties-1.80-4/blib/arch:/home/njh/.cpan/build/Config-Properties-1.80-4/blib/lib:/home/njh/.cpan/build/Class-Std-Fast-v0.0.8-4/blib/arch:/home/njh/.cpan/build/Class-Std-Fast-v0.0.8-4/blib/lib
    PERL5OPT = 
    PERL5_CPANPLUS_IS_RUNNING = 20935
    PERL5_CPAN_IS_RUNNING = 20935
    PERL5_MINISMOKEBOX = 0.66
    PERLBREW_LIB = 
    PERLBREW_MANPATH = /home/njh/perl5/perlbrew/perls/perl-5.14.2/man
    PERLBREW_PATH = /home/njh/perl5/perlbrew/bin:/home/njh/perl5/perlbrew/perls/perl-5.14.2/bin
    PERLBREW_PERL = perl-5.14.2
    PERLBREW_ROOT = /home/njh/perl5/perlbrew
    PERLBREW_SHELLRC_VERSION = 0.82
    PERLBREW_VERSION = 0.82
    PERL_EXTUTILS_AUTOINSTALL = --defaultdeps
    PERL_LOCAL_LIB_ROOT = 
    PERL_MM_USE_DEFAULT = 1
    SHELL = /bin/sh
    TEMP = /tmp/user/1000
    TMPDIR = /tmp/user/1000

Perl special variables (and OS-specific diagnostics, for MSWin32):

    $^X = /home/njh/perl5/perlbrew/perls/perl-5.14.2/bin/perl
    $UID/$EUID = 1000 / 1000
    $GID = 1000 4 24 25 29 30 44 46 108 112 1000
    $EGID = 1000 4 24 25 29 30 44 46 108 112 1000

Perl module toolchain versions installed:

    Module              Have    
    ------------------- --------
    CPAN                2.16    
    CPAN::Meta          2.150010
    Cwd                 3.74    
    ExtUtils::CBuilder  0.280224
    ExtUtils::Command   7.34    
    ExtUtils::Install   2.12    
    ExtUtils::MakeMaker 7.34    
    ExtUtils::Manifest  1.70    
    ExtUtils::ParseXS   3.30    
    File::Spec          3.74    
    JSON                2.97001 
    JSON::PP            2.93    
    Module::Build       0.4218  
    Module::Signature   0.73    
    Parse::CPAN::Meta   2.150010
    Test::Harness       3.36    
    Test::More          1.302136
    YAML                1.26    
    YAML::Syck          1.30    
    version             0.9904  


--

Summary of my perl5 (revision 5 version 14 subversion 2) configuration:
   
  Platform:
    osname=linux, osvers=3.2.0-4-amd64, archname=x86_64-linux-thread-multi
    uname='linux nigelhorne.force9.co.uk 3.2.0-4-amd64 #1 smp debian 3.2.32-1 x86_64 gnulinux '
    config_args='-de -Dprefix=/home/njh/perl5/perlbrew/perls/perl-5.14.2 -Duseithreads -Dusemultiplicity -Accflags=-O2 -W -Wformat=2 -Wswitch -Wshadow -Wwrite-strings -Wuninitialized -Wall -pipe -mtune=native -march=native -fomit-frame-pointer -msse2 -msse -mmmx -mfpmath=sse -pedantic -D_FORTIFY_SOURCE=2 -Wpointer-arith -Wstrict-prototypes -fstack-protector -Wstack-protector -Wextra -Wbad-function-cast -Wcast-align -Wcast-qual -Wdisabled-optimization -Wendif-labels -Wfloat-equal -Wformat-nonliteral -Winline -Wmissing-declarations -Wmissing-prototypes -Wnested-externs -Wpointer-arith -Wundef -Wformat-security -ftree-vectorize -fassociative-math -ftree-vectorizer-verbose=2 -Aeval:scriptdir=/home/njh/perl5/perlbrew/perls/perl-5.14.2/bin'
    hint=recommended, useposix=true, d_sigaction=define
    useithreads=define, usemultiplicity=define
    useperlio=define, d_sfio=undef, uselargefiles=define, usesocks=undef
    use64bitint=define, use64bitall=define, uselongdouble=undef
    usemymalloc=n, bincompat5005=undef
  Compiler:
    cc='cc', ccflags ='-D_REENTRANT -D_GNU_SOURCE -O2 -W -Wformat=2 -Wswitch -Wshadow -Wwrite-strings -Wuninitialized -Wall -pipe -mtune=native -march=native -fomit-frame-pointer -msse2 -msse -mmmx -mfpmath=sse -pedantic -D_FORTIFY_SOURCE=2 -Wpointer-arith -Wstrict-prototypes -fstack-protector -Wstack-protector -Wextra -Wbad-function-cast -Wcast-align -Wcast-qual -Wdisabled-optimization -Wendif-labels -Wfloat-equal -Wformat-nonliteral -Winline -Wmissing-declarations -Wmissing-prototypes -Wnested-externs -Wpointer-arith -Wundef -Wformat-security -ftree-vectorize -fassociative-math -ftree-vectorizer-verbose=2 -fno-strict-aliasing -I/usr/local/include -D_LARGEFILE_SOURCE -D_FILE_OFFSET_BITS=64',
    optimize='-O2',
    cppflags='-D_REENTRANT -D_GNU_SOURCE -O2 -W -Wformat=2 -Wswitch -Wshadow -Wwrite-strings -Wuninitialized -Wall -pipe -mtune=native -march=native -fomit-frame-pointer -msse2 -msse -mmmx -mfpmath=sse -pedantic -D_FORTIFY_SOURCE=2 -Wpointer-arith -Wstrict-prototypes -fstack-protector -Wstack-protector -Wextra -Wbad-function-cast -Wcast-align -Wcast-qual -Wdisabled-optimization -Wendif-labels -Wfloat-equal -Wformat-nonliteral -Winline -Wmissing-declarations -Wmissing-prototypes -Wnested-externs -Wpointer-arith -Wundef -Wformat-security -ftree-vectorize -fassociative-math -ftree-vectorizer-verbose=2 -fno-strict-aliasing -I/usr/local/include'
    ccversion='', gccversion='4.7.2', gccosandvers=''
    intsize=4, longsize=8, ptrsize=8, doublesize=8, byteorder=12345678
    d_longlong=define, longlongsize=8, d_longdbl=define, longdblsize=16
    ivtype='long', ivsize=8, nvtype='double', nvsize=8, Off_t='off_t', lseeksize=8
    alignbytes=8, prototype=define
  Linker and Libraries:
    ld='cc', ldflags =' -fstack-protector -L/usr/local/lib'
    libpth=/usr/local/lib /lib/x86_64-linux-gnu /lib/../lib /usr/lib/x86_64-linux-gnu /usr/lib/../lib /lib /usr/lib
    libs=-lnsl -lgdbm -ldb -ldl -lm -lcrypt -lutil -lpthread -lc -lgdbm_compat
    perllibs=-lnsl -ldl -lm -lcrypt -lutil -lpthread -lc
    libc=, so=so, useshrplib=false, libperl=libperl.a
    gnulibc_version='2.13'
  Dynamic Linking:
    dlsrc=dl_dlopen.xs, dlext=so, d_dlsymun=undef, ccdlflags='-Wl,-E'
    cccdlflags='-fPIC', lddlflags='-shared -O2 -L/usr/local/lib -fstack-protector'


Characteristics of this binary (from libperl): 
  Compile-time options: MULTIPLICITY PERL_DONT_CREATE_GVSV
                        PERL_IMPLICIT_CONTEXT PERL_MALLOC_WRAP
                        PERL_PRESERVE_IVUV USE_64_BIT_ALL USE_64_BIT_INT
                        USE_ITHREADS USE_LARGE_FILES USE_PERLIO USE_PERL_ATOF
                        USE_REENTRANT_API
  Built under linux
  Compiled at Mar 14 2013 13:54:53
  %ENV:
    PERL5LIB="/home/njh/.cpan/build/XML-XPath-1.42-3/blib/arch:/home/njh/.cpan/build/XML-XPath-1.42-3/blib/lib:/home/njh/.cpan/build/SOAP-WSDL-3.003-4/blib/arch:/home/njh/.cpan/build/SOAP-WSDL-3.003-4/blib/lib:/home/njh/.cpan/build/Math-Random-MT-1.17-4/blib/arch:/home/njh/.cpan/build/Math-Random-MT-1.17-4/blib/lib:/home/njh/.cpan/build/Data-Uniqid-0.12-4/blib/arch:/home/njh/.cpan/build/Data-Uniqid-0.12-4/blib/lib:/home/njh/.cpan/build/Config-Properties-1.80-4/blib/arch:/home/njh/.cpan/build/Config-Properties-1.80-4/blib/lib:/home/njh/.cpan/build/Class-Std-Fast-v0.0.8-4/blib/arch:/home/njh/.cpan/build/Class-Std-Fast-v0.0.8-4/blib/lib"
    PERL5OPT=""
    PERL5_CPANPLUS_IS_RUNNING="20935"
    PERL5_CPAN_IS_RUNNING="20935"
    PERL5_MINISMOKEBOX="0.66"
    PERLBREW_LIB=""
    PERLBREW_MANPATH="/home/njh/perl5/perlbrew/perls/perl-5.14.2/man"
    PERLBREW_PATH="/home/njh/perl5/perlbrew/bin:/home/njh/perl5/perlbrew/perls/perl-5.14.2/bin"
    PERLBREW_PERL="perl-5.14.2"
    PERLBREW_ROOT="/home/njh/perl5/perlbrew"
    PERLBREW_SHELLRC_VERSION="0.82"
    PERLBREW_VERSION="0.82"
    PERL_EXTUTILS_AUTOINSTALL="--defaultdeps"
    PERL_LOCAL_LIB_ROOT=""
    PERL_MM_USE_DEFAULT="1"
  @INC:
    /home/njh/.cpan/build/XML-XPath-1.42-3/blib/arch
    /home/njh/.cpan/build/XML-XPath-1.42-3/blib/lib
    /home/njh/.cpan/build/SOAP-WSDL-3.003-4/blib/arch
    /home/njh/.cpan/build/SOAP-WSDL-3.003-4/blib/lib
    /home/njh/.cpan/build/Math-Random-MT-1.17-4/blib/arch
    /home/njh/.cpan/build/Math-Random-MT-1.17-4/blib/lib
    /home/njh/.cpan/build/Data-Uniqid-0.12-4/blib/arch
    /home/njh/.cpan/build/Data-Uniqid-0.12-4/blib/lib
    /home/njh/.cpan/build/Config-Properties-1.80-4/blib/arch
    /home/njh/.cpan/build/Config-Properties-1.80-4/blib/lib
    /home/njh/.cpan/build/Class-Std-Fast-v0.0.8-4/blib/arch
    /home/njh/.cpan/build/Class-Std-Fast-v0.0.8-4/blib/lib
    /home/njh/perl5/perlbrew/perls/perl-5.14.2/lib/site_perl/5.14.2/x86_64-linux-thread-multi
    /home/njh/perl5/perlbrew/perls/perl-5.14.2/lib/site_perl/5.14.2
    /home/njh/perl5/perlbrew/perls/perl-5.14.2/lib/5.14.2/x86_64-linux-thread-multi
    /home/njh/perl5/perlbrew/perls/perl-5.14.2/lib/5.14.2
    .