Tags-HTML-Element v0.15 Perl 5 v5.38.5 x86_64-linux-thread-multi

Status
Pass
From
Andreas J. König (ANDK)
Dist
Tags-HTML-Element v0.15
Platform
Perl 5 v5.38.5 x86_64-linux-thread-multi
Date
2025-08-19 16:32:46
ID
233c6c64-7d1a-11f0-b449-e3c7a24f1d9e
This distribution has been tested as part of the CPAN Testers
project, supporting the Perl programming language.  See
http://wiki.cpantesters.org/ for more information or email
questions to cpan-testers-discuss@perl.org


--
Dear Michal Josef Spacek,

This is a computer-generated report for Tags-HTML-Element-0.15
on perl 5.38.5, created by CPAN-Reporter-1.2020.

Thank you for uploading your work to CPAN.  Congratulations!
All tests were successful.

Sections of this report:

    * Tester comments
    * Program output
    * Prerequisites
    * Environment and other context

------------------------------
TESTER COMMENTS
------------------------------

Additional comments from tester:

this report is from an automated smoke testing program
and was not reviewed by a human for accuracy

------------------------------
PROGRAM OUTPUT
------------------------------

Output from '/usr/bin/make test':

PERL_DL_NONLAZY=1 "/tmp/basesmoker-reloperl-QkP2/bin/perl" "-MExtUtils::Command::MM" "-MTest::Harness" "-e" "undef *Test::Harness::Switches; test_harness(0, 'inc', 'blib/lib', 'blib/arch')" t/Tags-HTML-Element-A/*.t t/Tags-HTML-Element-Button/*.t t/Tags-HTML-Element-Form/*.t t/Tags-HTML-Element-Input/*.t t/Tags-HTML-Element-Option/*.t t/Tags-HTML-Element-Select/*.t t/Tags-HTML-Element-Textarea/*.t t/Tags-HTML-Element-Utils/*.t t/Tags-HTML-Element/*.t
t/Tags-HTML-Element-A/01-use.t ................. ok
t/Tags-HTML-Element-A/02-version.t ............. ok
t/Tags-HTML-Element-A/03-new.t ................. ok
t/Tags-HTML-Element-A/04-cleanup.t ............. ok
t/Tags-HTML-Element-A/05-init.t ................ ok
t/Tags-HTML-Element-A/06-process.t ............. ok
t/Tags-HTML-Element-A/07-process_css.t ......... ok
t/Tags-HTML-Element-Button/01-use.t ............ ok
t/Tags-HTML-Element-Button/02-version.t ........ ok
t/Tags-HTML-Element-Button/03-new.t ............ ok
t/Tags-HTML-Element-Button/04-cleanup.t ........ ok
t/Tags-HTML-Element-Button/05-init.t ........... ok
t/Tags-HTML-Element-Button/06-process.t ........ ok
t/Tags-HTML-Element-Button/07-process_css.t .... ok
t/Tags-HTML-Element-Form/01-use.t .............. ok
t/Tags-HTML-Element-Form/02-version.t .......... ok
t/Tags-HTML-Element-Form/03-new.t .............. ok
t/Tags-HTML-Element-Form/04-cleanup.t .......... ok
t/Tags-HTML-Element-Form/05-init.t ............. ok
t/Tags-HTML-Element-Form/06-process.t .......... ok
t/Tags-HTML-Element-Form/07-process_css.t ...... ok
t/Tags-HTML-Element-Input/01-use.t ............. ok
t/Tags-HTML-Element-Input/02-version.t ......... ok
t/Tags-HTML-Element-Input/03-new.t ............. ok
t/Tags-HTML-Element-Input/04-init.t ............ ok
t/Tags-HTML-Element-Input/05-process.t ......... ok
t/Tags-HTML-Element-Input/06-process_css.t ..... ok
t/Tags-HTML-Element-Option/01-use.t ............ ok
t/Tags-HTML-Element-Option/02-version.t ........ ok
t/Tags-HTML-Element-Option/03-new.t ............ ok
t/Tags-HTML-Element-Option/04-cleanup.t ........ ok
t/Tags-HTML-Element-Option/05-init.t ........... ok
t/Tags-HTML-Element-Option/06-process.t ........ ok
t/Tags-HTML-Element-Option/07-process_css.t .... ok
t/Tags-HTML-Element-Select/01-use.t ............ ok
t/Tags-HTML-Element-Select/02-version.t ........ ok
t/Tags-HTML-Element-Select/03-new.t ............ ok
t/Tags-HTML-Element-Select/04-cleanup.t ........ ok
t/Tags-HTML-Element-Select/05-init.t ........... ok
t/Tags-HTML-Element-Select/06-process.t ........ ok
t/Tags-HTML-Element-Select/07-process_css.t .... ok
t/Tags-HTML-Element-Textarea/01-use.t .......... ok
t/Tags-HTML-Element-Textarea/02-version.t ...... ok
t/Tags-HTML-Element-Textarea/03-new.t .......... ok
t/Tags-HTML-Element-Textarea/04-cleanup.t ...... ok
t/Tags-HTML-Element-Textarea/05-init.t ......... ok
t/Tags-HTML-Element-Textarea/06-process.t ...... ok
t/Tags-HTML-Element-Textarea/07-process_css.t .. ok
t/Tags-HTML-Element-Utils/01-use.t ............. ok
t/Tags-HTML-Element-Utils/02-version.t ......... ok
t/Tags-HTML-Element-Utils/03-tags_boolean.t .... ok
t/Tags-HTML-Element-Utils/04-tags_data.t ....... ok
t/Tags-HTML-Element-Utils/05-tags_label.t ...... ok
t/Tags-HTML-Element-Utils/06-tags_value.t ...... ok
t/Tags-HTML-Element/01-use.t ................... ok
t/Tags-HTML-Element/02-version.t ............... ok
All tests successful.
Files=56, Tests=243,  5 wallclock secs ( 0.13 usr  0.07 sys +  4.76 cusr  0.70 csys =  5.66 CPU)
Result: PASS

------------------------------
PREREQUISITES
------------------------------

Prerequisite modules loaded:

requires:

    Module                         Need  Have      
    ------------------------------ ----- ----------
    Class::Utils                   0     0.14      
    Error::Pure                    0     0.34      
    perl                           5.008 5.038005  
    Scalar::Util                   0     1.70      
    Tags::HTML                     0.06  0.1       

build_requires:

    Module                         Need  Have      
    ------------------------------ ----- ----------
    CSS::Struct::Output::Structure 0.03  0.04      
    Data::HTML::Element::Button    0.1   0.17      
    Data::HTML::Element::Form      0.1   0.17      
    Data::HTML::Element::Input     0.13  0.17      
    Data::HTML::Element::Select    0.14  0.17      
    Data::HTML::Element::Textarea  0.1   0.17      
    English                        0     1.11      
    Error::Pure::Utils             0     0.34      
    ExtUtils::MakeMaker            6.59  7.76      
    Tags::Output::Structure        0     0.08      
    Test::MockObject               0     1.20200122
    Test::More                     0     1.302214  
    Test::NoWarnings               0     1.06      

configure_requires:

    Module                         Need  Have      
    ------------------------------ ----- ----------
    ExtUtils::MakeMaker            6.59  7.76      


------------------------------
ENVIRONMENT AND OTHER CONTEXT
------------------------------

Environment variables:

    AUTOMATED_TESTING = 1
    LANG = en_US.UTF-8
    PATH = /home/sand/bin:/usr/local/bin:/usr/local/sbin:/usr/sbin:/usr/bin:/sbin:/bin:/usr/games:/usr/local/games:/snap/bin:/usr/local/perl/bin:/usr/X11/bin
    PERL = /tmp/basesmoker-reloperl-QkP2/bin/perl
    PERL5LIB = /tmp/loop_over_bdir-1925268-AP4jzj/Business-Shipping-DataFiles-1.02-0/blib/arch:/tmp/loop_over_bdir-1925268-AP4jzj/Business-Shipping-DataFiles-1.02-0/blib/lib:/tmp/loop_over_bdir-1925268-AP4jzj/Simulation-Automate-1.0.1-0/blib/arch:/tmp/loop_over_bdir-1925268-AP4jzj/Simulation-Automate-1.0.1-0/blib/lib:/tmp/loop_over_bdir-1925268-AP4jzj/Devel-Required-0.17-0/blib/arch:/tmp/loop_over_bdir-1925268-AP4jzj/Devel-Required-0.17-0/blib/lib:/tmp/loop_over_bdir-1925268-AP4jzj/App-oo_modulino_zsh_completion_helper-0.06-0/blib/arch:/tmp/loop_over_bdir-1925268-AP4jzj/App-oo_modulino_zsh_completion_helper-0.06-0/blib/lib
    PERL5OPT = 
    PERL5_CPANPLUS_IS_RUNNING = 1925276
    PERL5_CPAN_IS_RUNNING = 1925276
    PERL_CANARY_STABILITY_NOPROMPT = 1
    PERL_MM_USE_DEFAULT = 1
    PERL_USE_UNSAFE_INC = 1
    SHELL = /usr/bin/zsh
    TERM = screen

Perl special variables (and OS-specific diagnostics, for MSWin32):

    $^X = /tmp/basesmoker-reloperl-QkP2/bin/perl
    $UID/$EUID = 1005 / 1005
    $GID = 1005 1005
    $EGID = 1005 1005

Perl module toolchain versions installed:

    Module              Have    
    ------------------- --------
    CPAN                2.38    
    CPAN::Meta          2.150010
    Cwd                 3.89    
    ExtUtils::CBuilder  0.280238
    ExtUtils::Command   7.76    
    ExtUtils::Install   2.22    
    ExtUtils::MakeMaker 7.76    
    ExtUtils::Manifest  1.75    
    ExtUtils::ParseXS   3.51    
    File::Spec          3.88    
    JSON                4.10    
    JSON::PP            4.16    
    Module::Build       0.4234  
    Module::Signature   0.93    
    Parse::CPAN::Meta   2.150010
    Test2               1.302214
    Test::Harness       3.52    
    Test::More          1.302214
    YAML                1.31    
    YAML::Syck          1.34    
    version             0.9933  


--

Summary of my perl5 (revision 5 version 38 subversion 5) configuration:
  Commit id: a443b089ceb9a90e28864e502077d092a16267d4
  Platform:
    osname=linux
    osvers=5.4.0-216-generic
    archname=x86_64-linux-thread-multi
    uname='linux k93focal 5.4.0-216-generic #236-ubuntu smp fri apr 11 19:53:21 utc 2025 x86_64 x86_64 x86_64 gnulinux '
    config_args='-Dprefix=/home/sand/src/perl/repoperls/installed-perls/host/k93focal/v5.38.5/d119 -Dmyhostname=k93focal -Dinstallusrbinperl=n -Uversiononly -Dusedevel -des -Ui_db -Dlibswanted=cl pthread socket inet nsl gdbm dbm malloc dl ld sun m crypt sec util c cposix posix ucb BSD gdbm_compat -Duseithreads -Uuselongdouble -DEBUGGING=both'
    hint=recommended
    useposix=true
    d_sigaction=define
    useithreads=define
    usemultiplicity=define
    use64bitint=define
    use64bitall=define
    uselongdouble=undef
    usemymalloc=n
    default_inc_excludes_dot=define
  Compiler:
    cc='cc'
    ccflags ='-D_REENTRANT -D_GNU_SOURCE -fwrapv -DDEBUGGING -fno-strict-aliasing -pipe -fstack-protector-strong -I/usr/local/include -D_LARGEFILE_SOURCE -D_FILE_OFFSET_BITS=64'
    optimize='-O2 -g'
    cppflags='-D_REENTRANT -D_GNU_SOURCE -fwrapv -DDEBUGGING -fno-strict-aliasing -pipe -fstack-protector-strong -I/usr/local/include'
    ccversion=''
    gccversion='9.4.0'
    gccosandvers=''
    intsize=4
    longsize=8
    ptrsize=8
    doublesize=8
    byteorder=12345678
    doublekind=3
    d_longlong=define
    longlongsize=8
    d_longdbl=define
    longdblsize=16
    longdblkind=3
    ivtype='long'
    ivsize=8
    nvtype='double'
    nvsize=8
    Off_t='off_t'
    lseeksize=8
    alignbytes=8
    prototype=define
  Linker and Libraries:
    ld='cc'
    ldflags =' -fstack-protector-strong -L/usr/local/lib'
    libpth=/usr/local/lib /usr/lib/x86_64-linux-gnu /usr/lib /usr/lib64
    libs=-lpthread -lnsl -ldl -lm -lcrypt -lutil -lc
    perllibs=-lpthread -lnsl -ldl -lm -lcrypt -lutil -lc
    libc=libc-2.31.so
    so=so
    useshrplib=false
    libperl=libperl.a
    gnulibc_version='2.31'
  Dynamic Linking:
    dlsrc=dl_dlopen.xs
    dlext=so
    d_dlsymun=undef
    ccdlflags='-Wl,-E'
    cccdlflags='-fPIC'
    lddlflags='-shared -O2 -g -L/usr/local/lib -fstack-protector-strong'


Characteristics of this binary (from libperl): 
  Compile-time options:
    DEBUGGING
    HAS_LONG_DOUBLE
    HAS_STRTOLD
    HAS_TIMES
    MULTIPLICITY
    PERLIO_LAYERS
    PERL_COPY_ON_WRITE
    PERL_DONT_CREATE_GVSV
    PERL_HASH_FUNC_SIPHASH13
    PERL_HASH_USE_SBOX32
    PERL_MALLOC_WRAP
    PERL_OP_PARENT
    PERL_PRESERVE_IVUV
    PERL_TRACK_MEMPOOL
    PERL_USE_DEVEL
    PERL_USE_SAFE_PUTENV
    USE_64_BIT_ALL
    USE_64_BIT_INT
    USE_ITHREADS
    USE_LARGE_FILES
    USE_LOCALE
    USE_LOCALE_COLLATE
    USE_LOCALE_CTYPE
    USE_LOCALE_NUMERIC
    USE_LOCALE_TIME
    USE_PERLIO
    USE_PERL_ATOF
    USE_REENTRANT_API
    USE_THREAD_SAFE_LOCALE
  Built under linux
  Compiled at Aug  4 2025 09:46:06
  %ENV:
    PERL="/tmp/basesmoker-reloperl-QkP2/bin/perl"
    PERL5LIB="/tmp/loop_over_bdir-1925268-AP4jzj/Business-Shipping-DataFiles-1.02-0/blib/arch:/tmp/loop_over_bdir-1925268-AP4jzj/Business-Shipping-DataFiles-1.02-0/blib/lib:/tmp/loop_over_bdir-1925268-AP4jzj/Simulation-Automate-1.0.1-0/blib/arch:/tmp/loop_over_bdir-1925268-AP4jzj/Simulation-Automate-1.0.1-0/blib/lib:/tmp/loop_over_bdir-1925268-AP4jzj/Devel-Required-0.17-0/blib/arch:/tmp/loop_over_bdir-1925268-AP4jzj/Devel-Required-0.17-0/blib/lib:/tmp/loop_over_bdir-1925268-AP4jzj/App-oo_modulino_zsh_completion_helper-0.06-0/blib/arch:/tmp/loop_over_bdir-1925268-AP4jzj/App-oo_modulino_zsh_completion_helper-0.06-0/blib/lib"
    PERL5OPT=""
    PERL5_CPANPLUS_IS_RUNNING="1925276"
    PERL5_CPAN_IS_RUNNING="1925276"
    PERL_CANARY_STABILITY_NOPROMPT="1"
    PERL_MM_USE_DEFAULT="1"
    PERL_USE_UNSAFE_INC="1"
  @INC:
    /tmp/loop_over_bdir-1925268-AP4jzj/Business-Shipping-DataFiles-1.02-0/blib/arch
    /tmp/loop_over_bdir-1925268-AP4jzj/Business-Shipping-DataFiles-1.02-0/blib/lib
    /tmp/loop_over_bdir-1925268-AP4jzj/Simulation-Automate-1.0.1-0/blib/arch
    /tmp/loop_over_bdir-1925268-AP4jzj/Simulation-Automate-1.0.1-0/blib/lib
    /tmp/loop_over_bdir-1925268-AP4jzj/Devel-Required-0.17-0/blib/arch
    /tmp/loop_over_bdir-1925268-AP4jzj/Devel-Required-0.17-0/blib/lib
    /tmp/loop_over_bdir-1925268-AP4jzj/App-oo_modulino_zsh_completion_helper-0.06-0/blib/arch
    /tmp/loop_over_bdir-1925268-AP4jzj/App-oo_modulino_zsh_completion_helper-0.06-0/blib/lib
    /home/sand/src/perl/repoperls/installed-perls/host/k93focal/v5.38.5/d119/lib/site_perl/5.38.5/x86_64-linux-thread-multi
    /home/sand/src/perl/repoperls/installed-perls/host/k93focal/v5.38.5/d119/lib/site_perl/5.38.5
    /home/sand/src/perl/repoperls/installed-perls/host/k93focal/v5.38.5/d119/lib/5.38.5/x86_64-linux-thread-multi
    /home/sand/src/perl/repoperls/installed-perls/host/k93focal/v5.38.5/d119/lib/5.38.5
    .