Report for Dist-Zilla-Plugin-CheckExtraTests-0.025

Back
From: metabase:user:fcf99560-6bf4-1014-86b3-1cf189224fdf
Subject: PASS Dist-Zilla-Plugin-CheckExtraTests-0.025 v5.18.1 GNU/Linux
Date: 2015-01-13T12:31:45Z

This distribution has been tested as part of the CPAN Testers
project, supporting the Perl programming language.  See
http://wiki.cpantesters.org/ for more information or email
questions to cpan-testers-discuss@perl.org


--
Dear David Golden,

This is a computer-generated report for Dist-Zilla-Plugin-CheckExtraTests-0.025
on perl 5.18.1, created by CPAN-Reporter-1.2010.

Thank you for uploading your work to CPAN.  Congratulations!
All tests were successful.

Sections of this report:

    * Tester comments
    * Program output
    * Prerequisites
    * Environment and other context

------------------------------
TESTER COMMENTS
------------------------------

Additional comments from tester:

none provided

------------------------------
PROGRAM OUTPUT
------------------------------

Output from '/usr/bin/make test':

PERL_DL_NONLAZY=1 /home/michiel/.plenv/versions/5.18.1/bin/perl5.18.1 "-MExtUtils::Command::MM" "-e" "test_harness(0, 'blib/lib', 'blib/arch')" t/*.t
# 
# Versions for all modules listed in MYMETA.json (including optional ones):
# 
# === Configure Requires ===
# 
#     Module              Want Have
#     ------------------- ---- ----
#     ExtUtils::MakeMaker 6.17 6.66
# 
# === Build Requires ===
# 
#     Module              Want Have
#     ------------------- ---- ----
#     ExtUtils::MakeMaker  any 6.66
# 
# === Test Requires ===
# 
#     Module                   Want     Have
#     ------------------------ ---- --------
#     Capture::Tiny             any     0.22
#     Dist::Zilla::App::Tester  any    5.031
#     Dist::Zilla::Tester       any    5.031
#     ExtUtils::MakeMaker       any     6.66
#     File::Spec                any     3.40
#     Params::Util              any     1.07
#     Sub::Exporter             any    0.986
#     Test::More               0.88 1.001014
#     Test::Requires            any     0.07
#     Try::Tiny                 any     0.18
#     lib                       any     0.63
# 
# === Test Recommends ===
# 
#     Module         Want     Have
#     ---------- -------- --------
#     CPAN::Meta 2.120900 2.143240
# 
# === Runtime Requires ===
# 
#     Module                            Want   Have
#     -------------------------------- ----- ------
#     App::Prove                        3.00   3.29
#     Archive::Tar                       any   1.90
#     Dist::Zilla                        4.3  5.031
#     Dist::Zilla::App                   any  5.031
#     Dist::Zilla::Role::BeforeRelease   any  5.031
#     Dist::Zilla::Role::TestRunner      any  5.031
#     File::pushd                        any  1.005
#     Moose                                2 2.1403
#     Path::Iterator::Rule               any  1.008
#     Path::Tiny                       0.013  0.061
#     namespace::autoclean              0.09   0.24
#     strict                             any   1.07
#     warnings                           any   1.18
# 
t/00-report-prereqs.t .. ok
t/checkxt.t ............ ok
t/runxt.t .............. ok
t/withblib.t ........... ok
All tests successful.
Files=4, Tests=16,  9 wallclock secs ( 0.03 usr  0.01 sys +  7.39 cusr  0.99 csys =  8.42 CPU)
Result: PASS

------------------------------
PREREQUISITES
------------------------------

Prerequisite modules loaded:

requires:

    Module                           Need  Have    
    -------------------------------- ----- --------
    App::Prove                       3.00  3.29    
    Archive::Tar                     0     1.90    
    Dist::Zilla                      4.3   5.031   
    Dist::Zilla::App                 0     5.031   
    Dist::Zilla::Role::BeforeRelease 0     5.031   
    Dist::Zilla::Role::TestRunner    0     5.031   
    File::pushd                      0     1.005   
    Moose                            2     2.1403  
    namespace::autoclean             0.09  0.24    
    Path::Iterator::Rule             0     1.008   
    Path::Tiny                       0.013 0.061   
    perl                             5.006 5.018001
    strict                           0     1.07    
    warnings                         0     1.18    

build_requires:

    Module                           Need  Have    
    -------------------------------- ----- --------
    Capture::Tiny                    0     0.22    
    Dist::Zilla::App::Tester         0     5.031   
    Dist::Zilla::Tester              0     5.031   
    ExtUtils::MakeMaker              0     6.66    
    File::Spec                       0     3.40    
    lib                              0     0.63    
    Params::Util                     0     1.07    
    Sub::Exporter                    0     0.986   
    Test::More                       0.88  1.001014
    Test::Requires                   0     0.07    
    Try::Tiny                        0     0.18    

configure_requires:

    Module                           Need  Have    
    -------------------------------- ----- --------
    ExtUtils::MakeMaker              6.17  6.66    
    perl                             5.006 5.018001


------------------------------
ENVIRONMENT AND OTHER CONTEXT
------------------------------

Environment variables:

    LANG = nl_NL.UTF-8
    PATH = /home/michiel/.plenv/versions/5.18.1/bin:/home/michiel/.plenv/libexec:/home/michiel/.plenv/plugins/perl-build/bin:/home/michiel/.plenv/shims:/home/michiel/.plenv/bin:/usr/local/bin:/usr/bin:/bin:/usr/local/games:/usr/games
    PERL5LIB = 
    PERL5OPT = 
    PERL5_CPANPLUS_IS_RUNNING = 14065
    PERL5_CPAN_IS_RUNNING = 14065
    SHELL = /bin/bash
    TERM = xterm

Perl special variables (and OS-specific diagnostics, for MSWin32):

    $^X = /home/michiel/.plenv/versions/5.18.1/bin/perl5.18.1
    $UID/$EUID = 1000 / 1000
    $GID = 1000 24 25 27 29 30 33 44 46 1000
    $EGID = 1000 24 25 27 29 30 33 44 46 1000

Perl module toolchain versions installed:

    Module              Have    
    ------------------- --------
    CPAN                2.00    
    CPAN::Meta          2.143240
    Cwd                 3.40    
    ExtUtils::CBuilder  0.280210
    ExtUtils::Command   1.17    
    ExtUtils::Install   1.59    
    ExtUtils::MakeMaker 6.66    
    ExtUtils::Manifest  1.70    
    ExtUtils::ParseXS   3.18    
    File::Spec          3.40    
    JSON                2.59    
    JSON::PP            2.27202 
    Module::Build       0.4205  
    Module::Signature   n/a     
    Parse::CPAN::Meta   1.4414  
    Test::Harness       3.29    
    Test::More          1.001014
    YAML                0.95    
    YAML::Syck          n/a     
    version             0.9902  


--

Summary of my perl5 (revision 5 version 18 subversion 1) configuration:
   
  Platform:
    osname=linux, osvers=3.2.0-4-amd64, archname=x86_64-linux
    uname='linux 149-210-131-234 3.2.0-4-amd64 #1 smp debian 3.2.46-1+deb7u1 x86_64 gnulinux '
    config_args='-Dprefix=/home/michiel/.plenv/versions/5.18.1 -de -Dusedevel -A'eval:scriptdir=/home/michiel/.plenv/versions/5.18.1/bin''
    hint=recommended, useposix=true, d_sigaction=define
    useithreads=undef, usemultiplicity=undef
    useperlio=define, d_sfio=undef, uselargefiles=define, usesocks=undef
    use64bitint=define, use64bitall=define, uselongdouble=undef
    usemymalloc=n, bincompat5005=undef
  Compiler:
    cc='cc', ccflags ='-fno-strict-aliasing -pipe -fstack-protector -I/usr/local/include -D_LARGEFILE_SOURCE -D_FILE_OFFSET_BITS=64',
    optimize='-O2',
    cppflags='-fno-strict-aliasing -pipe -fstack-protector -I/usr/local/include'
    ccversion='', gccversion='4.7.2', gccosandvers=''
    intsize=4, longsize=8, ptrsize=8, doublesize=8, byteorder=12345678
    d_longlong=define, longlongsize=8, d_longdbl=define, longdblsize=16
    ivtype='long', ivsize=8, nvtype='double', nvsize=8, Off_t='off_t', lseeksize=8
    alignbytes=8, prototype=define
  Linker and Libraries:
    ld='cc', ldflags =' -fstack-protector -L/usr/local/lib'
    libpth=/usr/local/lib /lib/x86_64-linux-gnu /lib/../lib /usr/lib/x86_64-linux-gnu /usr/lib/../lib /lib /usr/lib
    libs=-lnsl -ldl -lm -lcrypt -lutil -lc
    perllibs=-lnsl -ldl -lm -lcrypt -lutil -lc
    libc=, so=so, useshrplib=false, libperl=libperl.a
    gnulibc_version='2.13'
  Dynamic Linking:
    dlsrc=dl_dlopen.xs, dlext=so, d_dlsymun=undef, ccdlflags='-Wl,-E'
    cccdlflags='-fPIC', lddlflags='-shared -O2 -L/usr/local/lib -fstack-protector'


Characteristics of this binary (from libperl): 
  Compile-time options: HAS_TIMES PERLIO_LAYERS PERL_DONT_CREATE_GVSV
                        PERL_HASH_FUNC_ONE_AT_A_TIME_HARD PERL_MALLOC_WRAP
                        PERL_PRESERVE_IVUV PERL_SAWAMPERSAND PERL_USE_DEVEL
                        USE_64_BIT_ALL USE_64_BIT_INT USE_LARGE_FILES
                        USE_LOCALE USE_LOCALE_COLLATE USE_LOCALE_CTYPE
                        USE_LOCALE_NUMERIC USE_PERLIO USE_PERL_ATOF
  Built under linux
  Compiled at Oct 17 2013 08:14:41
  %ENV:
    PERL5LIB=""
    PERL5OPT=""
    PERL5_CPANPLUS_IS_RUNNING="14065"
    PERL5_CPAN_IS_RUNNING="14065"
  @INC:
    /home/michiel/.plenv/versions/5.18.1/lib/perl5/site_perl/5.18.1/x86_64-linux
    /home/michiel/.plenv/versions/5.18.1/lib/perl5/site_perl/5.18.1
    /home/michiel/.plenv/versions/5.18.1/lib/perl5/5.18.1/x86_64-linux
    /home/michiel/.plenv/versions/5.18.1/lib/perl5/5.18.1
    .