Report for Rose-DB-Object-0.815

Back
From: metabase:user:314402c4-2aae-11df-837a-5e0a49663a4f
Subject: PASS Rose-DB-Object-0.815 v5.21.10 FreeBSD
Date: 2015-03-23T20:35:25Z

This distribution has been tested as part of the CPAN Testers
project, supporting the Perl programming language.  See
http://wiki.cpantesters.org/ for more information or email
questions to cpan-testers-discuss@perl.org


--
Dear John Siracusa,

This is a computer-generated report for Rose-DB-Object-0.815
on perl 5.21.10, created by CPAN-Reporter-1.2011.

Thank you for uploading your work to CPAN.  Congratulations!
All tests were successful.

Sections of this report:

    * Tester comments
    * Program output
    * Prerequisites
    * Environment and other context

------------------------------
TESTER COMMENTS
------------------------------

Additional comments from tester:

none provided

------------------------------
PROGRAM OUTPUT
------------------------------

Output from '/usr/bin/make test':

PERL_DL_NONLAZY=1 "/usr/perl5.21.10p/bin/perl5.21.10" "-MExtUtils::Command::MM" "-MTest::Harness" "-e" "undef *Test::Harness::Switches; test_harness(0, 'blib/lib', 'blib/arch')" t/*.t

##
## DBI             1.633
## DBD::Pg         3.5.1
## DBD::mysql      4.031
## DBD::SQLite     1.46
## JSON            2.90
##
## WARNING: Almost all the tests in this module distribution need to connect
## to a database in order to run.  The tests need full privileges on this
## database: the ability to create and drop tables, insert, update, and delete
## rows, create schemas, sequences, functions, triggers, the works.
## 
## By default, the tests will try to connect to the database named "test"
## running on "localhost" using the default superuser username for each
## database type and an empty password.
## 
## If you have setup your database in a secure manner, these connection
## attempts will fail, and the tests will be skipped.  If you want to override
## these values, set the following environment variables before running tests.
## (The current values are shown in parentheses.)
## 
## PostgreSQL:
## 
##     RDBO_PG_DSN      (dbi:Pg:dbname=test;host=localhost)
##     RDBO_PG_USER     (postgres)
##     RDBO_PG_PASS     (<none>)
## 
## MySQL:
## 
##     RDBO_MYSQL_DSN   (dbi:mysql:database=test;host=localhost)
##     RDBO_MYSQL_USER  (root)
##     RDBO_MYSQL_PASS  (<none>)
##
## Oracle:
## 
##     RDBO_ORACLE_DSN  (dbi:Oracle:dbname=test)
##     RDBO_ORACLE_USER (<none>)
##     RDBO_ORACLE_PASS (<none>)
##
## Informix:
## 
##     RDBO_INFORMIX_DSN   (dbi:Informix:test@test)
##     RDBO_INFORMIX_USER  (<none>)
##     RDBO_INFORMIX_PASS  (<none>)
## 
## SQLite: To disable the SQLite tests, set this environment varible
##
##     RDBO_NO_SQLITE  (<undef>)
##
## Press return to continue (or wait 60 seconds)
t/00-warning.t ..................... ok
Unescaped left brace in regex is deprecated, passed through in regex; marked by <-- HERE in m/
                    (%{ <-- HERE \w+})
                / at /usr/perl5.21.10p/lib/site_perl/5.21.10/Convert/NLS_DATE_FORMAT.pm line 116.
t/as-tree.t ........................ ok
Unescaped left brace in regex is deprecated, passed through in regex; marked by <-- HERE in m/
                    (%{ <-- HERE \w+})
                / at /usr/perl5.21.10p/lib/site_perl/5.21.10/Convert/NLS_DATE_FORMAT.pm line 116.
t/auto-setup.t ..................... ok
Unescaped left brace in regex is deprecated, passed through in regex; marked by <-- HERE in m/
                    (%{ <-- HERE \w+})
                / at /usr/perl5.21.10p/lib/site_perl/5.21.10/Convert/NLS_DATE_FORMAT.pm line 116.
t/bind-param.t ..................... ok
Unescaped left brace in regex is deprecated, passed through in regex; marked by <-- HERE in m/
                    (%{ <-- HERE \w+})
                / at /usr/perl5.21.10p/lib/site_perl/5.21.10/Convert/NLS_DATE_FORMAT.pm line 116.
t/column-triggers.t ................ ok
Unescaped left brace in regex is deprecated, passed through in regex; marked by <-- HERE in m/
                    (%{ <-- HERE \w+})
                / at /usr/perl5.21.10p/lib/site_perl/5.21.10/Convert/NLS_DATE_FORMAT.pm line 116.
t/column-values.t .................. ok
Unescaped left brace in regex is deprecated, passed through in regex; marked by <-- HERE in m/
                    (%{ <-- HERE \w+})
                / at /usr/perl5.21.10p/lib/site_perl/5.21.10/Convert/NLS_DATE_FORMAT.pm line 116.
t/db-migration.t ................... ok
Unescaped left brace in regex is deprecated, passed through in regex; marked by <-- HERE in m/
                    (%{ <-- HERE \w+})
                / at /usr/perl5.21.10p/lib/site_perl/5.21.10/Convert/NLS_DATE_FORMAT.pm line 116.
t/db-object-auto.t ................. ok
Unescaped left brace in regex is deprecated, passed through in regex; marked by <-- HERE in m/
                    (%{ <-- HERE \w+})
                / at /usr/perl5.21.10p/lib/site_perl/5.21.10/Convert/NLS_DATE_FORMAT.pm line 116.
t/db-object-cached.t ............... ok
Unescaped left brace in regex is deprecated, passed through in regex; marked by <-- HERE in m/
                    (%{ <-- HERE \w+})
                / at /usr/perl5.21.10p/lib/site_perl/5.21.10/Convert/NLS_DATE_FORMAT.pm line 116.
t/db-object-changes-only-1.t ....... ok
Unescaped left brace in regex is deprecated, passed through in regex; marked by <-- HERE in m/
                    (%{ <-- HERE \w+})
                / at /usr/perl5.21.10p/lib/site_perl/5.21.10/Convert/NLS_DATE_FORMAT.pm line 116.
t/db-object-changes-only-2.t ....... ok
Unescaped left brace in regex is deprecated, passed through in regex; marked by <-- HERE in m/
                    (%{ <-- HERE \w+})
                / at /usr/perl5.21.10p/lib/site_perl/5.21.10/Convert/NLS_DATE_FORMAT.pm line 116.
t/db-object-convention.t ........... ok
Unescaped left brace in regex is deprecated, passed through in regex; marked by <-- HERE in m/
                    (%{ <-- HERE \w+})
                / at /usr/perl5.21.10p/lib/site_perl/5.21.10/Convert/NLS_DATE_FORMAT.pm line 116.
t/db-object-foreign-key-auto.t ..... ok
Unescaped left brace in regex is deprecated, passed through in regex; marked by <-- HERE in m/
                    (%{ <-- HERE \w+})
                / at /usr/perl5.21.10p/lib/site_perl/5.21.10/Convert/NLS_DATE_FORMAT.pm line 116.
t/db-object-foreign-key.t .......... ok
Unescaped left brace in regex is deprecated, passed through in regex; marked by <-- HERE in m/
                    (%{ <-- HERE \w+})
                / at /usr/perl5.21.10p/lib/site_perl/5.21.10/Convert/NLS_DATE_FORMAT.pm line 116.
t/db-object-helpers.t .............. ok
Unescaped left brace in regex is deprecated, passed through in regex; marked by <-- HERE in m/
                    (%{ <-- HERE \w+})
                / at /usr/perl5.21.10p/lib/site_perl/5.21.10/Convert/NLS_DATE_FORMAT.pm line 116.
t/db-object-loader-2.t ............. ok
Unescaped left brace in regex is deprecated, passed through in regex; marked by <-- HERE in m/
                    (%{ <-- HERE \w+})
                / at /usr/perl5.21.10p/lib/site_perl/5.21.10/Convert/NLS_DATE_FORMAT.pm line 116.
t/db-object-loader-3.t ............. ok
Unescaped left brace in regex is deprecated, passed through in regex; marked by <-- HERE in m/
                    (%{ <-- HERE \w+})
                / at /usr/perl5.21.10p/lib/site_perl/5.21.10/Convert/NLS_DATE_FORMAT.pm line 116.
t/db-object-loader-4.t ............. ok
Unescaped left brace in regex is deprecated, passed through in regex; marked by <-- HERE in m/
                    (%{ <-- HERE \w+})
                / at /usr/perl5.21.10p/lib/site_perl/5.21.10/Convert/NLS_DATE_FORMAT.pm line 116.
t/db-object-loader-5.t ............. ok
Unescaped left brace in regex is deprecated, passed through in regex; marked by <-- HERE in m/
                    (%{ <-- HERE \w+})
                / at /usr/perl5.21.10p/lib/site_perl/5.21.10/Convert/NLS_DATE_FORMAT.pm line 116.
t/db-object-loader-6.t ............. ok
Unescaped left brace in regex is deprecated, passed through in regex; marked by <-- HERE in m/
                    (%{ <-- HERE \w+})
                / at /usr/perl5.21.10p/lib/site_perl/5.21.10/Convert/NLS_DATE_FORMAT.pm line 116.
t/db-object-loader-7.t ............. ok
Unescaped left brace in regex is deprecated, passed through in regex; marked by <-- HERE in m/
                    (%{ <-- HERE \w+})
                / at /usr/perl5.21.10p/lib/site_perl/5.21.10/Convert/NLS_DATE_FORMAT.pm line 116.
t/db-object-loader-8.t ............. ok
Unescaped left brace in regex is deprecated, passed through in regex; marked by <-- HERE in m/
                    (%{ <-- HERE \w+})
                / at /usr/perl5.21.10p/lib/site_perl/5.21.10/Convert/NLS_DATE_FORMAT.pm line 116.
t/db-object-loader-9.t ............. ok
Unescaped left brace in regex is deprecated, passed through in regex; marked by <-- HERE in m/
                    (%{ <-- HERE \w+})
                / at /usr/perl5.21.10p/lib/site_perl/5.21.10/Convert/NLS_DATE_FORMAT.pm line 116.
t/db-object-loader.t ............... ok
Unescaped left brace in regex is deprecated, passed through in regex; marked by <-- HERE in m/
                    (%{ <-- HERE \w+})
                / at /usr/perl5.21.10p/lib/site_perl/5.21.10/Convert/NLS_DATE_FORMAT.pm line 116.
t/db-object-manager-bulk-ops.t ..... ok
Unescaped left brace in regex is deprecated, passed through in regex; marked by <-- HERE in m/
                    (%{ <-- HERE \w+})
                / at /usr/perl5.21.10p/lib/site_perl/5.21.10/Convert/NLS_DATE_FORMAT.pm line 116.
t/db-object-manager.t .............. ok
Unescaped left brace in regex is deprecated, passed through in regex; marked by <-- HERE in m/
                    (%{ <-- HERE \w+})
                / at /usr/perl5.21.10p/lib/site_perl/5.21.10/Convert/NLS_DATE_FORMAT.pm line 116.
t/db-object-mapper.t ............... ok
Unescaped left brace in regex is deprecated, passed through in regex; marked by <-- HERE in m/
                    (%{ <-- HERE \w+})
                / at /usr/perl5.21.10p/lib/site_perl/5.21.10/Convert/NLS_DATE_FORMAT.pm line 116.
t/db-object-metadata.t ............. ok
Unescaped left brace in regex is deprecated, passed through in regex; marked by <-- HERE in m/
                    (%{ <-- HERE \w+})
                / at /usr/perl5.21.10p/lib/site_perl/5.21.10/Convert/NLS_DATE_FORMAT.pm line 116.
t/db-object-relationship-auto-2.t .. ok
Unescaped left brace in regex is deprecated, passed through in regex; marked by <-- HERE in m/
                    (%{ <-- HERE \w+})
                / at /usr/perl5.21.10p/lib/site_perl/5.21.10/Convert/NLS_DATE_FORMAT.pm line 116.
t/db-object-relationship-auto.t .... ok
Unescaped left brace in regex is deprecated, passed through in regex; marked by <-- HERE in m/
                    (%{ <-- HERE \w+})
                / at /usr/perl5.21.10p/lib/site_perl/5.21.10/Convert/NLS_DATE_FORMAT.pm line 116.
t/db-object-relationship.t ......... ok
Unescaped left brace in regex is deprecated, passed through in regex; marked by <-- HERE in m/
                    (%{ <-- HERE \w+})
                / at /usr/perl5.21.10p/lib/site_perl/5.21.10/Convert/NLS_DATE_FORMAT.pm line 116.
t/db-object-std-cached.t ........... ok
Unescaped left brace in regex is deprecated, passed through in regex; marked by <-- HERE in m/
                    (%{ <-- HERE \w+})
                / at /usr/perl5.21.10p/lib/site_perl/5.21.10/Convert/NLS_DATE_FORMAT.pm line 116.
t/db-object-std.t .................. ok
Unescaped left brace in regex is deprecated, passed through in regex; marked by <-- HERE in m/
                    (%{ <-- HERE \w+})
                / at /usr/perl5.21.10p/lib/site_perl/5.21.10/Convert/NLS_DATE_FORMAT.pm line 116.
t/db-object.t ...................... ok
Unescaped left brace in regex is deprecated, passed through in regex; marked by <-- HERE in m/
                    (%{ <-- HERE \w+})
                / at /usr/perl5.21.10p/lib/site_perl/5.21.10/Convert/NLS_DATE_FORMAT.pm line 116.
t/deep-joins.t ..................... ok
Unescaped left brace in regex is deprecated, passed through in regex; marked by <-- HERE in m/
                    (%{ <-- HERE \w+})
                / at /usr/perl5.21.10p/lib/site_perl/5.21.10/Convert/NLS_DATE_FORMAT.pm line 116.
t/inheritance.t .................... ok
Unescaped left brace in regex is deprecated, passed through in regex; marked by <-- HERE in m/
                    (%{ <-- HERE \w+})
                / at /usr/perl5.21.10p/lib/site_perl/5.21.10/Convert/NLS_DATE_FORMAT.pm line 116.
t/lazy-columns.t ................... ok
Unescaped left brace in regex is deprecated, passed through in regex; marked by <-- HERE in m/
                    (%{ <-- HERE \w+})
                / at /usr/perl5.21.10p/lib/site_perl/5.21.10/Convert/NLS_DATE_FORMAT.pm line 116.
t/leaks.t .......................... ok
Unescaped left brace in regex is deprecated, passed through in regex; marked by <-- HERE in m/
                    (%{ <-- HERE \w+})
                / at /usr/perl5.21.10p/lib/site_perl/5.21.10/Convert/NLS_DATE_FORMAT.pm line 116.
Unescaped left brace in regex is deprecated, passed through in regex; marked by <-- HERE in m/
                    (%{ <-- HERE \w+})
                / at /usr/perl5.21.10p/lib/site_perl/5.21.10/Convert/NLS_DATE_FORMAT.pm line 116.
t/make-modules.t ................... ok
Unescaped left brace in regex is deprecated, passed through in regex; marked by <-- HERE in m/
                    (%{ <-- HERE \w+})
                / at /usr/perl5.21.10p/lib/site_perl/5.21.10/Convert/NLS_DATE_FORMAT.pm line 116.
t/makemethods-db.t ................. ok
Unescaped left brace in regex is deprecated, passed through in regex; marked by <-- HERE in m/
                    (%{ <-- HERE \w+})
                / at /usr/perl5.21.10p/lib/site_perl/5.21.10/Convert/NLS_DATE_FORMAT.pm line 116.
t/makemethods.t .................... ok
Unescaped left brace in regex is deprecated, passed through in regex; marked by <-- HERE in m/
                    (%{ <-- HERE \w+})
                / at /usr/perl5.21.10p/lib/site_perl/5.21.10/Convert/NLS_DATE_FORMAT.pm line 116.
t/multi-many-the-hard-way.t ........ ok
Unescaped left brace in regex is deprecated, passed through in regex; marked by <-- HERE in m/
                    (%{ <-- HERE \w+})
                / at /usr/perl5.21.10p/lib/site_perl/5.21.10/Convert/NLS_DATE_FORMAT.pm line 116.
t/multi-pk-sequences.t ............. ok
Unescaped left brace in regex is deprecated, passed through in regex; marked by <-- HERE in m/
                    (%{ <-- HERE \w+})
                / at /usr/perl5.21.10p/lib/site_perl/5.21.10/Convert/NLS_DATE_FORMAT.pm line 116.
t/nested-joins.t ................... ok
Unescaped left brace in regex is deprecated, passed through in regex; marked by <-- HERE in m/
                    (%{ <-- HERE \w+})
                / at /usr/perl5.21.10p/lib/site_perl/5.21.10/Convert/NLS_DATE_FORMAT.pm line 116.
t/one-to-many-reset.t .............. ok
Unescaped left brace in regex is deprecated, passed through in regex; marked by <-- HERE in m/
                    (%{ <-- HERE \w+})
                / at /usr/perl5.21.10p/lib/site_perl/5.21.10/Convert/NLS_DATE_FORMAT.pm line 116.
t/pk-fk-columns.t .................. ok
t/pod.t ............................ ok
Unescaped left brace in regex is deprecated, passed through in regex; marked by <-- HERE in m/
                    (%{ <-- HERE \w+})
                / at /usr/perl5.21.10p/lib/site_perl/5.21.10/Convert/NLS_DATE_FORMAT.pm line 116.
t/query-builder.t .................. ok
Unescaped left brace in regex is deprecated, passed through in regex; marked by <-- HERE in m/
                    (%{ <-- HERE \w+})
                / at /usr/perl5.21.10p/lib/site_perl/5.21.10/Convert/NLS_DATE_FORMAT.pm line 116.
t/rt-cpan-45836.t .................. ok
Unescaped left brace in regex is deprecated, passed through in regex; marked by <-- HERE in m/
                    (%{ <-- HERE \w+})
                / at /usr/perl5.21.10p/lib/site_perl/5.21.10/Convert/NLS_DATE_FORMAT.pm line 116.
t/save-cascade.t ................... ok
Unescaped left brace in regex is deprecated, passed through in regex; marked by <-- HERE in m/
                    (%{ <-- HERE \w+})
                / at /usr/perl5.21.10p/lib/site_perl/5.21.10/Convert/NLS_DATE_FORMAT.pm line 116.
t/schema-override.t ................ ok
Unescaped left brace in regex is deprecated, passed through in regex; marked by <-- HERE in m/
                    (%{ <-- HERE \w+})
                / at /usr/perl5.21.10p/lib/site_perl/5.21.10/Convert/NLS_DATE_FORMAT.pm line 116.
t/spot-check-01.t .................. ok
Unescaped left brace in regex is deprecated, passed through in regex; marked by <-- HERE in m/
                    (%{ <-- HERE \w+})
                / at /usr/perl5.21.10p/lib/site_perl/5.21.10/Convert/NLS_DATE_FORMAT.pm line 116.
t/spot-check-02.t .................. ok
t/spot-check-03.t .................. ok
Unescaped left brace in regex is deprecated, passed through in regex; marked by <-- HERE in m/
                    (%{ <-- HERE \w+})
                / at /usr/perl5.21.10p/lib/site_perl/5.21.10/Convert/NLS_DATE_FORMAT.pm line 116.
t/spot-check-04.t .................. ok
Unescaped left brace in regex is deprecated, passed through in regex; marked by <-- HERE in m/
                    (%{ <-- HERE \w+})
                / at /usr/perl5.21.10p/lib/site_perl/5.21.10/Convert/NLS_DATE_FORMAT.pm line 116.
t/spot-check-05.t .................. ok
Unescaped left brace in regex is deprecated, passed through in regex; marked by <-- HERE in m/
                    (%{ <-- HERE \w+})
                / at /usr/perl5.21.10p/lib/site_perl/5.21.10/Convert/NLS_DATE_FORMAT.pm line 116.
t/spot-check-06.t .................. ok
Unescaped left brace in regex is deprecated, passed through in regex; marked by <-- HERE in m/
                    (%{ <-- HERE \w+})
                / at /usr/perl5.21.10p/lib/site_perl/5.21.10/Convert/NLS_DATE_FORMAT.pm line 116.
t/spot-check-07.t .................. ok
Unescaped left brace in regex is deprecated, passed through in regex; marked by <-- HERE in m/
                    (%{ <-- HERE \w+})
                / at /usr/perl5.21.10p/lib/site_perl/5.21.10/Convert/NLS_DATE_FORMAT.pm line 116.
t/spot-check-08.t .................. ok
Unescaped left brace in regex is deprecated, passed through in regex; marked by <-- HERE in m/
                    (%{ <-- HERE \w+})
                / at /usr/perl5.21.10p/lib/site_perl/5.21.10/Convert/NLS_DATE_FORMAT.pm line 116.
t/spot-check-09.t .................. ok
Unescaped left brace in regex is deprecated, passed through in regex; marked by <-- HERE in m/
                    (%{ <-- HERE \w+})
                / at /usr/perl5.21.10p/lib/site_perl/5.21.10/Convert/NLS_DATE_FORMAT.pm line 116.
t/spot-check-10.t .................. ok
Unescaped left brace in regex is deprecated, passed through in regex; marked by <-- HERE in m/
                    (%{ <-- HERE \w+})
                / at /usr/perl5.21.10p/lib/site_perl/5.21.10/Convert/NLS_DATE_FORMAT.pm line 116.
t/spot-check-11.t .................. ok
Unescaped left brace in regex is deprecated, passed through in regex; marked by <-- HERE in m/
                    (%{ <-- HERE \w+})
                / at /usr/perl5.21.10p/lib/site_perl/5.21.10/Convert/NLS_DATE_FORMAT.pm line 116.
t/spot-check-12.t .................. ok
Unescaped left brace in regex is deprecated, passed through in regex; marked by <-- HERE in m/
                    (%{ <-- HERE \w+})
                / at /usr/perl5.21.10p/lib/site_perl/5.21.10/Convert/NLS_DATE_FORMAT.pm line 116.
t/spot-check-13.t .................. ok
Unescaped left brace in regex is deprecated, passed through in regex; marked by <-- HERE in m/
                    (%{ <-- HERE \w+})
                / at /usr/perl5.21.10p/lib/site_perl/5.21.10/Convert/NLS_DATE_FORMAT.pm line 116.
t/spot-check-14.t .................. ok
Unescaped left brace in regex is deprecated, passed through in regex; marked by <-- HERE in m/
                    (%{ <-- HERE \w+})
                / at /usr/perl5.21.10p/lib/site_perl/5.21.10/Convert/NLS_DATE_FORMAT.pm line 116.
t/undef-overrides-default.t ........ ok
Unescaped left brace in regex is deprecated, passed through in regex; marked by <-- HERE in m/
                    (%{ <-- HERE \w+})
                / at /usr/perl5.21.10p/lib/site_perl/5.21.10/Convert/NLS_DATE_FORMAT.pm line 116.
t/unique-key-prefs.t ............... ok
All tests successful.
Files=67, Tests=15335, 172 wallclock secs ( 3.71 usr  0.77 sys + 78.87 cusr  7.82 csys = 91.16 CPU)
Result: PASS

------------------------------
PREREQUISITES
------------------------------

Prerequisite modules loaded:

requires:

    Module               Need     Have    
    -------------------- -------- --------
    Bit::Vector          0        7.4     
    Clone                0.29     0.38    
    Cwd                  0        3.55    
    Data::Dumper         2.121    2.158   
    DateTime             0        1.18    
    DBI                  1.40     1.633   
    File::Path           0        2.09    
    File::Spec           0        3.55    
    List::MoreUtils      0        0.408   
    Math::BigInt         1.77     1.9997  
    perl                 5.006000 5.021010
    Rose::DateTime::Util 0.532    0.540   
    Rose::DB             0.763    0.777   
    Rose::Object         0.854    0.860   
    Scalar::Util         0        1.41    
    Test::More           0        1.001014
    Time::Clock          1.00     1.03    

build_requires:

    Module               Need     Have    
    -------------------- -------- --------
    ExtUtils::MakeMaker  0        7.04    

configure_requires:

    Module               Need     Have    
    -------------------- -------- --------
    ExtUtils::MakeMaker  0        7.04    


------------------------------
ENVIRONMENT AND OTHER CONTEXT
------------------------------

Environment variables:

    DBIC_NO_WARN_BAD_PERL = 1
    LC_ALL = de_DE.ISO8859-1
    PATH = /usr/local/bin:/usr/bin:/bin:/usr/local/sbin:/usr/sbin:/sbin:/home/cpansand/bin/freebsd10.0:/home/cpansand/bin/sh:/home/cpansand/bin:/usr/games:/home/cpansand/devel:/home/eserte/src/srezic-misc/scripts
    PERL5LIB = 
    PERL5OPT = 
    PERL5_CPANPLUS_IS_RUNNING = 23514
    PERL5_CPAN_IS_RUNNING = 23514
    PERL5_CPAN_IS_RUNNING_IN_RECURSION = 23302,23514
    PERLDOC = -MPod::Perldoc::ToTextOverstrike
    PERL_BATCH = yes
    PERL_CPAN_REPORTER_CONFIG = /var/tmp/cpansmoker-1023/eOvntMvG3p_config.ini
    PERL_EXTUTILS_AUTOINSTALL = --defaultdeps
    PERL_HTML_DISPLAY_CLASS = HTML::Display::Mozilla
    SHELL = /usr/local/bin/zsh
    TERM = screen
    TMPDIR = /var/tmp/cpansmoker-1023

Perl special variables (and OS-specific diagnostics, for MSWin32):

    $^X = /usr/perl5.21.10p/bin/perl5.21.10
    $UID/$EUID = 1023 / 1023
    $GID = 1023 1023
    $EGID = 1023 1023

Perl module toolchain versions installed:

    Module              Have    
    ------------------- --------
    CPAN                2.10    
    CPAN::Meta          2.150001
    Cwd                 3.55    
    ExtUtils::CBuilder  0.280221
    ExtUtils::Command   1.20    
    ExtUtils::Install   2.04    
    ExtUtils::MakeMaker 7.04    
    ExtUtils::Manifest  1.70    
    ExtUtils::ParseXS   3.27    
    File::Spec          3.55    
    JSON                2.90    
    JSON::PP            2.27300 
    Module::Build       0.4211  
    Module::Signature   n/a     
    Parse::CPAN::Meta   1.4414  
    Test::Harness       3.35    
    Test::More          1.001014
    YAML                1.14    
    YAML::Syck          1.29    
    version             0.9909  


--

Summary of my perl5 (revision 5 version 21 subversion 10) configuration:
   
  Platform:
    osname=freebsd, osvers=10.1-release, archname=amd64-freebsd
    uname='freebsd cvrsnica-freebsd-101.herceg.de 10.1-release freebsd 10.1-release #0 r274401: tue nov 11 21:02:49 utc 2014 root@releng1.nyi.freebsd.org:usrobjusrsrcsysgeneric amd64 '
    config_args='-ds -e -Dprefix=/usr/perl5.21.10p -Dusedevel -Dusemallocwrap=no'
    hint=recommended, useposix=true, d_sigaction=define
    useithreads=undef, usemultiplicity=undef
    use64bitint=define, use64bitall=define, uselongdouble=undef
    usemymalloc=n, bincompat5005=undef
  Compiler:
    cc='cc', ccflags ='-DHAS_FPSETMASK -DHAS_FLOATINGPOINT_H -fno-strict-aliasing -pipe -fstack-protector -I/usr/local/include -D_FORTIFY_SOURCE=2',
    optimize='-O',
    cppflags='-DHAS_FPSETMASK -DHAS_FLOATINGPOINT_H -fno-strict-aliasing -pipe -fstack-protector -I/usr/local/include'
    ccversion='', gccversion='4.2.1 Compatible FreeBSD Clang 3.4.1 (tags/RELEASE_34/dot1-final 208032)', gccosandvers=''
    intsize=4, longsize=8, ptrsize=8, doublesize=8, byteorder=12345678, doublekind=3
    d_longlong=define, longlongsize=8, d_longdbl=define, longdblsize=16, longdblkind=3
    ivtype='long', ivsize=8, nvtype='double', nvsize=8, Off_t='off_t', lseeksize=8
    alignbytes=8, prototype=define
  Linker and Libraries:
    ld='cc', ldflags ='-pthread -Wl,-E  -fstack-protector -L/usr/local/lib'
    libpth=/usr/lib /usr/local/lib /usr/include/clang/3.4.1 /usr/lib
    libs=-lpthread -lgdbm -lm -lcrypt -lutil -lc
    perllibs=-lpthread -lm -lcrypt -lutil -lc
    libc=, so=so, useshrplib=false, libperl=libperl.a
    gnulibc_version=''
  Dynamic Linking:
    dlsrc=dl_dlopen.xs, dlext=so, d_dlsymun=undef, ccdlflags=' '
    cccdlflags='-DPIC -fPIC', lddlflags='-shared  -L/usr/local/lib -fstack-protector'


Characteristics of this binary (from libperl): 
  Compile-time options: HAS_TIMES PERLIO_LAYERS PERL_DONT_CREATE_GVSV
                        PERL_HASH_FUNC_ONE_AT_A_TIME_HARD
                        PERL_NEW_COPY_ON_WRITE PERL_PRESERVE_IVUV
                        PERL_USE_DEVEL USE_64_BIT_ALL USE_64_BIT_INT
                        USE_LARGE_FILES USE_LOCALE USE_LOCALE_COLLATE
                        USE_LOCALE_CTYPE USE_LOCALE_NUMERIC USE_LOCALE_TIME
                        USE_PERLIO USE_PERL_ATOF
  Built under freebsd
  Compiled at Mar 20 2015 21:05:24
  %ENV:
    PERL5LIB=""
    PERL5OPT=""
    PERL5_CPANPLUS_IS_RUNNING="23514"
    PERL5_CPAN_IS_RUNNING="23514"
    PERL5_CPAN_IS_RUNNING_IN_RECURSION="23302,23514"
    PERLDOC="-MPod::Perldoc::ToTextOverstrike"
    PERL_BATCH="yes"
    PERL_CPAN_REPORTER_CONFIG="/var/tmp/cpansmoker-1023/eOvntMvG3p_config.ini"
    PERL_EXTUTILS_AUTOINSTALL="--defaultdeps"
    PERL_HTML_DISPLAY_CLASS="HTML::Display::Mozilla"
  @INC:
    /usr/perl5.21.10p/lib/site_perl/5.21.10/amd64-freebsd
    /usr/perl5.21.10p/lib/site_perl/5.21.10
    /usr/perl5.21.10p/lib/5.21.10/amd64-freebsd
    /usr/perl5.21.10p/lib/5.21.10
    .