Devel-CheckLib v1.11 Perl 5 v5.26.1 i686-linux-64int
- Status
- Pass
- From
- Nigel Horne
- Dist
-
Devel-CheckLib v1.11
- Platform
- Perl 5 v5.26.1 i686-linux-64int
- Date
- 2017-10-18 20:58:46
- ID
- 21d5525e-b447-11e7-a2a8-d0c13ad602b4
This distribution has been tested as part of the CPAN Testers
project, supporting the Perl programming language. See
http://wiki.cpantesters.org/ for more information or email
questions to cpan-testers-discuss@perl.org
--
Dear Yasuhiro Matsumoto,
This is a computer-generated report for Devel-CheckLib-1.11
on perl 5.26.1, created by CPAN-Reporter-1.2018.
Thank you for uploading your work to CPAN. Congratulations!
All tests were successful.
Sections of this report:
* Tester comments
* Program output
* Prerequisites
* Environment and other context
------------------------------
TESTER COMMENTS
------------------------------
Additional comments from tester:
this report is from an automated smoke testing program
and was not reviewed by a human for accuracy
------------------------------
PROGRAM OUTPUT
------------------------------
Output from '/usr/bin/make test':
PERL_DL_NONLAZY=1 "/home/njh/perl5/perlbrew/perls/perl-5.26.1-64int/bin/perl5.26.1" "-MExtUtils::Command::MM" "-MTest::Harness" "-e" "undef *Test::Harness::Switches; test_harness(0, 'blib/lib', 'blib/arch')" t/*.t
t/00-load.t ................... ok
t/bad-single-word-compiler.t .. ok
t/analyze-binary.t ............ ok
t/cmdline-LIBS-INC.t .......... ok
t/dash-l-libs.t ............... ok
t/custom-function.t ........... ok
t/exit_with_message.t ......... ok
t/flags.t ..................... ok
t/headers.t ................... ok
t/multi-word-compiler.t ....... ok
t/found.t ..................... ok
t/not_found.t ................. ok
All tests successful.
Files=12, Tests=42, 3 wallclock secs ( 0.09 usr 0.02 sys + 3.64 cusr 0.64 csys = 4.39 CPU)
Result: PASS
------------------------------
PREREQUISITES
------------------------------
Prerequisite modules loaded:
requires:
Module Need Have
------------------- ------- --------
Exporter 0 5.72
File::Spec 0 3.67
File::Temp 0.16 0.2304
perl 5.00405 5.026001
build_requires:
Module Need Have
------------------- ------- --------
IO::CaptureOutput 1.0801 1.1104
Mock::Config 0.02 0.03
Test::More 0.62 1.302073
configure_requires:
Module Need Have
------------------- ------- --------
ExtUtils::MakeMaker 0 7.30
------------------------------
ENVIRONMENT AND OTHER CONTEXT
------------------------------
Environment variables:
AUTOMATED_TESTING = 1
HARNESS_OPTIONS = j2
LANG = en_US.UTF-8
PATH = /home/njh/perl5/perlbrew/bin:/home/njh/perl5/perlbrew/perls/perl-5.26.1-64int/bin:/home/njh/perl5/perlbrew/bin:/usr/bin:/bin
PERL5LIB = /home/njh/.cpan/build/Mock-Config-0.03-28/blib/arch:/home/njh/.cpan/build/Mock-Config-0.03-28/blib/lib
PERL5OPT =
PERL5_CPANPLUS_IS_RUNNING = 17191
PERL5_CPAN_IS_RUNNING = 17191
PERLBREW_BASHRC_VERSION = 0.73
PERLBREW_HOME = /home/njh/.perlbrew
PERLBREW_LIB =
PERLBREW_MANPATH = /home/njh/perl5/perlbrew/perls/perl-5.26.1-64int/man
PERLBREW_PATH = /home/njh/perl5/perlbrew/bin:/home/njh/perl5/perlbrew/perls/perl-5.26.1-64int/bin
PERLBREW_PERL = perl-5.26.1-64int
PERLBREW_ROOT = /home/njh/perl5/perlbrew
PERLBREW_VERSION = 0.73
PERL_LOCAL_LIB_ROOT =
PERL_USE_UNSAFE_INC = 1
SHELL = /bin/sh
Perl special variables (and OS-specific diagnostics, for MSWin32):
$^X = /home/njh/perl5/perlbrew/perls/perl-5.26.1-64int/bin/perl5.26.1
$UID/$EUID = 1000 / 1000
$GID = 1000 4 24 25 29 30 44 46 108 1000
$EGID = 1000 4 24 25 29 30 44 46 108 1000
Perl module toolchain versions installed:
Module Have
------------------- ----------
CPAN 2.18
CPAN::Meta 2.150010
Cwd 3.67
ExtUtils::CBuilder 0.280225
ExtUtils::Command 7.30
ExtUtils::Install 2.06
ExtUtils::MakeMaker 7.30
ExtUtils::Manifest 1.70
ExtUtils::ParseXS 3.34
File::Spec 3.67
JSON n/a
JSON::PP 2.27400_02
Module::Build n/a
Module::Signature n/a
Parse::CPAN::Meta 2.150010
Test::Harness 3.38
Test::More 1.302073
YAML n/a
YAML::Syck n/a
version 0.9917
--
Summary of my perl5 (revision 5 version 26 subversion 1) configuration:
Platform:
osname=linux
osvers=4.3.0-1-686-pae
archname=i686-linux-64int
uname='linux zack 4.3.0-1-686-pae #1 smp debian 4.3.5-1 (2016-02-06) i686 gnulinux '
config_args='-de -Dprefix=/home/njh/perl5/perlbrew/perls/perl-5.26.1-64int -Dusedevel -Duse64bitint -Accflags= -Aeval:scriptdir=/home/njh/perl5/perlbrew/perls/perl-5.26.1-64int/bin'
hint=recommended
useposix=true
d_sigaction=define
useithreads=undef
usemultiplicity=undef
use64bitint=define
use64bitall=undef
uselongdouble=undef
usemymalloc=n
default_inc_excludes_dot=define
bincompat5005=undef
Compiler:
cc='cc'
ccflags ='-fwrapv -fno-strict-aliasing -pipe -fstack-protector-strong -I/usr/local/include -D_LARGEFILE_SOURCE -D_FILE_OFFSET_BITS=64 -D_FORTIFY_SOURCE=2'
optimize='-O2'
cppflags='-fwrapv -fno-strict-aliasing -pipe -fstack-protector-strong -I/usr/local/include'
ccversion=''
gccversion='7.2.0'
gccosandvers=''
intsize=4
longsize=4
ptrsize=4
doublesize=8
byteorder=12345678
doublekind=3
d_longlong=define
longlongsize=8
d_longdbl=define
longdblsize=12
longdblkind=3
ivtype='long long'
ivsize=8
nvtype='double'
nvsize=8
Off_t='off_t'
lseeksize=8
alignbytes=4
prototype=define
Linker and Libraries:
ld='cc'
ldflags =' -fstack-protector-strong -L/usr/local/lib'
libpth=/usr/local/lib /usr/lib/gcc/i686-linux-gnu/7/include-fixed /usr/include/i386-linux-gnu /usr/lib /lib/i386-linux-gnu /lib/../lib /usr/lib/i386-linux-gnu /usr/lib/../lib /lib /lib64 /usr/lib64
libs=-lpthread -lnsl -lgdbm -ldb -ldl -lm -lcrypt -lutil -lc -lgdbm_compat
perllibs=-lpthread -lnsl -ldl -lm -lcrypt -lutil -lc
libc=libc-2.24.so
so=so
useshrplib=false
libperl=libperl.a
gnulibc_version='2.24'
Dynamic Linking:
dlsrc=dl_dlopen.xs
dlext=so
d_dlsymun=undef
ccdlflags='-Wl,-E'
cccdlflags='-fPIC'
lddlflags='-shared -O2 -L/usr/local/lib -fstack-protector-strong'
Characteristics of this binary (from libperl):
Compile-time options:
HAS_TIMES
PERLIO_LAYERS
PERL_COPY_ON_WRITE
PERL_DONT_CREATE_GVSV
PERL_MALLOC_WRAP
PERL_OP_PARENT
PERL_PRESERVE_IVUV
PERL_USE_DEVEL
USE_64_BIT_INT
USE_LARGE_FILES
USE_LOCALE
USE_LOCALE_COLLATE
USE_LOCALE_CTYPE
USE_LOCALE_NUMERIC
USE_LOCALE_TIME
USE_PERLIO
USE_PERL_ATOF
Locally applied patches:
Devel::PatchPerl 1.38
Built under linux
Compiled at Sep 30 2017 01:26:01
%ENV:
PERL5LIB="/home/njh/.cpan/build/Mock-Config-0.03-28/blib/arch:/home/njh/.cpan/build/Mock-Config-0.03-28/blib/lib"
PERL5OPT=""
PERL5_CPANPLUS_IS_RUNNING="17191"
PERL5_CPAN_IS_RUNNING="17191"
PERLBREW_BASHRC_VERSION="0.73"
PERLBREW_HOME="/home/njh/.perlbrew"
PERLBREW_LIB=""
PERLBREW_MANPATH="/home/njh/perl5/perlbrew/perls/perl-5.26.1-64int/man"
PERLBREW_PATH="/home/njh/perl5/perlbrew/bin:/home/njh/perl5/perlbrew/perls/perl-5.26.1-64int/bin"
PERLBREW_PERL="perl-5.26.1-64int"
PERLBREW_ROOT="/home/njh/perl5/perlbrew"
PERLBREW_VERSION="0.73"
PERL_LOCAL_LIB_ROOT=""
PERL_USE_UNSAFE_INC="1"
@INC:
/home/njh/.cpan/build/Mock-Config-0.03-28/blib/arch
/home/njh/.cpan/build/Mock-Config-0.03-28/blib/lib
/home/njh/perl5/perlbrew/perls/perl-5.26.1-64int/lib/site_perl/5.26.1/i686-linux-64int
/home/njh/perl5/perlbrew/perls/perl-5.26.1-64int/lib/site_perl/5.26.1
/home/njh/perl5/perlbrew/perls/perl-5.26.1-64int/lib/5.26.1/i686-linux-64int
/home/njh/perl5/perlbrew/perls/perl-5.26.1-64int/lib/5.26.1
.