Net-SIP v0.838 Perl 5 v5.12.1 amd64-freebsd-thread-multi

Status
Pass
From
Chris Williams (BINGOS)
Dist
Net-SIP v0.838
Platform
Perl 5 v5.12.1 amd64-freebsd-thread-multi
Date
2024-08-04 17:58:16
ID
2070d48a-528b-11ef-98b0-b3c3213a625c
This distribution has been tested as part of the CPAN Testers
project, supporting the Perl programming language.  See
http://wiki.cpantesters.org/ for more information or email
questions to cpan-testers-discuss@perl.org


--

Dear SULLR,

This is a computer-generated error report created automatically by
CPANPLUS, version 0.9914. Testers personal comments may appear
at the end of this report.


Thank you for uploading your work to CPAN.  Congratulations!
All tests were successful.

TEST RESULTS:

Below is the error stack from stage 'make test':

PERL_DL_NONLAZY=1 "/home/cpan/pit/thr/perl-5.12.1/bin/perl" "-MExtUtils::Command::MM" "-MTest::Harness" "-e" "undef *Test::Harness::Switches; test_harness(0, 'blib/lib', 'blib/arch')" t/*.t
t/01_load.t ............................. ok
# call created
# got ringing
# call established
# call cleaned up
# call created
# got ringing
# call established
# call cleaned up
t/02_listen_and_invite.t ................ ok
t/03_forward_stateless.t ................ ok
t/04_call_with_rtp.t .................... ok
t/05_call_with_stateless_proxy.t ........ ok
t/06_call_with_reinvite.t ............... ok
t/07_call_on_hold.t ..................... ok
t/08_register_with_auth.t ............... ok
t/09_fdleak.t ........................... ok
t/10_fdleak.t ........................... ok
t/11_invite_timeout.t ................... ok
# call established
# call cleaned up
# call established
# call cleaned up
t/12_maddr.t ............................ ok
t/13_maddr_proxy.t ...................... ok
# UAS   on 127.0.0.1:5062 
# UAC   on 127.0.0.1:5060 
# PROXY on 127.0.0.1:5063 
t/14_bugfix_0.51.t ...................... ok
t/15_block_invite.t ..................... ok
t/16_drop_invite.t ...................... ok
t/17_call_with_reinvite_and_auth.t ...... ok
t/18_register_with_auth_step_by_step.t .. ok
# UAS on 127.0.0.1:55507
# UAC on 127.0.0.1:51483
# call created
# call established
# call cleaned up
# received=465 lost=0 expect ca. 467.5 packets, events='1 2 D # 3 4 B *'
# UAS on 127.0.0.1:30014
# UAC on 127.0.0.1:15281
# call created
# call established
# call cleaned up
# received=465 lost=0 expect ca. 467.5 packets, events='1 2 D # 3 4 B *'
# UAS on 127.0.0.1:21253
# UAC on 127.0.0.1:16136
# call created
# call established
# call cleaned up
# received=466 lost=0 expect ca. 467.5 packets, events='1 2 D # 3 4 B *'
# UAS on 127.0.0.1:12813
# UAC on 127.0.0.1:59558
# call created
# call established
# call cleaned up
# received=463 lost=0 expect ca. 467.5 packets, events='1 2 D # 3 4 B *'
# UAS on 127.0.0.1:55644
# UAC on 127.0.0.1:47811
# call created
# call established
# out of order 0
# out of order 1
# out of order 2
# out of order 3
# out of order 4
# out of order 5
# out of order 6
# out of order 7
# out of order 8
# out of order 9
# out of order 10
# out of order 11
# out of order 12
# out of order 13
# out of order 14
# out of order 15
# out of order 16
# out of order 17
# out of order 18
# out of order 19
# out of order 20
# out of order 21
# out of order 22
# out of order 23
# out of order 24
# out of order 25
# out of order 26
# out of order 27
# out of order 28
# out of order 29
# out of order 30
# out of order 31
# out of order 32
# out of order 33
# out of order 34
# out of order 35
# out of order 36
# out of order 37
# out of order 38
# out of order 39
# out of order 40
# out of order 41
# out of order 42
# out of order 43
# out of order 44
# out of order 45
# out of order 46
# out of order 47
# out of order 48
# out of order 49
# out of order 50
# out of order 51
# out of order 52
# out of order 53
# out of order 54
# out of order 55
# out of order 56
# out of order 57
# out of order 58
# out of order 59
# out of order 60
# out of order 61
# out of order 62
# out of order 63
# out of order 64
# out of order 65
# out of order 66
# out of order 67
# out of order 68
# out of order 69
# out of order 70
# out of order 71
# out of order 72
# out of order 73
# out of order 74
# out of order 75
# out of order 76
# out of order 77
# out of order 78
# out of order 79
# out of order 80
# out of order 81
# out of order 82
# call cleaned up
# received=383 lost=0 expect ca. 467.5 packets, events='1 2 D # 3 4 B *'
# UAS on 127.0.0.1:26467
# UAC on 127.0.0.1:43034
# call created
# call established
# call cleaned up
# received=467 lost=0 expect ca. 467.5 packets, events='1 2 D # 3 4 B *'
# UAS on 127.0.0.1:19884
# UAC on 127.0.0.1:40280
# call created
# call established
# call cleaned up
# received=462 lost=0 expect ca. 467.5 packets, events='1 2 D # 3 4 B *'
# UAS on 127.0.0.1:56928
# UAC on 127.0.0.1:62384
# call created
# call established
# call cleaned up
# received=466 lost=0 expect ca. 467.5 packets, events='1 2 D # 3 4 B *'
t/19_call_with_dtmf.t ................... ok
t/20_channel_on_hold.t .................. ok
t/21_channel_on_hold_stateless_proxy.t .. ok
t/22_stateless_proxy_ack_on_error.t ..... ok
t/23_valid_message.t .................... ok
t/24_dtmf_audio.t ....................... ok
t/25_register_tcp_timeout.t ............. ok
t/26_request_ack.t ...................... ok
All tests successful.
Files=26, Tests=2000, 175 wallclock secs ( 0.97 usr  0.15 sys + 37.80 cusr  3.18 csys = 42.09 CPU)
Result: PASS


PREREQUISITES:

Here is a list of prerequisites you specified and versions we
managed to load:

	  Module Name                        Have     Want
	  ExtUtils::MakeMaker                7.70        0
	  Socket                            2.038     1.95

Perl module toolchain versions installed:
	Module Name                        Have
	CPANPLUS                         0.9914
	CPANPLUS::Dist::Build              0.90
	Cwd                                3.75
	ExtUtils::CBuilder             0.280236
	ExtUtils::Command                  7.70
	ExtUtils::Install                  2.22
	ExtUtils::MakeMaker                7.70
	ExtUtils::Manifest                 1.75
	ExtUtils::ParseXS                  3.51
	File::Spec                         3.75
	Module::Build                    0.4234
	Pod::Parser                        1.37
	Pod::Simple                        3.14
	Test2                          1.302199
	Test::Harness                      3.48
	Test::More                     1.302199
	version                          0.9932

******************************** NOTE ********************************
The comments above are created mechanically, possibly without manual
checking by the sender.  As there are many people performing automatic
tests on each upload to CPAN, it is likely that you will receive
identical messages about the same problem.

If you believe that the message is mistaken, please reply to the first
one with correction and/or additional informations, and do not take
it personally.  We appreciate your patience. :)
**********************************************************************

Additional comments:


This report was machine-generated by CPANPLUS::Dist::YACSmoke 1.08.
Powered by minismokebox version 0.68

CPANPLUS is prefering Build.PL

------------------------------
ENVIRONMENT AND OTHER CONTEXT
------------------------------

Environment variables:

    AUTOMATED_TESTING = 1
    LANG = C.UTF-8
    NONINTERACTIVE_TESTING = 1
    PATH = /sbin:/bin:/usr/sbin:/usr/bin:/usr/local/sbin:/usr/local/bin:/home/cpan/bin
    PERL5LIB = /home/cpan/pit/jail/YF6ZFjLwwO/lib/perl5:/home/cpan/pit/thr/conf/perl-5.12.1/.cpanplus/5.12.1/build/dTgeHsBW0H/Net-SIP-0.838/blib/lib:/home/cpan/pit/thr/conf/perl-5.12.1/.cpanplus/5.12.1/build/dTgeHsBW0H/Net-SIP-0.838/blib/arch
    PERL5_CPANPLUS_IS_RUNNING = 52375
    PERL5_CPANPLUS_IS_VERSION = 0.9914
    PERL5_MINISMOKEBOX = 0.68
    PERL5_YACSMOKE_BASE = /home/cpan/pit/thr/conf/perl-5.12.1
    PERL_EXTUTILS_AUTOINSTALL = --defaultdeps
    PERL_LOCAL_LIB_ROOT = /home/cpan/pit/jail/YF6ZFjLwwO
    PERL_MB_OPT = --install_base "/home/cpan/pit/jail/YF6ZFjLwwO"
    PERL_MM_OPT = INSTALL_BASE=/home/cpan/pit/jail/YF6ZFjLwwO
    PERL_MM_USE_DEFAULT = 1
    SHELL = /usr/local/bin/bash
    TERM = screen

Perl special variables (and OS-specific diagnostics, for MSWin32):

    Perl: $^X = /home/cpan/pit/thr/perl-5.12.1/bin/perl
    UID:  $<  = 1002
    EUID: $>  = 1002
    GID:  $(  = 1002 1002
    EGID: $)  = 1002 1002


-------------------------------


--

Summary of my perl5 (revision 5 version 12 subversion 1) configuration:
   
  Platform:
    osname=freebsd, osvers=14.1-release, archname=amd64-freebsd-thread-multi
    uname='freebsd flitter 14.1-release freebsd 14.1-release releng14.1-n267679-10e31f0946d8 generic amd64 '
    config_args='-des -Dprefix=/home/cpan/pit/thr/perl-5.12.1 -Dusethreads'
    hint=recommended, useposix=true, d_sigaction=define
    useithreads=define, usemultiplicity=define
    useperlio=define, d_sfio=undef, uselargefiles=define, usesocks=undef
    use64bitint=define, use64bitall=define, uselongdouble=undef
    usemymalloc=n, bincompat5005=undef
  Compiler:
    cc='cc', ccflags ='-DHAS_FPSETMASK -DHAS_FLOATINGPOINT_H -DNO_POSIX_2008_LOCALE -fno-strict-aliasing -pipe -fstack-protector -I/usr/local/include',
    optimize='-O2',
    cppflags='-DHAS_FPSETMASK -DHAS_FLOATINGPOINT_H -DNO_POSIX_2008_LOCALE -fno-strict-aliasing -pipe -fstack-protector -I/usr/local/include'
    ccversion='', gccversion='FreeBSD Clang 18.1.5 (https://github.com/llvm/llvm-project.git llvmorg-18.1.5-0-g617a15a9eac9)', gccosandvers=''
    intsize=4, longsize=8, ptrsize=8, doublesize=8, byteorder=12345678
    d_longlong=define, longlongsize=8, d_longdbl=define, longdblsize=16
    ivtype='long', ivsize=8, nvtype='double', nvsize=8, Off_t='off_t', lseeksize=8
    alignbytes=8, prototype=define
  Linker and Libraries:
    ld='cc', ldflags ='-pthread -Wl,-E  -fstack-protector -L/usr/local/lib'
    libpth=/usr/lib /usr/local/lib
    libs=-lgdbm -ldl -lm -lcrypt -lutil
    perllibs=-ldl -lm -lcrypt -lutil
    libc=, so=so, useshrplib=false, libperl=libperl.a
    gnulibc_version=''
  Dynamic Linking:
    dlsrc=dl_dlopen.xs, dlext=so, d_dlsymun=undef, ccdlflags=' '
    cccdlflags='-DPIC -fPIC', lddlflags='-shared  -L/usr/local/lib -fstack-protector'


Characteristics of this binary (from libperl): 
  Compile-time options: MULTIPLICITY PERL_DONT_CREATE_GVSV
                        PERL_IMPLICIT_CONTEXT PERL_MALLOC_WRAP USE_64_BIT_ALL
                        USE_64_BIT_INT USE_ITHREADS USE_LARGE_FILES
                        USE_PERLIO USE_PERL_ATOF USE_REENTRANT_API
  Locally applied patches:
	Devel::PatchPerl 2.09
  Built under freebsd
  Compiled at Jun 15 2024 18:53:56
  %ENV:
    PERL5LIB="/home/cpan/pit/jail/YF6ZFjLwwO/lib/perl5:/home/cpan/pit/thr/conf/perl-5.12.1/.cpanplus/5.12.1/build/dTgeHsBW0H/Net-SIP-0.838/blib/lib:/home/cpan/pit/thr/conf/perl-5.12.1/.cpanplus/5.12.1/build/dTgeHsBW0H/Net-SIP-0.838/blib/arch"
    PERL5_CPANPLUS_IS_RUNNING="52375"
    PERL5_CPANPLUS_IS_VERSION="0.9914"
    PERL5_MINISMOKEBOX="0.68"
    PERL5_YACSMOKE_BASE="/home/cpan/pit/thr/conf/perl-5.12.1"
    PERL_EXTUTILS_AUTOINSTALL="--defaultdeps"
    PERL_LOCAL_LIB_ROOT="/home/cpan/pit/jail/YF6ZFjLwwO"
    PERL_MB_OPT="--install_base "/home/cpan/pit/jail/YF6ZFjLwwO""
    PERL_MM_OPT="INSTALL_BASE=/home/cpan/pit/jail/YF6ZFjLwwO"
    PERL_MM_USE_DEFAULT="1"
  @INC:
    /home/cpan/pit/jail/YF6ZFjLwwO/lib/perl5/5.12.1/amd64-freebsd-thread-multi
    /home/cpan/pit/jail/YF6ZFjLwwO/lib/perl5/5.12.1
    /home/cpan/pit/jail/YF6ZFjLwwO/lib/perl5/amd64-freebsd-thread-multi
    /home/cpan/pit/jail/YF6ZFjLwwO/lib/perl5
    /home/cpan/pit/thr/conf/perl-5.12.1/.cpanplus/5.12.1/build/dTgeHsBW0H/Net-SIP-0.838/blib/lib
    /home/cpan/pit/thr/conf/perl-5.12.1/.cpanplus/5.12.1/build/dTgeHsBW0H/Net-SIP-0.838/blib/arch
    /home/cpan/pit/thr/perl-5.12.1/lib/site_perl/5.12.1/amd64-freebsd-thread-multi
    /home/cpan/pit/thr/perl-5.12.1/lib/site_perl/5.12.1
    /home/cpan/pit/thr/perl-5.12.1/lib/5.12.1/amd64-freebsd-thread-multi
    /home/cpan/pit/thr/perl-5.12.1/lib/5.12.1
    .