DBIx-SearchBuilder v1.78 Perl 5 v5.39.1 x86_64-linux-ld

Status
Pass
From
Andreas J. König (ANDK)
Dist
DBIx-SearchBuilder v1.78
Platform
Perl 5 v5.39.1 x86_64-linux-ld
Date
2023-07-25 03:55:41
ID
1fce4d42-2a9f-11ee-a5ba-10e63399d815
This distribution has been tested as part of the CPAN Testers
project, supporting the Perl programming language.  See
http://wiki.cpantesters.org/ for more information or email
questions to cpan-testers-discuss@perl.org


--
Dear Best Practical Solutions,

This is a computer-generated report for DBIx-SearchBuilder-1.78
on perl 5.39.1, created by CPAN-Reporter-1.2019.

Thank you for uploading your work to CPAN.  Congratulations!
All tests were successful.

Sections of this report:

    * Tester comments
    * Program output
    * Prerequisites
    * Environment and other context

------------------------------
TESTER COMMENTS
------------------------------

Additional comments from tester:

this report is from an automated smoke testing program
and was not reviewed by a human for accuracy

------------------------------
PROGRAM OUTPUT
------------------------------

Output from '/usr/bin/make test':

PERL_DL_NONLAZY=1 "/tmp/basesmoker-reloperl-Naxp/bin/perl" "-MExtUtils::Command::MM" "-MTest::Harness" "-e" "undef *Test::Harness::Switches; test_harness(0, 'inc', 'blib/lib', 'blib/arch')" t/00.load.t t/01basics.t t/01nocap_api.t t/01records.t t/01searches.t t/02distinct_values.t t/02null_order.t t/02order.t t/02records_cachable.t t/02records_datetime.t t/02records_dt_interval.t t/02records_integers.t t/02records_object.t t/02searches_function.t t/02searches_joins.t t/03compatibility.t t/03cud_from_select.t t/03rebless.t t/03searches_bind.t t/03searches_combine.t t/03transactions.t t/03versions.t t/04mysql_identifier_quoting.t t/10schema.t t/11schema_records.t t/20set_edge_cases.t t/pod.t
t/00.load.t ..................... ok
t/01basics.t .................... ok
t/01nocap_api.t ................. ok
t/01records.t ................... ok
t/01searches.t .................. ok
t/02distinct_values.t ........... ok
t/02null_order.t ................ ok
t/02order.t ..................... ok
t/02records_cachable.t .......... ok
t/02records_datetime.t .......... ok
t/02records_dt_interval.t ....... ok
t/02records_integers.t .......... ok
t/02records_object.t ............ ok
t/02searches_function.t ......... ok
t/02searches_joins.t ............ ok
t/03compatibility.t ............. ok
t/03cud_from_select.t ........... ok
t/03rebless.t ................... ok
t/03searches_bind.t ............. ok
t/03searches_combine.t .......... ok
t/03transactions.t .............. ok
t/03versions.t .................. ok
t/04mysql_identifier_quoting.t .. ok
t/10schema.t .................... ok
t/11schema_records.t ............ ok
t/20set_edge_cases.t ............ ok
t/pod.t ......................... ok
All tests successful.
Files=27, Tests=3160, 13 wallclock secs ( 0.42 usr  0.09 sys +  4.68 cusr  1.05 csys =  6.24 CPU)
Result: PASS

------------------------------
PREREQUISITES
------------------------------

Prerequisite modules loaded:

requires:

    Module                     Need     Have    
    -------------------------- -------- --------
    Cache::Simple::TimedExpiry 0.21     0.27    
    capitalization             0.03     0.03    
    Class::Accessor            0        0.51    
    Class::ReturnValue         0.4      0.55    
    Clone                      0        0.46    
    DBD::SQLite                1.6      1.72    
    DBI                        0        1.643   
    DBIx::DBSchema             0        0.47    
    Encode                     1.99     3.19    
    File::Temp                 0        0.2311  
    perl                       5.010001 5.039001
    Scalar::Util               0        1.63    
    Test::More                 0.52     1.302195
    Want                       0        0.29    

build_requires:

    Module                     Need     Have    
    -------------------------- -------- --------
    DBD::SQLite                1.6      1.72    
    ExtUtils::MakeMaker        6.59     7.70    
    File::Temp                 0        0.2311  
    Test::More                 0.52     1.302195

configure_requires:

    Module                     Need     Have    
    -------------------------- -------- --------
    ExtUtils::MakeMaker        6.59     7.70    


------------------------------
ENVIRONMENT AND OTHER CONTEXT
------------------------------

Environment variables:

    AUTOMATED_TESTING = 1
    LANG = en_US.UTF-8
    PATH = /home/sand/bin:/usr/local/bin:/usr/local/sbin:/usr/sbin:/usr/bin:/sbin:/bin:/usr/games:/usr/local/games:/snap/bin:/usr/local/perl/bin:/usr/X11/bin
    PERL5LIB = /tmp/loop_over_bdir-1021292-lnygIM/Business-Shipping-DataFiles-1.02-0/blib/arch:/tmp/loop_over_bdir-1021292-lnygIM/Business-Shipping-DataFiles-1.02-0/blib/lib:/tmp/loop_over_bdir-1021292-lnygIM/DBIx-Migration-Directories-0.12-0/blib/arch:/tmp/loop_over_bdir-1021292-lnygIM/DBIx-Migration-Directories-0.12-0/blib/lib:/tmp/loop_over_bdir-1021292-lnygIM/App-rmcd-0.280-0/blib/arch:/tmp/loop_over_bdir-1021292-lnygIM/App-rmcd-0.280-0/blib/lib:/tmp/loop_over_bdir-1021292-lnygIM/Devel-Required-0.16-0/blib/arch:/tmp/loop_over_bdir-1021292-lnygIM/Devel-Required-0.16-0/blib/lib:/tmp/loop_over_bdir-1021292-lnygIM/Lingua-YaTeA-0.626-0/blib/arch:/tmp/loop_over_bdir-1021292-lnygIM/Lingua-YaTeA-0.626-0/blib/lib:/tmp/loop_over_bdir-1021292-lnygIM/CORBA-Python-2.66-0/blib/arch:/tmp/loop_over_bdir-1021292-lnygIM/CORBA-Python-2.66-0/blib/lib:/tmp/loop_over_bdir-1021292-lnygIM/Simulation-Automate-1.0.1-0/blib/arch:/tmp/loop_over_bdir-1021292-lnygIM/Simulation-Automate-1.0.1-0/blib/lib
    PERL5OPT = 
    PERL5_CPANPLUS_IS_RUNNING = 1021300
    PERL5_CPAN_IS_RUNNING = 1021300
    PERL_CANARY_STABILITY_NOPROMPT = 1
    PERL_MM_USE_DEFAULT = 1
    PERL_USE_UNSAFE_INC = 1
    SHELL = /usr/bin/zsh
    TERM = screen

Perl special variables (and OS-specific diagnostics, for MSWin32):

    $^X = /tmp/basesmoker-reloperl-Naxp/bin/perl
    $UID/$EUID = 1005 / 1005
    $GID = 1005 1005
    $EGID = 1005 1005

Perl module toolchain versions installed:

    Module              Have    
    ------------------- --------
    CPAN                2.36    
    CPAN::Meta          2.150010
    Cwd                 3.89    
    ExtUtils::CBuilder  0.280239
    ExtUtils::Command   7.70    
    ExtUtils::Install   2.22    
    ExtUtils::MakeMaker 7.70    
    ExtUtils::Manifest  1.75    
    ExtUtils::ParseXS   3.51    
    File::Spec          3.88    
    JSON                4.10    
    JSON::PP            4.16    
    Module::Build       0.4234  
    Module::Signature   0.88    
    Parse::CPAN::Meta   2.150010
    Test2               1.302195
    Test::Harness       3.44    
    Test::More          1.302195
    YAML                1.30    
    YAML::Syck          1.34    
    version             0.9929  


--

Summary of my perl5 (revision 5 version 39 subversion 1) configuration:
  Commit id: 8c6729f5e3d051878ec60933bcc19650d2dddb85
  Platform:
    osname=linux
    osvers=5.4.0-153-generic
    archname=x86_64-linux-ld
    uname='linux k93focal 5.4.0-153-generic #170-ubuntu smp fri jun 16 13:43:31 utc 2023 x86_64 x86_64 x86_64 gnulinux '
    config_args='-Dprefix=/home/sand/src/perl/repoperls/installed-perls/host/k93focal/v5.39.1/d3e4 -Dmyhostname=k93focal -Dinstallusrbinperl=n -Uversiononly -Dusedevel -des -Ui_db -Dlibswanted=cl pthread socket inet nsl gdbm dbm malloc dl ld sun m crypt sec util c cposix posix ucb BSD gdbm_compat -Uuseithreads -Duselongdouble -DEBUGGING=both'
    hint=recommended
    useposix=true
    d_sigaction=define
    useithreads=undef
    usemultiplicity=undef
    use64bitint=define
    use64bitall=define
    uselongdouble=define
    usemymalloc=n
    default_inc_excludes_dot=define
  Compiler:
    cc='cc'
    ccflags ='-fwrapv -DDEBUGGING -fno-strict-aliasing -pipe -fstack-protector-strong -I/usr/local/include -D_LARGEFILE_SOURCE -D_FILE_OFFSET_BITS=64'
    optimize='-O2 -g'
    cppflags='-fwrapv -DDEBUGGING -fno-strict-aliasing -pipe -fstack-protector-strong -I/usr/local/include'
    ccversion=''
    gccversion='9.4.0'
    gccosandvers=''
    intsize=4
    longsize=8
    ptrsize=8
    doublesize=8
    byteorder=12345678
    doublekind=3
    d_longlong=define
    longlongsize=8
    d_longdbl=define
    longdblsize=16
    longdblkind=3
    ivtype='long'
    ivsize=8
    nvtype='long double'
    nvsize=16
    Off_t='off_t'
    lseeksize=8
    alignbytes=16
    prototype=define
  Linker and Libraries:
    ld='cc'
    ldflags =' -fstack-protector-strong -L/usr/local/lib'
    libpth=/usr/local/lib /usr/lib/x86_64-linux-gnu /usr/lib /usr/lib64
    libs=-lpthread -lnsl -ldl -lm -lcrypt -lutil -lc
    perllibs=-lpthread -lnsl -ldl -lm -lcrypt -lutil -lc
    libc=libc-2.31.so
    so=so
    useshrplib=false
    libperl=libperl.a
    gnulibc_version='2.31'
  Dynamic Linking:
    dlsrc=dl_dlopen.xs
    dlext=so
    d_dlsymun=undef
    ccdlflags='-Wl,-E'
    cccdlflags='-fPIC'
    lddlflags='-shared -O2 -g -L/usr/local/lib -fstack-protector-strong'


Characteristics of this binary (from libperl): 
  Compile-time options:
    DEBUGGING
    HAS_LONG_DOUBLE
    HAS_STRTOLD
    HAS_TIMES
    PERLIO_LAYERS
    PERL_COPY_ON_WRITE
    PERL_DONT_CREATE_GVSV
    PERL_HASH_FUNC_SIPHASH13
    PERL_HASH_USE_SBOX32
    PERL_MALLOC_WRAP
    PERL_OP_PARENT
    PERL_PRESERVE_IVUV
    PERL_USE_DEVEL
    PERL_USE_SAFE_PUTENV
    USE_64_BIT_ALL
    USE_64_BIT_INT
    USE_LARGE_FILES
    USE_LOCALE
    USE_LOCALE_COLLATE
    USE_LOCALE_CTYPE
    USE_LOCALE_NUMERIC
    USE_LOCALE_TIME
    USE_LONG_DOUBLE
    USE_PERLIO
    USE_PERL_ATOF
  Built under linux
  Compiled at Jul 21 2023 01:39:24
  %ENV:
    PERL5LIB="/tmp/loop_over_bdir-1021292-lnygIM/Business-Shipping-DataFiles-1.02-0/blib/arch:/tmp/loop_over_bdir-1021292-lnygIM/Business-Shipping-DataFiles-1.02-0/blib/lib:/tmp/loop_over_bdir-1021292-lnygIM/DBIx-Migration-Directories-0.12-0/blib/arch:/tmp/loop_over_bdir-1021292-lnygIM/DBIx-Migration-Directories-0.12-0/blib/lib:/tmp/loop_over_bdir-1021292-lnygIM/App-rmcd-0.280-0/blib/arch:/tmp/loop_over_bdir-1021292-lnygIM/App-rmcd-0.280-0/blib/lib:/tmp/loop_over_bdir-1021292-lnygIM/Devel-Required-0.16-0/blib/arch:/tmp/loop_over_bdir-1021292-lnygIM/Devel-Required-0.16-0/blib/lib:/tmp/loop_over_bdir-1021292-lnygIM/Lingua-YaTeA-0.626-0/blib/arch:/tmp/loop_over_bdir-1021292-lnygIM/Lingua-YaTeA-0.626-0/blib/lib:/tmp/loop_over_bdir-1021292-lnygIM/CORBA-Python-2.66-0/blib/arch:/tmp/loop_over_bdir-1021292-lnygIM/CORBA-Python-2.66-0/blib/lib:/tmp/loop_over_bdir-1021292-lnygIM/Simulation-Automate-1.0.1-0/blib/arch:/tmp/loop_over_bdir-1021292-lnygIM/Simulation-Automate-1.0.1-0/blib/lib"
    PERL5OPT=""
    PERL5_CPANPLUS_IS_RUNNING="1021300"
    PERL5_CPAN_IS_RUNNING="1021300"
    PERL_CANARY_STABILITY_NOPROMPT="1"
    PERL_MM_USE_DEFAULT="1"
    PERL_USE_UNSAFE_INC="1"
  @INC:
    /tmp/loop_over_bdir-1021292-lnygIM/Business-Shipping-DataFiles-1.02-0/blib/arch
    /tmp/loop_over_bdir-1021292-lnygIM/Business-Shipping-DataFiles-1.02-0/blib/lib
    /tmp/loop_over_bdir-1021292-lnygIM/DBIx-Migration-Directories-0.12-0/blib/arch
    /tmp/loop_over_bdir-1021292-lnygIM/DBIx-Migration-Directories-0.12-0/blib/lib
    /tmp/loop_over_bdir-1021292-lnygIM/App-rmcd-0.280-0/blib/arch
    /tmp/loop_over_bdir-1021292-lnygIM/App-rmcd-0.280-0/blib/lib
    /tmp/loop_over_bdir-1021292-lnygIM/Devel-Required-0.16-0/blib/arch
    /tmp/loop_over_bdir-1021292-lnygIM/Devel-Required-0.16-0/blib/lib
    /tmp/loop_over_bdir-1021292-lnygIM/Lingua-YaTeA-0.626-0/blib/arch
    /tmp/loop_over_bdir-1021292-lnygIM/Lingua-YaTeA-0.626-0/blib/lib
    /tmp/loop_over_bdir-1021292-lnygIM/CORBA-Python-2.66-0/blib/arch
    /tmp/loop_over_bdir-1021292-lnygIM/CORBA-Python-2.66-0/blib/lib
    /tmp/loop_over_bdir-1021292-lnygIM/Simulation-Automate-1.0.1-0/blib/arch
    /tmp/loop_over_bdir-1021292-lnygIM/Simulation-Automate-1.0.1-0/blib/lib
    /home/sand/src/perl/repoperls/installed-perls/host/k93focal/v5.39.1/d3e4/lib/site_perl/5.39.1/x86_64-linux-ld
    /home/sand/src/perl/repoperls/installed-perls/host/k93focal/v5.39.1/d3e4/lib/site_perl/5.39.1
    /home/sand/src/perl/repoperls/installed-perls/host/k93focal/v5.39.1/d3e4/lib/5.39.1/x86_64-linux-ld
    /home/sand/src/perl/repoperls/installed-perls/host/k93focal/v5.39.1/d3e4/lib/5.39.1
    .