Google-Ads-GoogleAds-Client v20.0.0 Perl 5 v5.36.3 arm64-freebsd
- Status
- Pass
- From
- Slaven Rezić
- Dist
-
Google-Ads-GoogleAds-Client v20.0.0
- Platform
- Perl 5 v5.36.3 arm64-freebsd
- Date
- 2024-01-23 16:47:41
- ID
- 1faeb98c-ba0f-11ee-9d8f-3a456e8775ea
This distribution has been tested as part of the CPAN Testers
project, supporting the Perl programming language. See
http://wiki.cpantesters.org/ for more information or email
questions to cpan-testers-discuss@perl.org
--
Dear Google Ads API,
This is a computer-generated report for Google-Ads-GoogleAds-Client-20.0.0
on perl 5.36.3, created by CPAN-Reporter-1.2019.
Thank you for uploading your work to CPAN. Congratulations!
All tests were successful.
Sections of this report:
* Tester comments
* Program output
* Prerequisites
* Environment and other context
------------------------------
TESTER COMMENTS
------------------------------
Additional comments from tester:
none provided
------------------------------
PROGRAM OUTPUT
------------------------------
Output from './Build test':
t/001_require.t ....................... ok
t/011_Client.t ........................ ok
t/012_GoogleAdsException.t ............ ok
t/013_OAuth2ApplicationsHandler.t ..... ok
t/014_GoogleAdsHelper.t ............... ok
t/015_SearchGoogleAdsIterator.t ....... ok
t/016_FieldMasks.t .................... ok
t/017_PartialFailureUtils.t ........... ok
t/018_MediaUtils.t .................... ok
t/019_GoogleAdsLogger.t ............... ok
t/020_ResourcesNames.t ................ ok
t/021_OperationService.t .............. ok
t/022_SearchStreamHandler.t ........... ok
t/023_OAuth2ServiceAccountsHandler.t .. ok
All tests successful.
Files=14, Tests=3630, 3 wallclock secs ( 0.24 usr 0.08 sys + 3.02 cusr 0.50 csys = 3.84 CPU)
Result: PASS
------------------------------
PREREQUISITES
------------------------------
Prerequisite modules loaded:
requires:
Module Need Have
-------------------------- ------- ----------
Class::Load 0 0.25
Class::Std::Fast 0 0.0.8
Const::Exporter 0 v1.2.3
Crypt::OpenSSL::RSA 0 0.33
Cwd 0 3.84
Data::Compare 0 1.29
Data::Uniqid 0 0.12
Date::Format 0 2.24
Date::Parse 0 2.33
Digest::SHA 0 6.02
Exporter::Auto 0 0.04
File::Basename 0 2.85
File::HomeDir 0 1.006
File::Path 0 2.18
File::Spec 0 3.84
File::Temp 0 0.2311
FindBin 0 1.53
Getopt::Long 0 2.57
HTTP::Server::Simple::CGI 0 0
IO::Socket::SSL 0 2.085
JSON::Parse 0 0.62
JSON::SL 0 1.0.7
JSON::WebToken 0 0.10
JSON::XS 0 4.03
List::Util 0 1.63
Log::Log4perl 0 1.57
LWP::Protocol::https 0 6.11
LWP::UserAgent 0 6.72
LWP::UserAgent::Determined 0 1.07
MIME::Base64 0 3.16
perl v5.28.1 5.036003
POSIX 0 2.03
Storable 0 3.26
Template 0 3.101
Time::HiRes 0 1.9770
URI::Escape 0 5.21
URI::Query 0 0.16
build_requires:
Module Need Have
-------------------------- ------- ----------
Class::Std::Fast 0 0.0.8
Config::Properties 0 1.80
Module::Build 0 0.4234
Test::Deep 0 1.204
Test::Exception 0 0.43
Test::MockObject 0 1.20200122
Test::MockObject::Extends 0 1.20200122
Test::More 0 1.302198
configure_requires:
Module Need Have
-------------------------- ------- ----------
Module::Build 0.42 0.4234
------------------------------
ENVIRONMENT AND OTHER CONTEXT
------------------------------
Environment variables:
LANG = C.UTF-8
PATH = /usr/local/bin:/usr/bin:/bin:/usr/local/sbin:/usr/sbin:/sbin:/home/cpansand/bin/sh:/home/cpansand/bin:/usr/games:/home/cpansand/devel:/home/eserte/src/srezic-misc/scripts
PERL5LIB =
PERL5OPT =
PERL5_CPANPLUS_IS_RUNNING = 45696
PERL5_CPAN_IS_RUNNING = 45696
PERL5_CPAN_IS_RUNNING_IN_RECURSION = 45609,45696
PERL_BATCH = yes
PERL_CANARY_STABILITY_NOPROMPT = 1
PERL_CPAN_REPORTER_CONFIG = /var/tmp/cpansmoker-1023/2024012316/cpanreporter_000_config.ini
PERL_EXTUTILS_AUTOINSTALL = --defaultdeps
PERL_USE_UNSAFE_INC = 1
SHELL = /bin/sh
TMPDIR = /var/tmp/cpansmoker-1023/2024012316
Perl special variables (and OS-specific diagnostics, for MSWin32):
$^X = /usr/perl5.36.3/bin/perl
$UID/$EUID = 1023 / 1023
$GID = 1023 1023
$EGID = 1023 1023
Perl module toolchain versions installed:
Module Have
------------------- --------
CPAN 2.33
CPAN::Meta 2.150010
Cwd 3.84
ExtUtils::CBuilder 0.280236
ExtUtils::Command 7.70
ExtUtils::Install 2.20
ExtUtils::MakeMaker 7.70
ExtUtils::Manifest 1.73
ExtUtils::ParseXS 3.51
File::Spec 3.84
JSON 4.10
JSON::PP 4.16
Module::Build 0.4234
Module::Signature 0.88
Parse::CPAN::Meta 2.150010
Test2 1.302198
Test::Harness 3.44
Test::More 1.302198
YAML 1.30
YAML::Syck 1.34
version 0.9929
--
Summary of my perl5 (revision 5 version 36 subversion 3) configuration:
Platform:
osname=freebsd
osvers=14.0-stable
archname=arm64-freebsd
uname='freebsd cloud9.bbbike.org 14.0-stable freebsd 14.0-stable #0 stable14-ac83f3fa4: mon dec 25 18:44:17 utc 2023 root@cloud9.bbbike.org:usrobjhomeprojectsfreebsd-srcarm64.aarch64sysgeneric arm64 '
config_args='-ds -e -Dprefix=/usr/perl5.36.3 -Dcf_email=srezic@cpan.org -Doptimize=-O2 -pipe'
hint=recommended
useposix=true
d_sigaction=define
useithreads=undef
usemultiplicity=undef
use64bitint=define
use64bitall=define
uselongdouble=undef
usemymalloc=n
default_inc_excludes_dot=define
Compiler:
cc='cc'
ccflags ='-DHAS_FPSETMASK -DHAS_FLOATINGPOINT_H -fno-strict-aliasing -pipe -fstack-protector-strong -I/usr/local/include'
optimize='-O2 -pipe'
cppflags='-DHAS_FPSETMASK -DHAS_FLOATINGPOINT_H -fno-strict-aliasing -pipe -fstack-protector-strong -I/usr/local/include'
ccversion=''
gccversion='FreeBSD Clang 16.0.6 (https://github.com/llvm/llvm-project.git llvmorg-16.0.6-0-g7cbf1a259152)'
gccosandvers=''
intsize=4
longsize=8
ptrsize=8
doublesize=8
byteorder=12345678
doublekind=3
d_longlong=define
longlongsize=8
d_longdbl=define
longdblsize=16
longdblkind=1
ivtype='long'
ivsize=8
nvtype='double'
nvsize=8
Off_t='off_t'
lseeksize=8
alignbytes=8
prototype=define
Linker and Libraries:
ld='cc'
ldflags ='-Wl,-E -fstack-protector-strong -L/usr/local/lib'
libpth=/usr/lib /usr/local/lib /usr/lib/clang/16/lib
libs=-lpthread -lgdbm -ldl -lm -lcrypt -lutil -lc
perllibs=-lpthread -ldl -lm -lcrypt -lutil -lc
libc=
so=so
useshrplib=false
libperl=libperl.a
gnulibc_version=''
Dynamic Linking:
dlsrc=dl_dlopen.xs
dlext=so
d_dlsymun=undef
ccdlflags=' '
cccdlflags='-DPIC -fPIC'
lddlflags='-shared -L/usr/local/lib -fstack-protector-strong'
Characteristics of this binary (from libperl):
Compile-time options:
HAS_TIMES
PERLIO_LAYERS
PERL_COPY_ON_WRITE
PERL_DONT_CREATE_GVSV
PERL_MALLOC_WRAP
PERL_OP_PARENT
PERL_PRESERVE_IVUV
USE_64_BIT_ALL
USE_64_BIT_INT
USE_LARGE_FILES
USE_LOCALE
USE_LOCALE_COLLATE
USE_LOCALE_CTYPE
USE_LOCALE_NUMERIC
USE_LOCALE_TIME
USE_PERLIO
USE_PERL_ATOF
Built under freebsd
Compiled at Dec 26 2023 16:17:13
%ENV:
PERL5LIB=""
PERL5OPT=""
PERL5_CPANPLUS_IS_RUNNING="45696"
PERL5_CPAN_IS_RUNNING="45696"
PERL5_CPAN_IS_RUNNING_IN_RECURSION="45609,45696"
PERL_BATCH="yes"
PERL_CANARY_STABILITY_NOPROMPT="1"
PERL_CPAN_REPORTER_CONFIG="/var/tmp/cpansmoker-1023/2024012316/cpanreporter_000_config.ini"
PERL_EXTUTILS_AUTOINSTALL="--defaultdeps"
PERL_USE_UNSAFE_INC="1"
@INC:
/usr/perl5.36.3/lib/site_perl/5.36.3/arm64-freebsd
/usr/perl5.36.3/lib/site_perl/5.36.3
/usr/perl5.36.3/lib/5.36.3/arm64-freebsd
/usr/perl5.36.3/lib/5.36.3
.