Csistck v0.1003 Perl 5 v5.26.0 x86_64-linux-ld

Status
Pass
From
Andreas J. König (ANDK)
Dist
Csistck v0.1003
Platform
Perl 5 v5.26.0 x86_64-linux-ld
Date
2017-10-04 20:10:53
ID
1fac2d20-a940-11e7-a825-cd5a96210b79
This distribution has been tested as part of the CPAN Testers
project, supporting the Perl programming language.  See
http://wiki.cpantesters.org/ for more information or email
questions to cpan-testers-discuss@perl.org


--
Dear Anthony Johnson,

This is a computer-generated report for Csistck-0.1003
on perl 5.26.0, created by CPAN-Reporter-1.2018.

Thank you for uploading your work to CPAN.  Congratulations!
All tests were successful.

Sections of this report:

    * Tester comments
    * Program output
    * Prerequisites
    * Environment and other context

------------------------------
TESTER COMMENTS
------------------------------

Additional comments from tester:

this report is from an automated smoke testing program
and was not reviewed by a human for accuracy

------------------------------
PROGRAM OUTPUT
------------------------------

Output from '/usr/bin/make test':

PERL_DL_NONLAZY=1 "/home/sand/src/perl/repoperls/installed-perls/host/k93msid/v5.26.0/0a29/bin/perl" "-MExtUtils::Command::MM" "-MTest::Harness" "-e" "undef *Test::Harness::Switches; test_harness(0, 'inc', 'blib/lib', 'blib/arch')" t/*.t
given is experimental at /tmp/loop_over_bdir-5564-bOtWVr/Csistck-0.1003-0/blib/lib/Csistck/Oper.pm line 58.
when is experimental at /tmp/loop_over_bdir-5564-bOtWVr/Csistck-0.1003-0/blib/lib/Csistck/Oper.pm line 59.
when is experimental at /tmp/loop_over_bdir-5564-bOtWVr/Csistck-0.1003-0/blib/lib/Csistck/Oper.pm line 60.
given is experimental at /tmp/loop_over_bdir-5564-bOtWVr/Csistck-0.1003-0/blib/lib/Csistck/Test.pm line 45.
when is experimental at /tmp/loop_over_bdir-5564-bOtWVr/Csistck-0.1003-0/blib/lib/Csistck/Test.pm line 46.
when is experimental at /tmp/loop_over_bdir-5564-bOtWVr/Csistck-0.1003-0/blib/lib/Csistck/Test.pm line 47.
when is experimental at /tmp/loop_over_bdir-5564-bOtWVr/Csistck-0.1003-0/blib/lib/Csistck/Test.pm line 48.
given is experimental at /tmp/loop_over_bdir-5564-bOtWVr/Csistck-0.1003-0/blib/lib/Csistck/Test/Pkg.pm line 197.
when is experimental at /tmp/loop_over_bdir-5564-bOtWVr/Csistck-0.1003-0/blib/lib/Csistck/Test/Pkg.pm line 198.
when is experimental at /tmp/loop_over_bdir-5564-bOtWVr/Csistck-0.1003-0/blib/lib/Csistck/Test/Pkg.pm line 199.
when is experimental at /tmp/loop_over_bdir-5564-bOtWVr/Csistck-0.1003-0/blib/lib/Csistck/Test/Pkg.pm line 200.
given is experimental at /tmp/loop_over_bdir-5564-bOtWVr/Csistck-0.1003-0/blib/lib/Csistck/Test/Pkg.pm line 201.
when is experimental at /tmp/loop_over_bdir-5564-bOtWVr/Csistck-0.1003-0/blib/lib/Csistck/Test/Pkg.pm line 202.
when is experimental at /tmp/loop_over_bdir-5564-bOtWVr/Csistck-0.1003-0/blib/lib/Csistck/Test/Pkg.pm line 203.
when is experimental at /tmp/loop_over_bdir-5564-bOtWVr/Csistck-0.1003-0/blib/lib/Csistck/Test/Pkg.pm line 204.
when is experimental at /tmp/loop_over_bdir-5564-bOtWVr/Csistck-0.1003-0/blib/lib/Csistck/Test/Pkg.pm line 205.
when is experimental at /tmp/loop_over_bdir-5564-bOtWVr/Csistck-0.1003-0/blib/lib/Csistck/Test/Pkg.pm line 209.
given is experimental at /tmp/loop_over_bdir-5564-bOtWVr/Csistck-0.1003-0/blib/lib/Csistck/Test/Pkg.pm line 228.
when is experimental at /tmp/loop_over_bdir-5564-bOtWVr/Csistck-0.1003-0/blib/lib/Csistck/Test/Pkg.pm line 229.
when is experimental at /tmp/loop_over_bdir-5564-bOtWVr/Csistck-0.1003-0/blib/lib/Csistck/Test/Pkg.pm line 232.
given is experimental at /tmp/loop_over_bdir-5564-bOtWVr/Csistck-0.1003-0/blib/lib/Csistck/Term.pm line 48.
when is experimental at /tmp/loop_over_bdir-5564-bOtWVr/Csistck-0.1003-0/blib/lib/Csistck/Term.pm line 49.
when is experimental at /tmp/loop_over_bdir-5564-bOtWVr/Csistck-0.1003-0/blib/lib/Csistck/Term.pm line 52.
given is experimental at /tmp/loop_over_bdir-5564-bOtWVr/Csistck-0.1003-0/blib/lib/Csistck.pm line 217.
when is experimental at /tmp/loop_over_bdir-5564-bOtWVr/Csistck-0.1003-0/blib/lib/Csistck.pm line 218.
when is experimental at /tmp/loop_over_bdir-5564-bOtWVr/Csistck-0.1003-0/blib/lib/Csistck.pm line 221.
t/00load.t ........ ok
given is experimental at /tmp/loop_over_bdir-5564-bOtWVr/Csistck-0.1003-0/blib/lib/Csistck/Oper.pm line 58.
when is experimental at /tmp/loop_over_bdir-5564-bOtWVr/Csistck-0.1003-0/blib/lib/Csistck/Oper.pm line 59.
when is experimental at /tmp/loop_over_bdir-5564-bOtWVr/Csistck-0.1003-0/blib/lib/Csistck/Oper.pm line 60.
given is experimental at /tmp/loop_over_bdir-5564-bOtWVr/Csistck-0.1003-0/blib/lib/Csistck/Test.pm line 45.
when is experimental at /tmp/loop_over_bdir-5564-bOtWVr/Csistck-0.1003-0/blib/lib/Csistck/Test.pm line 46.
when is experimental at /tmp/loop_over_bdir-5564-bOtWVr/Csistck-0.1003-0/blib/lib/Csistck/Test.pm line 47.
when is experimental at /tmp/loop_over_bdir-5564-bOtWVr/Csistck-0.1003-0/blib/lib/Csistck/Test.pm line 48.
given is experimental at /tmp/loop_over_bdir-5564-bOtWVr/Csistck-0.1003-0/blib/lib/Csistck/Test/Pkg.pm line 197.
when is experimental at /tmp/loop_over_bdir-5564-bOtWVr/Csistck-0.1003-0/blib/lib/Csistck/Test/Pkg.pm line 198.
when is experimental at /tmp/loop_over_bdir-5564-bOtWVr/Csistck-0.1003-0/blib/lib/Csistck/Test/Pkg.pm line 199.
when is experimental at /tmp/loop_over_bdir-5564-bOtWVr/Csistck-0.1003-0/blib/lib/Csistck/Test/Pkg.pm line 200.
given is experimental at /tmp/loop_over_bdir-5564-bOtWVr/Csistck-0.1003-0/blib/lib/Csistck/Test/Pkg.pm line 201.
when is experimental at /tmp/loop_over_bdir-5564-bOtWVr/Csistck-0.1003-0/blib/lib/Csistck/Test/Pkg.pm line 202.
when is experimental at /tmp/loop_over_bdir-5564-bOtWVr/Csistck-0.1003-0/blib/lib/Csistck/Test/Pkg.pm line 203.
when is experimental at /tmp/loop_over_bdir-5564-bOtWVr/Csistck-0.1003-0/blib/lib/Csistck/Test/Pkg.pm line 204.
when is experimental at /tmp/loop_over_bdir-5564-bOtWVr/Csistck-0.1003-0/blib/lib/Csistck/Test/Pkg.pm line 205.
when is experimental at /tmp/loop_over_bdir-5564-bOtWVr/Csistck-0.1003-0/blib/lib/Csistck/Test/Pkg.pm line 209.
given is experimental at /tmp/loop_over_bdir-5564-bOtWVr/Csistck-0.1003-0/blib/lib/Csistck/Test/Pkg.pm line 228.
when is experimental at /tmp/loop_over_bdir-5564-bOtWVr/Csistck-0.1003-0/blib/lib/Csistck/Test/Pkg.pm line 229.
when is experimental at /tmp/loop_over_bdir-5564-bOtWVr/Csistck-0.1003-0/blib/lib/Csistck/Test/Pkg.pm line 232.
given is experimental at /tmp/loop_over_bdir-5564-bOtWVr/Csistck-0.1003-0/blib/lib/Csistck/Term.pm line 48.
when is experimental at /tmp/loop_over_bdir-5564-bOtWVr/Csistck-0.1003-0/blib/lib/Csistck/Term.pm line 49.
when is experimental at /tmp/loop_over_bdir-5564-bOtWVr/Csistck-0.1003-0/blib/lib/Csistck/Term.pm line 52.
given is experimental at /tmp/loop_over_bdir-5564-bOtWVr/Csistck-0.1003-0/blib/lib/Csistck.pm line 217.
when is experimental at /tmp/loop_over_bdir-5564-bOtWVr/Csistck-0.1003-0/blib/lib/Csistck.pm line 218.
when is experimental at /tmp/loop_over_bdir-5564-bOtWVr/Csistck-0.1003-0/blib/lib/Csistck.pm line 221.
t/01exports.t ..... ok
t/01friday.t ...... ok
given is experimental at /tmp/loop_over_bdir-5564-bOtWVr/Csistck-0.1003-0/blib/lib/Csistck/Oper.pm line 58.
when is experimental at /tmp/loop_over_bdir-5564-bOtWVr/Csistck-0.1003-0/blib/lib/Csistck/Oper.pm line 59.
when is experimental at /tmp/loop_over_bdir-5564-bOtWVr/Csistck-0.1003-0/blib/lib/Csistck/Oper.pm line 60.
given is experimental at /tmp/loop_over_bdir-5564-bOtWVr/Csistck-0.1003-0/blib/lib/Csistck/Test.pm line 45.
when is experimental at /tmp/loop_over_bdir-5564-bOtWVr/Csistck-0.1003-0/blib/lib/Csistck/Test.pm line 46.
when is experimental at /tmp/loop_over_bdir-5564-bOtWVr/Csistck-0.1003-0/blib/lib/Csistck/Test.pm line 47.
when is experimental at /tmp/loop_over_bdir-5564-bOtWVr/Csistck-0.1003-0/blib/lib/Csistck/Test.pm line 48.
given is experimental at /tmp/loop_over_bdir-5564-bOtWVr/Csistck-0.1003-0/blib/lib/Csistck/Test/Pkg.pm line 197.
when is experimental at /tmp/loop_over_bdir-5564-bOtWVr/Csistck-0.1003-0/blib/lib/Csistck/Test/Pkg.pm line 198.
when is experimental at /tmp/loop_over_bdir-5564-bOtWVr/Csistck-0.1003-0/blib/lib/Csistck/Test/Pkg.pm line 199.
when is experimental at /tmp/loop_over_bdir-5564-bOtWVr/Csistck-0.1003-0/blib/lib/Csistck/Test/Pkg.pm line 200.
given is experimental at /tmp/loop_over_bdir-5564-bOtWVr/Csistck-0.1003-0/blib/lib/Csistck/Test/Pkg.pm line 201.
when is experimental at /tmp/loop_over_bdir-5564-bOtWVr/Csistck-0.1003-0/blib/lib/Csistck/Test/Pkg.pm line 202.
when is experimental at /tmp/loop_over_bdir-5564-bOtWVr/Csistck-0.1003-0/blib/lib/Csistck/Test/Pkg.pm line 203.
when is experimental at /tmp/loop_over_bdir-5564-bOtWVr/Csistck-0.1003-0/blib/lib/Csistck/Test/Pkg.pm line 204.
when is experimental at /tmp/loop_over_bdir-5564-bOtWVr/Csistck-0.1003-0/blib/lib/Csistck/Test/Pkg.pm line 205.
when is experimental at /tmp/loop_over_bdir-5564-bOtWVr/Csistck-0.1003-0/blib/lib/Csistck/Test/Pkg.pm line 209.
given is experimental at /tmp/loop_over_bdir-5564-bOtWVr/Csistck-0.1003-0/blib/lib/Csistck/Test/Pkg.pm line 228.
when is experimental at /tmp/loop_over_bdir-5564-bOtWVr/Csistck-0.1003-0/blib/lib/Csistck/Test/Pkg.pm line 229.
when is experimental at /tmp/loop_over_bdir-5564-bOtWVr/Csistck-0.1003-0/blib/lib/Csistck/Test/Pkg.pm line 232.
given is experimental at /tmp/loop_over_bdir-5564-bOtWVr/Csistck-0.1003-0/blib/lib/Csistck/Term.pm line 48.
when is experimental at /tmp/loop_over_bdir-5564-bOtWVr/Csistck-0.1003-0/blib/lib/Csistck/Term.pm line 49.
when is experimental at /tmp/loop_over_bdir-5564-bOtWVr/Csistck-0.1003-0/blib/lib/Csistck/Term.pm line 52.
given is experimental at /tmp/loop_over_bdir-5564-bOtWVr/Csistck-0.1003-0/blib/lib/Csistck.pm line 217.
when is experimental at /tmp/loop_over_bdir-5564-bOtWVr/Csistck-0.1003-0/blib/lib/Csistck.pm line 218.
when is experimental at /tmp/loop_over_bdir-5564-bOtWVr/Csistck-0.1003-0/blib/lib/Csistck.pm line 221.
t/02check.t ....... ok
given is experimental at /tmp/loop_over_bdir-5564-bOtWVr/Csistck-0.1003-0/blib/lib/Csistck/Oper.pm line 58.
when is experimental at /tmp/loop_over_bdir-5564-bOtWVr/Csistck-0.1003-0/blib/lib/Csistck/Oper.pm line 59.
when is experimental at /tmp/loop_over_bdir-5564-bOtWVr/Csistck-0.1003-0/blib/lib/Csistck/Oper.pm line 60.
given is experimental at /tmp/loop_over_bdir-5564-bOtWVr/Csistck-0.1003-0/blib/lib/Csistck/Test.pm line 45.
when is experimental at /tmp/loop_over_bdir-5564-bOtWVr/Csistck-0.1003-0/blib/lib/Csistck/Test.pm line 46.
when is experimental at /tmp/loop_over_bdir-5564-bOtWVr/Csistck-0.1003-0/blib/lib/Csistck/Test.pm line 47.
when is experimental at /tmp/loop_over_bdir-5564-bOtWVr/Csistck-0.1003-0/blib/lib/Csistck/Test.pm line 48.
given is experimental at /tmp/loop_over_bdir-5564-bOtWVr/Csistck-0.1003-0/blib/lib/Csistck/Test/Pkg.pm line 197.
when is experimental at /tmp/loop_over_bdir-5564-bOtWVr/Csistck-0.1003-0/blib/lib/Csistck/Test/Pkg.pm line 198.
when is experimental at /tmp/loop_over_bdir-5564-bOtWVr/Csistck-0.1003-0/blib/lib/Csistck/Test/Pkg.pm line 199.
when is experimental at /tmp/loop_over_bdir-5564-bOtWVr/Csistck-0.1003-0/blib/lib/Csistck/Test/Pkg.pm line 200.
given is experimental at /tmp/loop_over_bdir-5564-bOtWVr/Csistck-0.1003-0/blib/lib/Csistck/Test/Pkg.pm line 201.
when is experimental at /tmp/loop_over_bdir-5564-bOtWVr/Csistck-0.1003-0/blib/lib/Csistck/Test/Pkg.pm line 202.
when is experimental at /tmp/loop_over_bdir-5564-bOtWVr/Csistck-0.1003-0/blib/lib/Csistck/Test/Pkg.pm line 203.
when is experimental at /tmp/loop_over_bdir-5564-bOtWVr/Csistck-0.1003-0/blib/lib/Csistck/Test/Pkg.pm line 204.
when is experimental at /tmp/loop_over_bdir-5564-bOtWVr/Csistck-0.1003-0/blib/lib/Csistck/Test/Pkg.pm line 205.
when is experimental at /tmp/loop_over_bdir-5564-bOtWVr/Csistck-0.1003-0/blib/lib/Csistck/Test/Pkg.pm line 209.
given is experimental at /tmp/loop_over_bdir-5564-bOtWVr/Csistck-0.1003-0/blib/lib/Csistck/Test/Pkg.pm line 228.
when is experimental at /tmp/loop_over_bdir-5564-bOtWVr/Csistck-0.1003-0/blib/lib/Csistck/Test/Pkg.pm line 229.
when is experimental at /tmp/loop_over_bdir-5564-bOtWVr/Csistck-0.1003-0/blib/lib/Csistck/Test/Pkg.pm line 232.
given is experimental at /tmp/loop_over_bdir-5564-bOtWVr/Csistck-0.1003-0/blib/lib/Csistck/Term.pm line 48.
when is experimental at /tmp/loop_over_bdir-5564-bOtWVr/Csistck-0.1003-0/blib/lib/Csistck/Term.pm line 49.
when is experimental at /tmp/loop_over_bdir-5564-bOtWVr/Csistck-0.1003-0/blib/lib/Csistck/Term.pm line 52.
given is experimental at /tmp/loop_over_bdir-5564-bOtWVr/Csistck-0.1003-0/blib/lib/Csistck.pm line 217.
when is experimental at /tmp/loop_over_bdir-5564-bOtWVr/Csistck-0.1003-0/blib/lib/Csistck.pm line 218.
when is experimental at /tmp/loop_over_bdir-5564-bOtWVr/Csistck-0.1003-0/blib/lib/Csistck.pm line 221.
t/02hosts.t ....... ok
given is experimental at /tmp/loop_over_bdir-5564-bOtWVr/Csistck-0.1003-0/blib/lib/Csistck/Oper.pm line 58.
when is experimental at /tmp/loop_over_bdir-5564-bOtWVr/Csistck-0.1003-0/blib/lib/Csistck/Oper.pm line 59.
when is experimental at /tmp/loop_over_bdir-5564-bOtWVr/Csistck-0.1003-0/blib/lib/Csistck/Oper.pm line 60.
given is experimental at /tmp/loop_over_bdir-5564-bOtWVr/Csistck-0.1003-0/blib/lib/Csistck/Test.pm line 45.
when is experimental at /tmp/loop_over_bdir-5564-bOtWVr/Csistck-0.1003-0/blib/lib/Csistck/Test.pm line 46.
when is experimental at /tmp/loop_over_bdir-5564-bOtWVr/Csistck-0.1003-0/blib/lib/Csistck/Test.pm line 47.
when is experimental at /tmp/loop_over_bdir-5564-bOtWVr/Csistck-0.1003-0/blib/lib/Csistck/Test.pm line 48.
given is experimental at /tmp/loop_over_bdir-5564-bOtWVr/Csistck-0.1003-0/blib/lib/Csistck/Test/Pkg.pm line 197.
when is experimental at /tmp/loop_over_bdir-5564-bOtWVr/Csistck-0.1003-0/blib/lib/Csistck/Test/Pkg.pm line 198.
when is experimental at /tmp/loop_over_bdir-5564-bOtWVr/Csistck-0.1003-0/blib/lib/Csistck/Test/Pkg.pm line 199.
when is experimental at /tmp/loop_over_bdir-5564-bOtWVr/Csistck-0.1003-0/blib/lib/Csistck/Test/Pkg.pm line 200.
given is experimental at /tmp/loop_over_bdir-5564-bOtWVr/Csistck-0.1003-0/blib/lib/Csistck/Test/Pkg.pm line 201.
when is experimental at /tmp/loop_over_bdir-5564-bOtWVr/Csistck-0.1003-0/blib/lib/Csistck/Test/Pkg.pm line 202.
when is experimental at /tmp/loop_over_bdir-5564-bOtWVr/Csistck-0.1003-0/blib/lib/Csistck/Test/Pkg.pm line 203.
when is experimental at /tmp/loop_over_bdir-5564-bOtWVr/Csistck-0.1003-0/blib/lib/Csistck/Test/Pkg.pm line 204.
when is experimental at /tmp/loop_over_bdir-5564-bOtWVr/Csistck-0.1003-0/blib/lib/Csistck/Test/Pkg.pm line 205.
when is experimental at /tmp/loop_over_bdir-5564-bOtWVr/Csistck-0.1003-0/blib/lib/Csistck/Test/Pkg.pm line 209.
given is experimental at /tmp/loop_over_bdir-5564-bOtWVr/Csistck-0.1003-0/blib/lib/Csistck/Test/Pkg.pm line 228.
when is experimental at /tmp/loop_over_bdir-5564-bOtWVr/Csistck-0.1003-0/blib/lib/Csistck/Test/Pkg.pm line 229.
when is experimental at /tmp/loop_over_bdir-5564-bOtWVr/Csistck-0.1003-0/blib/lib/Csistck/Test/Pkg.pm line 232.
given is experimental at /tmp/loop_over_bdir-5564-bOtWVr/Csistck-0.1003-0/blib/lib/Csistck/Term.pm line 48.
when is experimental at /tmp/loop_over_bdir-5564-bOtWVr/Csistck-0.1003-0/blib/lib/Csistck/Term.pm line 49.
when is experimental at /tmp/loop_over_bdir-5564-bOtWVr/Csistck-0.1003-0/blib/lib/Csistck/Term.pm line 52.
given is experimental at /tmp/loop_over_bdir-5564-bOtWVr/Csistck-0.1003-0/blib/lib/Csistck.pm line 217.
when is experimental at /tmp/loop_over_bdir-5564-bOtWVr/Csistck-0.1003-0/blib/lib/Csistck.pm line 218.
when is experimental at /tmp/loop_over_bdir-5564-bOtWVr/Csistck-0.1003-0/blib/lib/Csistck.pm line 221.
t/02on_repair.t ... ok
given is experimental at /tmp/loop_over_bdir-5564-bOtWVr/Csistck-0.1003-0/blib/lib/Csistck/Oper.pm line 58.
when is experimental at /tmp/loop_over_bdir-5564-bOtWVr/Csistck-0.1003-0/blib/lib/Csistck/Oper.pm line 59.
when is experimental at /tmp/loop_over_bdir-5564-bOtWVr/Csistck-0.1003-0/blib/lib/Csistck/Oper.pm line 60.
given is experimental at /tmp/loop_over_bdir-5564-bOtWVr/Csistck-0.1003-0/blib/lib/Csistck/Test.pm line 45.
when is experimental at /tmp/loop_over_bdir-5564-bOtWVr/Csistck-0.1003-0/blib/lib/Csistck/Test.pm line 46.
when is experimental at /tmp/loop_over_bdir-5564-bOtWVr/Csistck-0.1003-0/blib/lib/Csistck/Test.pm line 47.
when is experimental at /tmp/loop_over_bdir-5564-bOtWVr/Csistck-0.1003-0/blib/lib/Csistck/Test.pm line 48.
given is experimental at /tmp/loop_over_bdir-5564-bOtWVr/Csistck-0.1003-0/blib/lib/Csistck/Test/Pkg.pm line 197.
when is experimental at /tmp/loop_over_bdir-5564-bOtWVr/Csistck-0.1003-0/blib/lib/Csistck/Test/Pkg.pm line 198.
when is experimental at /tmp/loop_over_bdir-5564-bOtWVr/Csistck-0.1003-0/blib/lib/Csistck/Test/Pkg.pm line 199.
when is experimental at /tmp/loop_over_bdir-5564-bOtWVr/Csistck-0.1003-0/blib/lib/Csistck/Test/Pkg.pm line 200.
given is experimental at /tmp/loop_over_bdir-5564-bOtWVr/Csistck-0.1003-0/blib/lib/Csistck/Test/Pkg.pm line 201.
when is experimental at /tmp/loop_over_bdir-5564-bOtWVr/Csistck-0.1003-0/blib/lib/Csistck/Test/Pkg.pm line 202.
when is experimental at /tmp/loop_over_bdir-5564-bOtWVr/Csistck-0.1003-0/blib/lib/Csistck/Test/Pkg.pm line 203.
when is experimental at /tmp/loop_over_bdir-5564-bOtWVr/Csistck-0.1003-0/blib/lib/Csistck/Test/Pkg.pm line 204.
when is experimental at /tmp/loop_over_bdir-5564-bOtWVr/Csistck-0.1003-0/blib/lib/Csistck/Test/Pkg.pm line 205.
when is experimental at /tmp/loop_over_bdir-5564-bOtWVr/Csistck-0.1003-0/blib/lib/Csistck/Test/Pkg.pm line 209.
given is experimental at /tmp/loop_over_bdir-5564-bOtWVr/Csistck-0.1003-0/blib/lib/Csistck/Test/Pkg.pm line 228.
when is experimental at /tmp/loop_over_bdir-5564-bOtWVr/Csistck-0.1003-0/blib/lib/Csistck/Test/Pkg.pm line 229.
when is experimental at /tmp/loop_over_bdir-5564-bOtWVr/Csistck-0.1003-0/blib/lib/Csistck/Test/Pkg.pm line 232.
given is experimental at /tmp/loop_over_bdir-5564-bOtWVr/Csistck-0.1003-0/blib/lib/Csistck/Term.pm line 48.
when is experimental at /tmp/loop_over_bdir-5564-bOtWVr/Csistck-0.1003-0/blib/lib/Csistck/Term.pm line 49.
when is experimental at /tmp/loop_over_bdir-5564-bOtWVr/Csistck-0.1003-0/blib/lib/Csistck/Term.pm line 52.
given is experimental at /tmp/loop_over_bdir-5564-bOtWVr/Csistck-0.1003-0/blib/lib/Csistck.pm line 217.
when is experimental at /tmp/loop_over_bdir-5564-bOtWVr/Csistck-0.1003-0/blib/lib/Csistck.pm line 218.
when is experimental at /tmp/loop_over_bdir-5564-bOtWVr/Csistck-0.1003-0/blib/lib/Csistck.pm line 221.
t/02options.t ..... ok
given is experimental at /tmp/loop_over_bdir-5564-bOtWVr/Csistck-0.1003-0/blib/lib/Csistck/Oper.pm line 58.
when is experimental at /tmp/loop_over_bdir-5564-bOtWVr/Csistck-0.1003-0/blib/lib/Csistck/Oper.pm line 59.
when is experimental at /tmp/loop_over_bdir-5564-bOtWVr/Csistck-0.1003-0/blib/lib/Csistck/Oper.pm line 60.
given is experimental at /tmp/loop_over_bdir-5564-bOtWVr/Csistck-0.1003-0/blib/lib/Csistck/Test.pm line 45.
when is experimental at /tmp/loop_over_bdir-5564-bOtWVr/Csistck-0.1003-0/blib/lib/Csistck/Test.pm line 46.
when is experimental at /tmp/loop_over_bdir-5564-bOtWVr/Csistck-0.1003-0/blib/lib/Csistck/Test.pm line 47.
when is experimental at /tmp/loop_over_bdir-5564-bOtWVr/Csistck-0.1003-0/blib/lib/Csistck/Test.pm line 48.
given is experimental at /tmp/loop_over_bdir-5564-bOtWVr/Csistck-0.1003-0/blib/lib/Csistck/Test/Pkg.pm line 197.
when is experimental at /tmp/loop_over_bdir-5564-bOtWVr/Csistck-0.1003-0/blib/lib/Csistck/Test/Pkg.pm line 198.
when is experimental at /tmp/loop_over_bdir-5564-bOtWVr/Csistck-0.1003-0/blib/lib/Csistck/Test/Pkg.pm line 199.
when is experimental at /tmp/loop_over_bdir-5564-bOtWVr/Csistck-0.1003-0/blib/lib/Csistck/Test/Pkg.pm line 200.
given is experimental at /tmp/loop_over_bdir-5564-bOtWVr/Csistck-0.1003-0/blib/lib/Csistck/Test/Pkg.pm line 201.
when is experimental at /tmp/loop_over_bdir-5564-bOtWVr/Csistck-0.1003-0/blib/lib/Csistck/Test/Pkg.pm line 202.
when is experimental at /tmp/loop_over_bdir-5564-bOtWVr/Csistck-0.1003-0/blib/lib/Csistck/Test/Pkg.pm line 203.
when is experimental at /tmp/loop_over_bdir-5564-bOtWVr/Csistck-0.1003-0/blib/lib/Csistck/Test/Pkg.pm line 204.
when is experimental at /tmp/loop_over_bdir-5564-bOtWVr/Csistck-0.1003-0/blib/lib/Csistck/Test/Pkg.pm line 205.
when is experimental at /tmp/loop_over_bdir-5564-bOtWVr/Csistck-0.1003-0/blib/lib/Csistck/Test/Pkg.pm line 209.
given is experimental at /tmp/loop_over_bdir-5564-bOtWVr/Csistck-0.1003-0/blib/lib/Csistck/Test/Pkg.pm line 228.
when is experimental at /tmp/loop_over_bdir-5564-bOtWVr/Csistck-0.1003-0/blib/lib/Csistck/Test/Pkg.pm line 229.
when is experimental at /tmp/loop_over_bdir-5564-bOtWVr/Csistck-0.1003-0/blib/lib/Csistck/Test/Pkg.pm line 232.
given is experimental at /tmp/loop_over_bdir-5564-bOtWVr/Csistck-0.1003-0/blib/lib/Csistck/Term.pm line 48.
when is experimental at /tmp/loop_over_bdir-5564-bOtWVr/Csistck-0.1003-0/blib/lib/Csistck/Term.pm line 49.
when is experimental at /tmp/loop_over_bdir-5564-bOtWVr/Csistck-0.1003-0/blib/lib/Csistck/Term.pm line 52.
given is experimental at /tmp/loop_over_bdir-5564-bOtWVr/Csistck-0.1003-0/blib/lib/Csistck.pm line 217.
when is experimental at /tmp/loop_over_bdir-5564-bOtWVr/Csistck-0.1003-0/blib/lib/Csistck.pm line 218.
when is experimental at /tmp/loop_over_bdir-5564-bOtWVr/Csistck-0.1003-0/blib/lib/Csistck.pm line 221.
t/02process.t ..... ok
given is experimental at /tmp/loop_over_bdir-5564-bOtWVr/Csistck-0.1003-0/blib/lib/Csistck/Oper.pm line 58.
when is experimental at /tmp/loop_over_bdir-5564-bOtWVr/Csistck-0.1003-0/blib/lib/Csistck/Oper.pm line 59.
when is experimental at /tmp/loop_over_bdir-5564-bOtWVr/Csistck-0.1003-0/blib/lib/Csistck/Oper.pm line 60.
given is experimental at /tmp/loop_over_bdir-5564-bOtWVr/Csistck-0.1003-0/blib/lib/Csistck/Test.pm line 45.
when is experimental at /tmp/loop_over_bdir-5564-bOtWVr/Csistck-0.1003-0/blib/lib/Csistck/Test.pm line 46.
when is experimental at /tmp/loop_over_bdir-5564-bOtWVr/Csistck-0.1003-0/blib/lib/Csistck/Test.pm line 47.
when is experimental at /tmp/loop_over_bdir-5564-bOtWVr/Csistck-0.1003-0/blib/lib/Csistck/Test.pm line 48.
given is experimental at /tmp/loop_over_bdir-5564-bOtWVr/Csistck-0.1003-0/blib/lib/Csistck/Test/Pkg.pm line 197.
when is experimental at /tmp/loop_over_bdir-5564-bOtWVr/Csistck-0.1003-0/blib/lib/Csistck/Test/Pkg.pm line 198.
when is experimental at /tmp/loop_over_bdir-5564-bOtWVr/Csistck-0.1003-0/blib/lib/Csistck/Test/Pkg.pm line 199.
when is experimental at /tmp/loop_over_bdir-5564-bOtWVr/Csistck-0.1003-0/blib/lib/Csistck/Test/Pkg.pm line 200.
given is experimental at /tmp/loop_over_bdir-5564-bOtWVr/Csistck-0.1003-0/blib/lib/Csistck/Test/Pkg.pm line 201.
when is experimental at /tmp/loop_over_bdir-5564-bOtWVr/Csistck-0.1003-0/blib/lib/Csistck/Test/Pkg.pm line 202.
when is experimental at /tmp/loop_over_bdir-5564-bOtWVr/Csistck-0.1003-0/blib/lib/Csistck/Test/Pkg.pm line 203.
when is experimental at /tmp/loop_over_bdir-5564-bOtWVr/Csistck-0.1003-0/blib/lib/Csistck/Test/Pkg.pm line 204.
when is experimental at /tmp/loop_over_bdir-5564-bOtWVr/Csistck-0.1003-0/blib/lib/Csistck/Test/Pkg.pm line 205.
when is experimental at /tmp/loop_over_bdir-5564-bOtWVr/Csistck-0.1003-0/blib/lib/Csistck/Test/Pkg.pm line 209.
given is experimental at /tmp/loop_over_bdir-5564-bOtWVr/Csistck-0.1003-0/blib/lib/Csistck/Test/Pkg.pm line 228.
when is experimental at /tmp/loop_over_bdir-5564-bOtWVr/Csistck-0.1003-0/blib/lib/Csistck/Test/Pkg.pm line 229.
when is experimental at /tmp/loop_over_bdir-5564-bOtWVr/Csistck-0.1003-0/blib/lib/Csistck/Test/Pkg.pm line 232.
given is experimental at /tmp/loop_over_bdir-5564-bOtWVr/Csistck-0.1003-0/blib/lib/Csistck/Term.pm line 48.
when is experimental at /tmp/loop_over_bdir-5564-bOtWVr/Csistck-0.1003-0/blib/lib/Csistck/Term.pm line 49.
when is experimental at /tmp/loop_over_bdir-5564-bOtWVr/Csistck-0.1003-0/blib/lib/Csistck/Term.pm line 52.
given is experimental at /tmp/loop_over_bdir-5564-bOtWVr/Csistck-0.1003-0/blib/lib/Csistck.pm line 217.
when is experimental at /tmp/loop_over_bdir-5564-bOtWVr/Csistck-0.1003-0/blib/lib/Csistck.pm line 218.
when is experimental at /tmp/loop_over_bdir-5564-bOtWVr/Csistck-0.1003-0/blib/lib/Csistck.pm line 221.
t/02roles.t ....... ok
given is experimental at /tmp/loop_over_bdir-5564-bOtWVr/Csistck-0.1003-0/blib/lib/Csistck/Oper.pm line 58.
when is experimental at /tmp/loop_over_bdir-5564-bOtWVr/Csistck-0.1003-0/blib/lib/Csistck/Oper.pm line 59.
when is experimental at /tmp/loop_over_bdir-5564-bOtWVr/Csistck-0.1003-0/blib/lib/Csistck/Oper.pm line 60.
given is experimental at /tmp/loop_over_bdir-5564-bOtWVr/Csistck-0.1003-0/blib/lib/Csistck/Test.pm line 45.
when is experimental at /tmp/loop_over_bdir-5564-bOtWVr/Csistck-0.1003-0/blib/lib/Csistck/Test.pm line 46.
when is experimental at /tmp/loop_over_bdir-5564-bOtWVr/Csistck-0.1003-0/blib/lib/Csistck/Test.pm line 47.
when is experimental at /tmp/loop_over_bdir-5564-bOtWVr/Csistck-0.1003-0/blib/lib/Csistck/Test.pm line 48.
given is experimental at /tmp/loop_over_bdir-5564-bOtWVr/Csistck-0.1003-0/blib/lib/Csistck/Test/Pkg.pm line 197.
when is experimental at /tmp/loop_over_bdir-5564-bOtWVr/Csistck-0.1003-0/blib/lib/Csistck/Test/Pkg.pm line 198.
when is experimental at /tmp/loop_over_bdir-5564-bOtWVr/Csistck-0.1003-0/blib/lib/Csistck/Test/Pkg.pm line 199.
when is experimental at /tmp/loop_over_bdir-5564-bOtWVr/Csistck-0.1003-0/blib/lib/Csistck/Test/Pkg.pm line 200.
given is experimental at /tmp/loop_over_bdir-5564-bOtWVr/Csistck-0.1003-0/blib/lib/Csistck/Test/Pkg.pm line 201.
when is experimental at /tmp/loop_over_bdir-5564-bOtWVr/Csistck-0.1003-0/blib/lib/Csistck/Test/Pkg.pm line 202.
when is experimental at /tmp/loop_over_bdir-5564-bOtWVr/Csistck-0.1003-0/blib/lib/Csistck/Test/Pkg.pm line 203.
when is experimental at /tmp/loop_over_bdir-5564-bOtWVr/Csistck-0.1003-0/blib/lib/Csistck/Test/Pkg.pm line 204.
when is experimental at /tmp/loop_over_bdir-5564-bOtWVr/Csistck-0.1003-0/blib/lib/Csistck/Test/Pkg.pm line 205.
when is experimental at /tmp/loop_over_bdir-5564-bOtWVr/Csistck-0.1003-0/blib/lib/Csistck/Test/Pkg.pm line 209.
given is experimental at /tmp/loop_over_bdir-5564-bOtWVr/Csistck-0.1003-0/blib/lib/Csistck/Test/Pkg.pm line 228.
when is experimental at /tmp/loop_over_bdir-5564-bOtWVr/Csistck-0.1003-0/blib/lib/Csistck/Test/Pkg.pm line 229.
when is experimental at /tmp/loop_over_bdir-5564-bOtWVr/Csistck-0.1003-0/blib/lib/Csistck/Test/Pkg.pm line 232.
given is experimental at /tmp/loop_over_bdir-5564-bOtWVr/Csistck-0.1003-0/blib/lib/Csistck/Term.pm line 48.
when is experimental at /tmp/loop_over_bdir-5564-bOtWVr/Csistck-0.1003-0/blib/lib/Csistck/Term.pm line 49.
when is experimental at /tmp/loop_over_bdir-5564-bOtWVr/Csistck-0.1003-0/blib/lib/Csistck/Term.pm line 52.
given is experimental at /tmp/loop_over_bdir-5564-bOtWVr/Csistck-0.1003-0/blib/lib/Csistck.pm line 217.
when is experimental at /tmp/loop_over_bdir-5564-bOtWVr/Csistck-0.1003-0/blib/lib/Csistck.pm line 218.
when is experimental at /tmp/loop_over_bdir-5564-bOtWVr/Csistck-0.1003-0/blib/lib/Csistck.pm line 221.
t/02tests.t ....... ok
given is experimental at /tmp/loop_over_bdir-5564-bOtWVr/Csistck-0.1003-0/blib/lib/Csistck/Oper.pm line 58.
when is experimental at /tmp/loop_over_bdir-5564-bOtWVr/Csistck-0.1003-0/blib/lib/Csistck/Oper.pm line 59.
when is experimental at /tmp/loop_over_bdir-5564-bOtWVr/Csistck-0.1003-0/blib/lib/Csistck/Oper.pm line 60.
given is experimental at /tmp/loop_over_bdir-5564-bOtWVr/Csistck-0.1003-0/blib/lib/Csistck/Test.pm line 45.
when is experimental at /tmp/loop_over_bdir-5564-bOtWVr/Csistck-0.1003-0/blib/lib/Csistck/Test.pm line 46.
when is experimental at /tmp/loop_over_bdir-5564-bOtWVr/Csistck-0.1003-0/blib/lib/Csistck/Test.pm line 47.
when is experimental at /tmp/loop_over_bdir-5564-bOtWVr/Csistck-0.1003-0/blib/lib/Csistck/Test.pm line 48.
given is experimental at /tmp/loop_over_bdir-5564-bOtWVr/Csistck-0.1003-0/blib/lib/Csistck/Test/Pkg.pm line 197.
when is experimental at /tmp/loop_over_bdir-5564-bOtWVr/Csistck-0.1003-0/blib/lib/Csistck/Test/Pkg.pm line 198.
when is experimental at /tmp/loop_over_bdir-5564-bOtWVr/Csistck-0.1003-0/blib/lib/Csistck/Test/Pkg.pm line 199.
when is experimental at /tmp/loop_over_bdir-5564-bOtWVr/Csistck-0.1003-0/blib/lib/Csistck/Test/Pkg.pm line 200.
given is experimental at /tmp/loop_over_bdir-5564-bOtWVr/Csistck-0.1003-0/blib/lib/Csistck/Test/Pkg.pm line 201.
when is experimental at /tmp/loop_over_bdir-5564-bOtWVr/Csistck-0.1003-0/blib/lib/Csistck/Test/Pkg.pm line 202.
when is experimental at /tmp/loop_over_bdir-5564-bOtWVr/Csistck-0.1003-0/blib/lib/Csistck/Test/Pkg.pm line 203.
when is experimental at /tmp/loop_over_bdir-5564-bOtWVr/Csistck-0.1003-0/blib/lib/Csistck/Test/Pkg.pm line 204.
when is experimental at /tmp/loop_over_bdir-5564-bOtWVr/Csistck-0.1003-0/blib/lib/Csistck/Test/Pkg.pm line 205.
when is experimental at /tmp/loop_over_bdir-5564-bOtWVr/Csistck-0.1003-0/blib/lib/Csistck/Test/Pkg.pm line 209.
given is experimental at /tmp/loop_over_bdir-5564-bOtWVr/Csistck-0.1003-0/blib/lib/Csistck/Test/Pkg.pm line 228.
when is experimental at /tmp/loop_over_bdir-5564-bOtWVr/Csistck-0.1003-0/blib/lib/Csistck/Test/Pkg.pm line 229.
when is experimental at /tmp/loop_over_bdir-5564-bOtWVr/Csistck-0.1003-0/blib/lib/Csistck/Test/Pkg.pm line 232.
given is experimental at /tmp/loop_over_bdir-5564-bOtWVr/Csistck-0.1003-0/blib/lib/Csistck/Term.pm line 48.
when is experimental at /tmp/loop_over_bdir-5564-bOtWVr/Csistck-0.1003-0/blib/lib/Csistck/Term.pm line 49.
when is experimental at /tmp/loop_over_bdir-5564-bOtWVr/Csistck-0.1003-0/blib/lib/Csistck/Term.pm line 52.
given is experimental at /tmp/loop_over_bdir-5564-bOtWVr/Csistck-0.1003-0/blib/lib/Csistck.pm line 217.
when is experimental at /tmp/loop_over_bdir-5564-bOtWVr/Csistck-0.1003-0/blib/lib/Csistck.pm line 218.
when is experimental at /tmp/loop_over_bdir-5564-bOtWVr/Csistck-0.1003-0/blib/lib/Csistck.pm line 221.
t/20detect.t ...... ok
given is experimental at /tmp/loop_over_bdir-5564-bOtWVr/Csistck-0.1003-0/blib/lib/Csistck/Oper.pm line 58.
when is experimental at /tmp/loop_over_bdir-5564-bOtWVr/Csistck-0.1003-0/blib/lib/Csistck/Oper.pm line 59.
when is experimental at /tmp/loop_over_bdir-5564-bOtWVr/Csistck-0.1003-0/blib/lib/Csistck/Oper.pm line 60.
given is experimental at /tmp/loop_over_bdir-5564-bOtWVr/Csistck-0.1003-0/blib/lib/Csistck/Test.pm line 45.
when is experimental at /tmp/loop_over_bdir-5564-bOtWVr/Csistck-0.1003-0/blib/lib/Csistck/Test.pm line 46.
when is experimental at /tmp/loop_over_bdir-5564-bOtWVr/Csistck-0.1003-0/blib/lib/Csistck/Test.pm line 47.
when is experimental at /tmp/loop_over_bdir-5564-bOtWVr/Csistck-0.1003-0/blib/lib/Csistck/Test.pm line 48.
given is experimental at /tmp/loop_over_bdir-5564-bOtWVr/Csistck-0.1003-0/blib/lib/Csistck/Test/Pkg.pm line 197.
when is experimental at /tmp/loop_over_bdir-5564-bOtWVr/Csistck-0.1003-0/blib/lib/Csistck/Test/Pkg.pm line 198.
when is experimental at /tmp/loop_over_bdir-5564-bOtWVr/Csistck-0.1003-0/blib/lib/Csistck/Test/Pkg.pm line 199.
when is experimental at /tmp/loop_over_bdir-5564-bOtWVr/Csistck-0.1003-0/blib/lib/Csistck/Test/Pkg.pm line 200.
given is experimental at /tmp/loop_over_bdir-5564-bOtWVr/Csistck-0.1003-0/blib/lib/Csistck/Test/Pkg.pm line 201.
when is experimental at /tmp/loop_over_bdir-5564-bOtWVr/Csistck-0.1003-0/blib/lib/Csistck/Test/Pkg.pm line 202.
when is experimental at /tmp/loop_over_bdir-5564-bOtWVr/Csistck-0.1003-0/blib/lib/Csistck/Test/Pkg.pm line 203.
when is experimental at /tmp/loop_over_bdir-5564-bOtWVr/Csistck-0.1003-0/blib/lib/Csistck/Test/Pkg.pm line 204.
when is experimental at /tmp/loop_over_bdir-5564-bOtWVr/Csistck-0.1003-0/blib/lib/Csistck/Test/Pkg.pm line 205.
when is experimental at /tmp/loop_over_bdir-5564-bOtWVr/Csistck-0.1003-0/blib/lib/Csistck/Test/Pkg.pm line 209.
given is experimental at /tmp/loop_over_bdir-5564-bOtWVr/Csistck-0.1003-0/blib/lib/Csistck/Test/Pkg.pm line 228.
when is experimental at /tmp/loop_over_bdir-5564-bOtWVr/Csistck-0.1003-0/blib/lib/Csistck/Test/Pkg.pm line 229.
when is experimental at /tmp/loop_over_bdir-5564-bOtWVr/Csistck-0.1003-0/blib/lib/Csistck/Test/Pkg.pm line 232.
given is experimental at /tmp/loop_over_bdir-5564-bOtWVr/Csistck-0.1003-0/blib/lib/Csistck/Term.pm line 48.
when is experimental at /tmp/loop_over_bdir-5564-bOtWVr/Csistck-0.1003-0/blib/lib/Csistck/Term.pm line 49.
when is experimental at /tmp/loop_over_bdir-5564-bOtWVr/Csistck-0.1003-0/blib/lib/Csistck/Term.pm line 52.
given is experimental at /tmp/loop_over_bdir-5564-bOtWVr/Csistck-0.1003-0/blib/lib/Csistck.pm line 217.
when is experimental at /tmp/loop_over_bdir-5564-bOtWVr/Csistck-0.1003-0/blib/lib/Csistck.pm line 218.
when is experimental at /tmp/loop_over_bdir-5564-bOtWVr/Csistck-0.1003-0/blib/lib/Csistck.pm line 221.
t/20file.t ........ ok
given is experimental at /tmp/loop_over_bdir-5564-bOtWVr/Csistck-0.1003-0/blib/lib/Csistck/Oper.pm line 58.
when is experimental at /tmp/loop_over_bdir-5564-bOtWVr/Csistck-0.1003-0/blib/lib/Csistck/Oper.pm line 59.
when is experimental at /tmp/loop_over_bdir-5564-bOtWVr/Csistck-0.1003-0/blib/lib/Csistck/Oper.pm line 60.
given is experimental at /tmp/loop_over_bdir-5564-bOtWVr/Csistck-0.1003-0/blib/lib/Csistck/Test.pm line 45.
when is experimental at /tmp/loop_over_bdir-5564-bOtWVr/Csistck-0.1003-0/blib/lib/Csistck/Test.pm line 46.
when is experimental at /tmp/loop_over_bdir-5564-bOtWVr/Csistck-0.1003-0/blib/lib/Csistck/Test.pm line 47.
when is experimental at /tmp/loop_over_bdir-5564-bOtWVr/Csistck-0.1003-0/blib/lib/Csistck/Test.pm line 48.
given is experimental at /tmp/loop_over_bdir-5564-bOtWVr/Csistck-0.1003-0/blib/lib/Csistck/Test/Pkg.pm line 197.
when is experimental at /tmp/loop_over_bdir-5564-bOtWVr/Csistck-0.1003-0/blib/lib/Csistck/Test/Pkg.pm line 198.
when is experimental at /tmp/loop_over_bdir-5564-bOtWVr/Csistck-0.1003-0/blib/lib/Csistck/Test/Pkg.pm line 199.
when is experimental at /tmp/loop_over_bdir-5564-bOtWVr/Csistck-0.1003-0/blib/lib/Csistck/Test/Pkg.pm line 200.
given is experimental at /tmp/loop_over_bdir-5564-bOtWVr/Csistck-0.1003-0/blib/lib/Csistck/Test/Pkg.pm line 201.
when is experimental at /tmp/loop_over_bdir-5564-bOtWVr/Csistck-0.1003-0/blib/lib/Csistck/Test/Pkg.pm line 202.
when is experimental at /tmp/loop_over_bdir-5564-bOtWVr/Csistck-0.1003-0/blib/lib/Csistck/Test/Pkg.pm line 203.
when is experimental at /tmp/loop_over_bdir-5564-bOtWVr/Csistck-0.1003-0/blib/lib/Csistck/Test/Pkg.pm line 204.
when is experimental at /tmp/loop_over_bdir-5564-bOtWVr/Csistck-0.1003-0/blib/lib/Csistck/Test/Pkg.pm line 205.
when is experimental at /tmp/loop_over_bdir-5564-bOtWVr/Csistck-0.1003-0/blib/lib/Csistck/Test/Pkg.pm line 209.
given is experimental at /tmp/loop_over_bdir-5564-bOtWVr/Csistck-0.1003-0/blib/lib/Csistck/Test/Pkg.pm line 228.
when is experimental at /tmp/loop_over_bdir-5564-bOtWVr/Csistck-0.1003-0/blib/lib/Csistck/Test/Pkg.pm line 229.
when is experimental at /tmp/loop_over_bdir-5564-bOtWVr/Csistck-0.1003-0/blib/lib/Csistck/Test/Pkg.pm line 232.
given is experimental at /tmp/loop_over_bdir-5564-bOtWVr/Csistck-0.1003-0/blib/lib/Csistck/Term.pm line 48.
when is experimental at /tmp/loop_over_bdir-5564-bOtWVr/Csistck-0.1003-0/blib/lib/Csistck/Term.pm line 49.
when is experimental at /tmp/loop_over_bdir-5564-bOtWVr/Csistck-0.1003-0/blib/lib/Csistck/Term.pm line 52.
given is experimental at /tmp/loop_over_bdir-5564-bOtWVr/Csistck-0.1003-0/blib/lib/Csistck.pm line 217.
when is experimental at /tmp/loop_over_bdir-5564-bOtWVr/Csistck-0.1003-0/blib/lib/Csistck.pm line 218.
when is experimental at /tmp/loop_over_bdir-5564-bOtWVr/Csistck-0.1003-0/blib/lib/Csistck.pm line 221.
t/20permission.t .. ok
given is experimental at /tmp/loop_over_bdir-5564-bOtWVr/Csistck-0.1003-0/blib/lib/Csistck/Oper.pm line 58.
when is experimental at /tmp/loop_over_bdir-5564-bOtWVr/Csistck-0.1003-0/blib/lib/Csistck/Oper.pm line 59.
when is experimental at /tmp/loop_over_bdir-5564-bOtWVr/Csistck-0.1003-0/blib/lib/Csistck/Oper.pm line 60.
given is experimental at /tmp/loop_over_bdir-5564-bOtWVr/Csistck-0.1003-0/blib/lib/Csistck/Test.pm line 45.
when is experimental at /tmp/loop_over_bdir-5564-bOtWVr/Csistck-0.1003-0/blib/lib/Csistck/Test.pm line 46.
when is experimental at /tmp/loop_over_bdir-5564-bOtWVr/Csistck-0.1003-0/blib/lib/Csistck/Test.pm line 47.
when is experimental at /tmp/loop_over_bdir-5564-bOtWVr/Csistck-0.1003-0/blib/lib/Csistck/Test.pm line 48.
given is experimental at /tmp/loop_over_bdir-5564-bOtWVr/Csistck-0.1003-0/blib/lib/Csistck/Test/Pkg.pm line 197.
when is experimental at /tmp/loop_over_bdir-5564-bOtWVr/Csistck-0.1003-0/blib/lib/Csistck/Test/Pkg.pm line 198.
when is experimental at /tmp/loop_over_bdir-5564-bOtWVr/Csistck-0.1003-0/blib/lib/Csistck/Test/Pkg.pm line 199.
when is experimental at /tmp/loop_over_bdir-5564-bOtWVr/Csistck-0.1003-0/blib/lib/Csistck/Test/Pkg.pm line 200.
given is experimental at /tmp/loop_over_bdir-5564-bOtWVr/Csistck-0.1003-0/blib/lib/Csistck/Test/Pkg.pm line 201.
when is experimental at /tmp/loop_over_bdir-5564-bOtWVr/Csistck-0.1003-0/blib/lib/Csistck/Test/Pkg.pm line 202.
when is experimental at /tmp/loop_over_bdir-5564-bOtWVr/Csistck-0.1003-0/blib/lib/Csistck/Test/Pkg.pm line 203.
when is experimental at /tmp/loop_over_bdir-5564-bOtWVr/Csistck-0.1003-0/blib/lib/Csistck/Test/Pkg.pm line 204.
when is experimental at /tmp/loop_over_bdir-5564-bOtWVr/Csistck-0.1003-0/blib/lib/Csistck/Test/Pkg.pm line 205.
when is experimental at /tmp/loop_over_bdir-5564-bOtWVr/Csistck-0.1003-0/blib/lib/Csistck/Test/Pkg.pm line 209.
given is experimental at /tmp/loop_over_bdir-5564-bOtWVr/Csistck-0.1003-0/blib/lib/Csistck/Test/Pkg.pm line 228.
when is experimental at /tmp/loop_over_bdir-5564-bOtWVr/Csistck-0.1003-0/blib/lib/Csistck/Test/Pkg.pm line 229.
when is experimental at /tmp/loop_over_bdir-5564-bOtWVr/Csistck-0.1003-0/blib/lib/Csistck/Test/Pkg.pm line 232.
given is experimental at /tmp/loop_over_bdir-5564-bOtWVr/Csistck-0.1003-0/blib/lib/Csistck/Term.pm line 48.
when is experimental at /tmp/loop_over_bdir-5564-bOtWVr/Csistck-0.1003-0/blib/lib/Csistck/Term.pm line 49.
when is experimental at /tmp/loop_over_bdir-5564-bOtWVr/Csistck-0.1003-0/blib/lib/Csistck/Term.pm line 52.
given is experimental at /tmp/loop_over_bdir-5564-bOtWVr/Csistck-0.1003-0/blib/lib/Csistck.pm line 217.
when is experimental at /tmp/loop_over_bdir-5564-bOtWVr/Csistck-0.1003-0/blib/lib/Csistck.pm line 218.
when is experimental at /tmp/loop_over_bdir-5564-bOtWVr/Csistck-0.1003-0/blib/lib/Csistck.pm line 221.
Redundant argument in sprintf at /tmp/loop_over_bdir-5564-bOtWVr/Csistck-0.1003-0/blib/lib/Csistck/Test/Pkg.pm line 130.
Redundant argument in sprintf at /tmp/loop_over_bdir-5564-bOtWVr/Csistck-0.1003-0/blib/lib/Csistck/Test/Pkg.pm line 130.
Redundant argument in sprintf at /tmp/loop_over_bdir-5564-bOtWVr/Csistck-0.1003-0/blib/lib/Csistck/Test/Pkg.pm line 130.
Redundant argument in sprintf at /tmp/loop_over_bdir-5564-bOtWVr/Csistck-0.1003-0/blib/lib/Csistck/Test/Pkg.pm line 149.
Redundant argument in sprintf at /tmp/loop_over_bdir-5564-bOtWVr/Csistck-0.1003-0/blib/lib/Csistck/Test/Pkg.pm line 130.
t/20pkg.t ......... ok
given is experimental at /tmp/loop_over_bdir-5564-bOtWVr/Csistck-0.1003-0/blib/lib/Csistck/Oper.pm line 58.
when is experimental at /tmp/loop_over_bdir-5564-bOtWVr/Csistck-0.1003-0/blib/lib/Csistck/Oper.pm line 59.
when is experimental at /tmp/loop_over_bdir-5564-bOtWVr/Csistck-0.1003-0/blib/lib/Csistck/Oper.pm line 60.
given is experimental at /tmp/loop_over_bdir-5564-bOtWVr/Csistck-0.1003-0/blib/lib/Csistck/Test.pm line 45.
when is experimental at /tmp/loop_over_bdir-5564-bOtWVr/Csistck-0.1003-0/blib/lib/Csistck/Test.pm line 46.
when is experimental at /tmp/loop_over_bdir-5564-bOtWVr/Csistck-0.1003-0/blib/lib/Csistck/Test.pm line 47.
when is experimental at /tmp/loop_over_bdir-5564-bOtWVr/Csistck-0.1003-0/blib/lib/Csistck/Test.pm line 48.
given is experimental at /tmp/loop_over_bdir-5564-bOtWVr/Csistck-0.1003-0/blib/lib/Csistck/Test/Pkg.pm line 197.
when is experimental at /tmp/loop_over_bdir-5564-bOtWVr/Csistck-0.1003-0/blib/lib/Csistck/Test/Pkg.pm line 198.
when is experimental at /tmp/loop_over_bdir-5564-bOtWVr/Csistck-0.1003-0/blib/lib/Csistck/Test/Pkg.pm line 199.
when is experimental at /tmp/loop_over_bdir-5564-bOtWVr/Csistck-0.1003-0/blib/lib/Csistck/Test/Pkg.pm line 200.
given is experimental at /tmp/loop_over_bdir-5564-bOtWVr/Csistck-0.1003-0/blib/lib/Csistck/Test/Pkg.pm line 201.
when is experimental at /tmp/loop_over_bdir-5564-bOtWVr/Csistck-0.1003-0/blib/lib/Csistck/Test/Pkg.pm line 202.
when is experimental at /tmp/loop_over_bdir-5564-bOtWVr/Csistck-0.1003-0/blib/lib/Csistck/Test/Pkg.pm line 203.
when is experimental at /tmp/loop_over_bdir-5564-bOtWVr/Csistck-0.1003-0/blib/lib/Csistck/Test/Pkg.pm line 204.
when is experimental at /tmp/loop_over_bdir-5564-bOtWVr/Csistck-0.1003-0/blib/lib/Csistck/Test/Pkg.pm line 205.
when is experimental at /tmp/loop_over_bdir-5564-bOtWVr/Csistck-0.1003-0/blib/lib/Csistck/Test/Pkg.pm line 209.
given is experimental at /tmp/loop_over_bdir-5564-bOtWVr/Csistck-0.1003-0/blib/lib/Csistck/Test/Pkg.pm line 228.
when is experimental at /tmp/loop_over_bdir-5564-bOtWVr/Csistck-0.1003-0/blib/lib/Csistck/Test/Pkg.pm line 229.
when is experimental at /tmp/loop_over_bdir-5564-bOtWVr/Csistck-0.1003-0/blib/lib/Csistck/Test/Pkg.pm line 232.
given is experimental at /tmp/loop_over_bdir-5564-bOtWVr/Csistck-0.1003-0/blib/lib/Csistck/Term.pm line 48.
when is experimental at /tmp/loop_over_bdir-5564-bOtWVr/Csistck-0.1003-0/blib/lib/Csistck/Term.pm line 49.
when is experimental at /tmp/loop_over_bdir-5564-bOtWVr/Csistck-0.1003-0/blib/lib/Csistck/Term.pm line 52.
given is experimental at /tmp/loop_over_bdir-5564-bOtWVr/Csistck-0.1003-0/blib/lib/Csistck.pm line 217.
when is experimental at /tmp/loop_over_bdir-5564-bOtWVr/Csistck-0.1003-0/blib/lib/Csistck.pm line 218.
when is experimental at /tmp/loop_over_bdir-5564-bOtWVr/Csistck-0.1003-0/blib/lib/Csistck.pm line 221.
t/20role.t ........ ok
given is experimental at /tmp/loop_over_bdir-5564-bOtWVr/Csistck-0.1003-0/blib/lib/Csistck/Oper.pm line 58.
when is experimental at /tmp/loop_over_bdir-5564-bOtWVr/Csistck-0.1003-0/blib/lib/Csistck/Oper.pm line 59.
when is experimental at /tmp/loop_over_bdir-5564-bOtWVr/Csistck-0.1003-0/blib/lib/Csistck/Oper.pm line 60.
given is experimental at /tmp/loop_over_bdir-5564-bOtWVr/Csistck-0.1003-0/blib/lib/Csistck/Test.pm line 45.
when is experimental at /tmp/loop_over_bdir-5564-bOtWVr/Csistck-0.1003-0/blib/lib/Csistck/Test.pm line 46.
when is experimental at /tmp/loop_over_bdir-5564-bOtWVr/Csistck-0.1003-0/blib/lib/Csistck/Test.pm line 47.
when is experimental at /tmp/loop_over_bdir-5564-bOtWVr/Csistck-0.1003-0/blib/lib/Csistck/Test.pm line 48.
given is experimental at /tmp/loop_over_bdir-5564-bOtWVr/Csistck-0.1003-0/blib/lib/Csistck/Test/Pkg.pm line 197.
when is experimental at /tmp/loop_over_bdir-5564-bOtWVr/Csistck-0.1003-0/blib/lib/Csistck/Test/Pkg.pm line 198.
when is experimental at /tmp/loop_over_bdir-5564-bOtWVr/Csistck-0.1003-0/blib/lib/Csistck/Test/Pkg.pm line 199.
when is experimental at /tmp/loop_over_bdir-5564-bOtWVr/Csistck-0.1003-0/blib/lib/Csistck/Test/Pkg.pm line 200.
given is experimental at /tmp/loop_over_bdir-5564-bOtWVr/Csistck-0.1003-0/blib/lib/Csistck/Test/Pkg.pm line 201.
when is experimental at /tmp/loop_over_bdir-5564-bOtWVr/Csistck-0.1003-0/blib/lib/Csistck/Test/Pkg.pm line 202.
when is experimental at /tmp/loop_over_bdir-5564-bOtWVr/Csistck-0.1003-0/blib/lib/Csistck/Test/Pkg.pm line 203.
when is experimental at /tmp/loop_over_bdir-5564-bOtWVr/Csistck-0.1003-0/blib/lib/Csistck/Test/Pkg.pm line 204.
when is experimental at /tmp/loop_over_bdir-5564-bOtWVr/Csistck-0.1003-0/blib/lib/Csistck/Test/Pkg.pm line 205.
when is experimental at /tmp/loop_over_bdir-5564-bOtWVr/Csistck-0.1003-0/blib/lib/Csistck/Test/Pkg.pm line 209.
given is experimental at /tmp/loop_over_bdir-5564-bOtWVr/Csistck-0.1003-0/blib/lib/Csistck/Test/Pkg.pm line 228.
when is experimental at /tmp/loop_over_bdir-5564-bOtWVr/Csistck-0.1003-0/blib/lib/Csistck/Test/Pkg.pm line 229.
when is experimental at /tmp/loop_over_bdir-5564-bOtWVr/Csistck-0.1003-0/blib/lib/Csistck/Test/Pkg.pm line 232.
given is experimental at /tmp/loop_over_bdir-5564-bOtWVr/Csistck-0.1003-0/blib/lib/Csistck/Term.pm line 48.
when is experimental at /tmp/loop_over_bdir-5564-bOtWVr/Csistck-0.1003-0/blib/lib/Csistck/Term.pm line 49.
when is experimental at /tmp/loop_over_bdir-5564-bOtWVr/Csistck-0.1003-0/blib/lib/Csistck/Term.pm line 52.
given is experimental at /tmp/loop_over_bdir-5564-bOtWVr/Csistck-0.1003-0/blib/lib/Csistck.pm line 217.
when is experimental at /tmp/loop_over_bdir-5564-bOtWVr/Csistck-0.1003-0/blib/lib/Csistck.pm line 218.
when is experimental at /tmp/loop_over_bdir-5564-bOtWVr/Csistck-0.1003-0/blib/lib/Csistck.pm line 221.
t/20script.t ...... ok
given is experimental at /tmp/loop_over_bdir-5564-bOtWVr/Csistck-0.1003-0/blib/lib/Csistck/Oper.pm line 58.
when is experimental at /tmp/loop_over_bdir-5564-bOtWVr/Csistck-0.1003-0/blib/lib/Csistck/Oper.pm line 59.
when is experimental at /tmp/loop_over_bdir-5564-bOtWVr/Csistck-0.1003-0/blib/lib/Csistck/Oper.pm line 60.
given is experimental at /tmp/loop_over_bdir-5564-bOtWVr/Csistck-0.1003-0/blib/lib/Csistck/Test.pm line 45.
when is experimental at /tmp/loop_over_bdir-5564-bOtWVr/Csistck-0.1003-0/blib/lib/Csistck/Test.pm line 46.
when is experimental at /tmp/loop_over_bdir-5564-bOtWVr/Csistck-0.1003-0/blib/lib/Csistck/Test.pm line 47.
when is experimental at /tmp/loop_over_bdir-5564-bOtWVr/Csistck-0.1003-0/blib/lib/Csistck/Test.pm line 48.
given is experimental at /tmp/loop_over_bdir-5564-bOtWVr/Csistck-0.1003-0/blib/lib/Csistck/Test/Pkg.pm line 197.
when is experimental at /tmp/loop_over_bdir-5564-bOtWVr/Csistck-0.1003-0/blib/lib/Csistck/Test/Pkg.pm line 198.
when is experimental at /tmp/loop_over_bdir-5564-bOtWVr/Csistck-0.1003-0/blib/lib/Csistck/Test/Pkg.pm line 199.
when is experimental at /tmp/loop_over_bdir-5564-bOtWVr/Csistck-0.1003-0/blib/lib/Csistck/Test/Pkg.pm line 200.
given is experimental at /tmp/loop_over_bdir-5564-bOtWVr/Csistck-0.1003-0/blib/lib/Csistck/Test/Pkg.pm line 201.
when is experimental at /tmp/loop_over_bdir-5564-bOtWVr/Csistck-0.1003-0/blib/lib/Csistck/Test/Pkg.pm line 202.
when is experimental at /tmp/loop_over_bdir-5564-bOtWVr/Csistck-0.1003-0/blib/lib/Csistck/Test/Pkg.pm line 203.
when is experimental at /tmp/loop_over_bdir-5564-bOtWVr/Csistck-0.1003-0/blib/lib/Csistck/Test/Pkg.pm line 204.
when is experimental at /tmp/loop_over_bdir-5564-bOtWVr/Csistck-0.1003-0/blib/lib/Csistck/Test/Pkg.pm line 205.
when is experimental at /tmp/loop_over_bdir-5564-bOtWVr/Csistck-0.1003-0/blib/lib/Csistck/Test/Pkg.pm line 209.
given is experimental at /tmp/loop_over_bdir-5564-bOtWVr/Csistck-0.1003-0/blib/lib/Csistck/Test/Pkg.pm line 228.
when is experimental at /tmp/loop_over_bdir-5564-bOtWVr/Csistck-0.1003-0/blib/lib/Csistck/Test/Pkg.pm line 229.
when is experimental at /tmp/loop_over_bdir-5564-bOtWVr/Csistck-0.1003-0/blib/lib/Csistck/Test/Pkg.pm line 232.
given is experimental at /tmp/loop_over_bdir-5564-bOtWVr/Csistck-0.1003-0/blib/lib/Csistck/Term.pm line 48.
when is experimental at /tmp/loop_over_bdir-5564-bOtWVr/Csistck-0.1003-0/blib/lib/Csistck/Term.pm line 49.
when is experimental at /tmp/loop_over_bdir-5564-bOtWVr/Csistck-0.1003-0/blib/lib/Csistck/Term.pm line 52.
given is experimental at /tmp/loop_over_bdir-5564-bOtWVr/Csistck-0.1003-0/blib/lib/Csistck.pm line 217.
when is experimental at /tmp/loop_over_bdir-5564-bOtWVr/Csistck-0.1003-0/blib/lib/Csistck.pm line 218.
when is experimental at /tmp/loop_over_bdir-5564-bOtWVr/Csistck-0.1003-0/blib/lib/Csistck.pm line 221.
t/20template.t .... ok
given is experimental at /tmp/loop_over_bdir-5564-bOtWVr/Csistck-0.1003-0/blib/lib/Csistck/Oper.pm line 58.
when is experimental at /tmp/loop_over_bdir-5564-bOtWVr/Csistck-0.1003-0/blib/lib/Csistck/Oper.pm line 59.
when is experimental at /tmp/loop_over_bdir-5564-bOtWVr/Csistck-0.1003-0/blib/lib/Csistck/Oper.pm line 60.
given is experimental at /tmp/loop_over_bdir-5564-bOtWVr/Csistck-0.1003-0/blib/lib/Csistck/Test.pm line 45.
when is experimental at /tmp/loop_over_bdir-5564-bOtWVr/Csistck-0.1003-0/blib/lib/Csistck/Test.pm line 46.
when is experimental at /tmp/loop_over_bdir-5564-bOtWVr/Csistck-0.1003-0/blib/lib/Csistck/Test.pm line 47.
when is experimental at /tmp/loop_over_bdir-5564-bOtWVr/Csistck-0.1003-0/blib/lib/Csistck/Test.pm line 48.
given is experimental at /tmp/loop_over_bdir-5564-bOtWVr/Csistck-0.1003-0/blib/lib/Csistck/Test/Pkg.pm line 197.
when is experimental at /tmp/loop_over_bdir-5564-bOtWVr/Csistck-0.1003-0/blib/lib/Csistck/Test/Pkg.pm line 198.
when is experimental at /tmp/loop_over_bdir-5564-bOtWVr/Csistck-0.1003-0/blib/lib/Csistck/Test/Pkg.pm line 199.
when is experimental at /tmp/loop_over_bdir-5564-bOtWVr/Csistck-0.1003-0/blib/lib/Csistck/Test/Pkg.pm line 200.
given is experimental at /tmp/loop_over_bdir-5564-bOtWVr/Csistck-0.1003-0/blib/lib/Csistck/Test/Pkg.pm line 201.
when is experimental at /tmp/loop_over_bdir-5564-bOtWVr/Csistck-0.1003-0/blib/lib/Csistck/Test/Pkg.pm line 202.
when is experimental at /tmp/loop_over_bdir-5564-bOtWVr/Csistck-0.1003-0/blib/lib/Csistck/Test/Pkg.pm line 203.
when is experimental at /tmp/loop_over_bdir-5564-bOtWVr/Csistck-0.1003-0/blib/lib/Csistck/Test/Pkg.pm line 204.
when is experimental at /tmp/loop_over_bdir-5564-bOtWVr/Csistck-0.1003-0/blib/lib/Csistck/Test/Pkg.pm line 205.
when is experimental at /tmp/loop_over_bdir-5564-bOtWVr/Csistck-0.1003-0/blib/lib/Csistck/Test/Pkg.pm line 209.
given is experimental at /tmp/loop_over_bdir-5564-bOtWVr/Csistck-0.1003-0/blib/lib/Csistck/Test/Pkg.pm line 228.
when is experimental at /tmp/loop_over_bdir-5564-bOtWVr/Csistck-0.1003-0/blib/lib/Csistck/Test/Pkg.pm line 229.
when is experimental at /tmp/loop_over_bdir-5564-bOtWVr/Csistck-0.1003-0/blib/lib/Csistck/Test/Pkg.pm line 232.
given is experimental at /tmp/loop_over_bdir-5564-bOtWVr/Csistck-0.1003-0/blib/lib/Csistck/Term.pm line 48.
when is experimental at /tmp/loop_over_bdir-5564-bOtWVr/Csistck-0.1003-0/blib/lib/Csistck/Term.pm line 49.
when is experimental at /tmp/loop_over_bdir-5564-bOtWVr/Csistck-0.1003-0/blib/lib/Csistck/Term.pm line 52.
given is experimental at /tmp/loop_over_bdir-5564-bOtWVr/Csistck-0.1003-0/blib/lib/Csistck.pm line 217.
when is experimental at /tmp/loop_over_bdir-5564-bOtWVr/Csistck-0.1003-0/blib/lib/Csistck.pm line 218.
when is experimental at /tmp/loop_over_bdir-5564-bOtWVr/Csistck-0.1003-0/blib/lib/Csistck.pm line 221.
t/50bug11.t ....... ok
All tests successful.
Files=18, Tests=101,  8 wallclock secs ( 0.06 usr  0.09 sys +  2.23 cusr  0.74 csys =  3.12 CPU)
Result: PASS

------------------------------
PREREQUISITES
------------------------------

Prerequisite modules loaded:

requires:

    Module              Need  Have    
    ------------------- ----- --------
    Digest::MD5         0     2.55    
    File::Basename      0     2.85    
    File::Copy          0     2.32    
    File::stat          0     1.07    
    Getopt::Long        0     2.49    
    Linux::Distribution 0.21  0.23    
    perl                5.010 5.026000
    Scalar::Util        0     1.46_02 
    Sys::Hostname::Long 0     1.5     
    Template            0     2.27    
    Term::ReadKey       0     2.37    
    Test::Exception     0     0.43    
    Text::Diff          0     1.45    

build_requires:

    Module              Need  Have    
    ------------------- ----- --------
    ExtUtils::MakeMaker 6.59  7.30    

configure_requires:

    Module              Need  Have    
    ------------------- ----- --------
    ExtUtils::MakeMaker 6.59  7.30    


------------------------------
ENVIRONMENT AND OTHER CONTEXT
------------------------------

Environment variables:

    AUTOMATED_TESTING = 1
    LANG = en_US.UTF-8
    PATH = /home/sand/bin:/usr/local/bin:/usr/bin:/bin:/usr/games:/usr/local/perl/bin:/usr/X11/bin:/sbin:/usr/sbin
    PERL5LIB = /tmp/loop_over_bdir-5564-bOtWVr/Template-Toolkit-2.27-0/blib/arch:/tmp/loop_over_bdir-5564-bOtWVr/Template-Toolkit-2.27-0/blib/lib:/tmp/loop_over_bdir-5564-bOtWVr/CGI-4.36-0/blib/arch:/tmp/loop_over_bdir-5564-bOtWVr/CGI-4.36-0/blib/lib:/tmp/loop_over_bdir-5564-bOtWVr/Test-Warn-0.32-0/blib/arch:/tmp/loop_over_bdir-5564-bOtWVr/Test-Warn-0.32-0/blib/lib:/tmp/loop_over_bdir-5564-bOtWVr/Test-NoWarnings-1.04-0/blib/arch:/tmp/loop_over_bdir-5564-bOtWVr/Test-NoWarnings-1.04-0/blib/lib:/tmp/loop_over_bdir-5564-bOtWVr/AppConfig-1.71-0/blib/arch:/tmp/loop_over_bdir-5564-bOtWVr/AppConfig-1.71-0/blib/lib:/tmp/loop_over_bdir-5564-bOtWVr/Test-Pod-1.51-0/blib/arch:/tmp/loop_over_bdir-5564-bOtWVr/Test-Pod-1.51-0/blib/lib:/tmp/loop_over_bdir-5564-bOtWVr/Sys-Hostname-Long-1.5-0/blib/arch:/tmp/loop_over_bdir-5564-bOtWVr/Sys-Hostname-Long-1.5-0/blib/lib:/tmp/loop_over_bdir-5564-bOtWVr/Linux-Distribution-0.23-0/blib/arch:/tmp/loop_over_bdir-5564-bOtWVr/Linux-Distribution-0.23-0/blib/lib
    PERL5OPT = 
    PERL5_CPANPLUS_IS_RUNNING = 5568
    PERL5_CPAN_IS_RUNNING = 5568
    PERL5_CPAN_IS_RUNNING_IN_RECURSION = 15736,5568
    PERL_CANARY_STABILITY_NOPROMPT = 1
    PERL_MM_USE_DEFAULT = 1
    PERL_USE_UNSAFE_INC = 1
    SHELL = /usr/bin/zsh
    TERM = screen

Perl special variables (and OS-specific diagnostics, for MSWin32):

    $^X = /home/sand/src/perl/repoperls/installed-perls/host/k93msid/v5.26.0/0a29/bin/perl
    $UID/$EUID = 1005 / 1005
    $GID = 1005 1005
    $EGID = 1005 1005

Perl module toolchain versions installed:

    Module              Have      
    ------------------- ----------
    CPAN                2.18      
    CPAN::Meta          2.150010  
    Cwd                 3.67      
    ExtUtils::CBuilder  0.280226  
    ExtUtils::Command   7.30      
    ExtUtils::Install   2.06      
    ExtUtils::MakeMaker 7.30      
    ExtUtils::Manifest  1.70      
    ExtUtils::ParseXS   3.34      
    File::Spec          3.67      
    JSON                2.94      
    JSON::PP            2.27400_02
    Module::Build       0.4224    
    Module::Signature   0.81      
    Parse::CPAN::Meta   2.150010  
    Test::Harness       3.39      
    Test::More          1.302098  
    YAML                1.23      
    YAML::Syck          1.30      
    version             0.9917    


--

Summary of my perl5 (revision 5 version 26 subversion 0) configuration:
  Commit id: 95388f2eb27e74cdbfb715c0097f16aeba4e6e4e
  Platform:
    osname=linux
    osvers=4.12.0-2-amd64
    archname=x86_64-linux-ld
    uname='linux k93msid 4.12.0-2-amd64 #1 smp debian 4.12.13-1 (2017-09-19) x86_64 gnulinux '
    config_args='-Dprefix=/home/sand/src/perl/repoperls/installed-perls/host/k93msid/v5.26.0/0a29 -Dmyhostname=k93msid -Dinstallusrbinperl=n -Uversiononly -Dusedevel -des -Ui_db -Dlibswanted=cl pthread socket inet nsl gdbm dbm malloc dl ld sun m crypt sec util c cposix posix ucb BSD gdbm_compat -Uuseithreads -Duselongdouble -DDEBUGGING=both'
    hint=recommended
    useposix=true
    d_sigaction=define
    useithreads=undef
    usemultiplicity=undef
    use64bitint=define
    use64bitall=define
    uselongdouble=define
    usemymalloc=n
    default_inc_excludes_dot=define
    bincompat5005=undef
  Compiler:
    cc='cc'
    ccflags ='-fwrapv -DDEBUGGING -fno-strict-aliasing -pipe -fstack-protector-strong -I/usr/local/include -D_LARGEFILE_SOURCE -D_FILE_OFFSET_BITS=64'
    optimize='-O2 -g'
    cppflags='-fwrapv -DDEBUGGING -fno-strict-aliasing -pipe -fstack-protector-strong -I/usr/local/include'
    ccversion=''
    gccversion='7.2.0'
    gccosandvers=''
    intsize=4
    longsize=8
    ptrsize=8
    doublesize=8
    byteorder=12345678
    doublekind=3
    d_longlong=define
    longlongsize=8
    d_longdbl=define
    longdblsize=16
    longdblkind=3
    ivtype='long'
    ivsize=8
    nvtype='long double'
    nvsize=16
    Off_t='off_t'
    lseeksize=8
    alignbytes=16
    prototype=define
  Linker and Libraries:
    ld='cc'
    ldflags =' -fstack-protector-strong -L/usr/local/lib'
    libpth=/usr/local/lib /usr/lib/gcc/x86_64-linux-gnu/7/include-fixed /usr/include/x86_64-linux-gnu /usr/lib /lib/x86_64-linux-gnu /lib/../lib /usr/lib/x86_64-linux-gnu /usr/lib/../lib /lib
    libs=-lpthread -lnsl -ldl -lm -lcrypt -lutil -lc
    perllibs=-lpthread -lnsl -ldl -lm -lcrypt -lutil -lc
    libc=libc-2.24.so
    so=so
    useshrplib=false
    libperl=libperl.a
    gnulibc_version='2.24'
  Dynamic Linking:
    dlsrc=dl_dlopen.xs
    dlext=so
    d_dlsymun=undef
    ccdlflags='-Wl,-E'
    cccdlflags='-fPIC'
    lddlflags='-shared -O2 -g -L/usr/local/lib -fstack-protector-strong'


Characteristics of this binary (from libperl): 
  Compile-time options:
    DEBUGGING
    HAS_TIMES
    PERLIO_LAYERS
    PERL_COPY_ON_WRITE
    PERL_DONT_CREATE_GVSV
    PERL_MALLOC_WRAP
    PERL_OP_PARENT
    PERL_PRESERVE_IVUV
    PERL_USE_DEVEL
    USE_64_BIT_ALL
    USE_64_BIT_INT
    USE_LARGE_FILES
    USE_LOCALE
    USE_LOCALE_COLLATE
    USE_LOCALE_CTYPE
    USE_LOCALE_NUMERIC
    USE_LOCALE_TIME
    USE_LONG_DOUBLE
    USE_PERLIO
    USE_PERL_ATOF
  Built under linux
  Compiled at Oct  3 2017 23:32:19
  %ENV:
    PERL5LIB="/tmp/loop_over_bdir-5564-bOtWVr/Template-Toolkit-2.27-0/blib/arch:/tmp/loop_over_bdir-5564-bOtWVr/Template-Toolkit-2.27-0/blib/lib:/tmp/loop_over_bdir-5564-bOtWVr/CGI-4.36-0/blib/arch:/tmp/loop_over_bdir-5564-bOtWVr/CGI-4.36-0/blib/lib:/tmp/loop_over_bdir-5564-bOtWVr/Test-Warn-0.32-0/blib/arch:/tmp/loop_over_bdir-5564-bOtWVr/Test-Warn-0.32-0/blib/lib:/tmp/loop_over_bdir-5564-bOtWVr/Test-NoWarnings-1.04-0/blib/arch:/tmp/loop_over_bdir-5564-bOtWVr/Test-NoWarnings-1.04-0/blib/lib:/tmp/loop_over_bdir-5564-bOtWVr/AppConfig-1.71-0/blib/arch:/tmp/loop_over_bdir-5564-bOtWVr/AppConfig-1.71-0/blib/lib:/tmp/loop_over_bdir-5564-bOtWVr/Test-Pod-1.51-0/blib/arch:/tmp/loop_over_bdir-5564-bOtWVr/Test-Pod-1.51-0/blib/lib:/tmp/loop_over_bdir-5564-bOtWVr/Sys-Hostname-Long-1.5-0/blib/arch:/tmp/loop_over_bdir-5564-bOtWVr/Sys-Hostname-Long-1.5-0/blib/lib:/tmp/loop_over_bdir-5564-bOtWVr/Linux-Distribution-0.23-0/blib/arch:/tmp/loop_over_bdir-5564-bOtWVr/Linux-Distribution-0.23-0/blib/lib"
    PERL5OPT=""
    PERL5_CPANPLUS_IS_RUNNING="5568"
    PERL5_CPAN_IS_RUNNING="5568"
    PERL5_CPAN_IS_RUNNING_IN_RECURSION="15736,5568"
    PERL_CANARY_STABILITY_NOPROMPT="1"
    PERL_MM_USE_DEFAULT="1"
    PERL_USE_UNSAFE_INC="1"
  @INC:
    /tmp/loop_over_bdir-5564-bOtWVr/Template-Toolkit-2.27-0/blib/arch
    /tmp/loop_over_bdir-5564-bOtWVr/Template-Toolkit-2.27-0/blib/lib
    /tmp/loop_over_bdir-5564-bOtWVr/CGI-4.36-0/blib/arch
    /tmp/loop_over_bdir-5564-bOtWVr/CGI-4.36-0/blib/lib
    /tmp/loop_over_bdir-5564-bOtWVr/Test-Warn-0.32-0/blib/arch
    /tmp/loop_over_bdir-5564-bOtWVr/Test-Warn-0.32-0/blib/lib
    /tmp/loop_over_bdir-5564-bOtWVr/Test-NoWarnings-1.04-0/blib/arch
    /tmp/loop_over_bdir-5564-bOtWVr/Test-NoWarnings-1.04-0/blib/lib
    /tmp/loop_over_bdir-5564-bOtWVr/AppConfig-1.71-0/blib/arch
    /tmp/loop_over_bdir-5564-bOtWVr/AppConfig-1.71-0/blib/lib
    /tmp/loop_over_bdir-5564-bOtWVr/Test-Pod-1.51-0/blib/arch
    /tmp/loop_over_bdir-5564-bOtWVr/Test-Pod-1.51-0/blib/lib
    /tmp/loop_over_bdir-5564-bOtWVr/Sys-Hostname-Long-1.5-0/blib/arch
    /tmp/loop_over_bdir-5564-bOtWVr/Sys-Hostname-Long-1.5-0/blib/lib
    /tmp/loop_over_bdir-5564-bOtWVr/Linux-Distribution-0.23-0/blib/arch
    /tmp/loop_over_bdir-5564-bOtWVr/Linux-Distribution-0.23-0/blib/lib
    /home/sand/src/perl/repoperls/installed-perls/host/k93msid/v5.26.0/0a29/lib/site_perl/5.26.0/x86_64-linux-ld
    /home/sand/src/perl/repoperls/installed-perls/host/k93msid/v5.26.0/0a29/lib/site_perl/5.26.0
    /home/sand/src/perl/repoperls/installed-perls/host/k93msid/v5.26.0/0a29/lib/5.26.0/x86_64-linux-ld
    /home/sand/src/perl/repoperls/installed-perls/host/k93msid/v5.26.0/0a29/lib/5.26.0
    .