Report for Data-FormValidator-4.80

Back
From: metabase:user:4bb19ea0-b064-11df-ac73-2d518c32fe74
Subject: PASS Data-FormValidator-4.80 v5.10.1 GNU/Linux
Date: 2012-11-05T13:45:55Z

This distribution has been tested as part of the CPAN Testers
project, supporting the Perl programming language.  See
http://wiki.cpantesters.org/ for more information or email
questions to cpan-testers-discuss@perl.org


--
Dear Mark Stosberg,

This is a computer-generated report for Data-FormValidator-4.80
on perl 5.10.1, created by CPAN-Reporter-1.2006.

Thank you for uploading your work to CPAN.  Congratulations!
All tests were successful.

Sections of this report:

    * Tester comments
    * Program output
    * Prerequisites
    * Environment and other context

------------------------------
TESTER COMMENTS
------------------------------

Additional comments from tester:

none provided

------------------------------
PROGRAM OUTPUT
------------------------------

Output from './Build test':

Use of uninitialized value $Test::Harness::Switches in length at /home/stefan/perl5/perlbrew/perls/perl-5.10.1/lib/5.10.1/Module/Build/Base.pm line 2767.
t/00_base.t .............................. ok
t/02_code_ref.t .......................... ok
t/03_dependency.t ........................ ok
t/04_arrayify_undef.t .................... ok
t/05_valid_ip_address.t .................. ok
t/06_regexp_map.t ........................ ok
t/09_require_some.t ...................... ok
t/11_procedural_match.t .................. ok
t/13_validator_packages.t ................ ok
t/15_literal_param_constraints.t ......... ok
t/16_cgi_object.t ........................ ok
t/17_multi_valued_keys.t ................. ok
t/18_constraint_refs.t ................... ok
t/19_refs_as_values.t .................... ok
t/20_careful_exception_handling.t ........ ok
t/21_multiple_fields.t ................... ok
t/25_results.t ........................... ok
t/26_qr.t ................................ ok
t/27_qualify_ref_happy_death.t ........... ok
t/28_defaults_for_new.t .................. ok
t/30_filter_definedness.t ................ ok
t/FV_length.t ............................ ok
t/any_errors.t ........................... ok
t/check_profile_syntax.t ................. ok
t/closure_msgs.t ......................... ok
t/constraint_method.t .................... ok
t/constraint_method_string.t ............. ok
t/constraint_method_zero.t ............... ok
t/constraint_regexp_map_profile_reuse.t .. ok
t/constraints_builtin.t .................. ok
t/constraints_builtin_closure.t .......... ok
t/constraints_factory.t .................. ok
t/constraints_invalid_once_only.t ........ ok
t/constraints_num_values.t ............... ok
t/constraints_regexp_map_interaction.t ... ok
t/constraints_reuse.t .................... ok
t/credit_card.t .......................... ok
t/dates.t ................................ ok
t/dates_closure.t ........................ ok
t/dependency_coderef.t ................... ok
t/dependency_groups.t .................... ok
t/filter_constraints.t ................... ok
t/filters_builtin.t ...................... ok
t/filters_shouldnt_modify.t .............. ok
t/get_filtered_data.t .................... ok
t/get_input_data.t ....................... ok
t/missing_optional.t ..................... ok
t/msgs.t ................................. ok
t/multiple_constraints.t ................. ok
t/params_not_mentioned.t ................. ok
t/pod.t .................................. ok
t/procedural_valid.t ..................... ok
t/profile_checking.t ..................... ok
t/regexp_common.t ........................ ok
t/regexp_common_closure.t ................ ok
t/rename_builtin_constraints.t ........... ok
t/results_success.t ...................... ok
t/simple.t ............................... ok
t/tt_and_overload.t ...................... ok
t/undefined_arrayref.t ................... ok
t/unknown.t .............................. ok
t/untaint.t .............................. ok
# Adding CGI::Simple tests
# testing with CGI.pm version: 3.60
# testing with CGI::Simple version: 1.113
# Running tests with CGI
# Running tests with CGI::Simple
t/upload.t ............................... ok
# testing with CGI.pm version: 3.60
t/upload_closure.t ....................... ok
t/upload_mime_types.t .................... ok
All tests successful.
Files=65, Tests=631,  4 wallclock secs ( 0.21 usr  0.09 sys +  2.98 cusr  0.43 csys =  3.71 CPU)
Result: PASS

------------------------------
PREREQUISITES
------------------------------

Prerequisite modules loaded:

requires:

    Module          Need  Have      
    --------------- ----- ----------
    Date::Calc      5     6.3       
    Email::Valid    0     0.190     
    File::MMagic    1.17  1.29      
    Image::Size     0     3.232     
    MIME::Types     1.005 1.35      
    overload        0     1.07      
    perl            5.008 5.010001  
    Perl6::Junction 1.1   1.50000   
    Regexp::Common  0     2011121001
    Scalar::Util    0     1.25      
    Test::More      0     0.98      

build_requires:

    Module          Need  Have      
    --------------- ----- ----------
    CGI             3.48  3.60      

configure_requires:

    Module          Need  Have      
    --------------- ----- ----------
    Module::Build   0.38  0.4003    


------------------------------
ENVIRONMENT AND OTHER CONTEXT
------------------------------

Environment variables:

    LANG = en_US.UTF-8
    PATH = /home/stefan/perl5/perlbrew/bin:/home/stefan/perl5/perlbrew/perls/perl-5.10.1/bin:/usr/local/sbin:/usr/local/bin:/usr/sbin:/usr/bin:/sbin:/bin:/usr/games
    PATH_WITHOUT_PERLBREW = /usr/local/sbin:/usr/local/bin:/usr/sbin:/usr/bin:/sbin:/bin:/usr/games
    PERL5LIB = 
    PERL5OPT = 
    PERL5_CPANPLUS_IS_RUNNING = 6148
    PERL5_CPAN_IS_RUNNING = 6148
    PERLBREW_BASHRC_VERSION = 0.33
    PERLBREW_HOME = /home/stefan/.perlbrew
    PERLBREW_MANPATH = /home/stefan/perl5/perlbrew/perls/perl-5.10.1/man
    PERLBREW_PATH = /home/stefan/perl5/perlbrew/bin:/home/stefan/perl5/perlbrew/perls/perl-5.10.1/bin
    PERLBREW_PERL = perl-5.10.1
    PERLBREW_ROOT = /home/stefan/perl5/perlbrew
    PERLBREW_VERSION = 0.54
    PERL_LWP_SSL_VERIFY_HOSTNAME = 0
    SHELL = /bin/bash
    TERM = xterm

Perl special variables (and OS-specific diagnostics, for MSWin32):

    $^X = /home/stefan/perl5/perlbrew/perls/perl-5.10.1/bin/perl5.10.1
    $UID/$EUID = 1000 / 1000
    $GID = 1000 4 20 24 46 108 117 123 124 1000
    $EGID = 1000 4 20 24 46 108 117 123 124 1000

Perl module toolchain versions installed:

    Module              Have    
    ------------------- --------
    CPAN                1.9800  
    CPAN::Meta          2.120921
    Cwd                 3.33    
    ExtUtils::CBuilder  0.280205
    ExtUtils::Command   1.17    
    ExtUtils::Install   1.54    
    ExtUtils::MakeMaker 6.62    
    ExtUtils::Manifest  1.61    
    ExtUtils::ParseXS   3.15    
    File::Spec          3.33    
    JSON                2.53    
    JSON::PP            2.27200 
    Module::Build       0.4003  
    Module::Signature   0.68    
    Parse::CPAN::Meta   1.4404  
    Test::Harness       3.25    
    Test::More          0.98    
    YAML                0.84    
    YAML::Syck          1.21    
    version             0.9901  


--

Summary of my perl5 (revision 5 version 10 subversion 1) configuration:
   
  Platform:
    osname=linux, osvers=2.6.28-18-generic, archname=x86_64-linux
    uname='linux pc-stefan 2.6.28-18-generic #60-ubuntu smp fri mar 12 04:26:47 utc 2010 x86_64 gnulinux '
    config_args='-de -Dprefix=/home/stefan/perl5/perlbrew/perls/perl-5.10.1'
    hint=recommended, useposix=true, d_sigaction=define
    useithreads=undef, usemultiplicity=undef
    useperlio=define, d_sfio=undef, uselargefiles=define, usesocks=undef
    use64bitint=define, use64bitall=define, uselongdouble=undef
    usemymalloc=n, bincompat5005=undef
  Compiler:
    cc='cc', ccflags ='-fno-strict-aliasing -pipe -fstack-protector -I/usr/local/include -D_LARGEFILE_SOURCE -D_FILE_OFFSET_BITS=64',
    optimize='-O2',
    cppflags='-fno-strict-aliasing -pipe -fstack-protector -I/usr/local/include'
    ccversion='', gccversion='4.3.3', gccosandvers=''
    intsize=4, longsize=8, ptrsize=8, doublesize=8, byteorder=12345678
    d_longlong=define, longlongsize=8, d_longdbl=define, longdblsize=16
    ivtype='long', ivsize=8, nvtype='double', nvsize=8, Off_t='off_t', lseeksize=8
    alignbytes=8, prototype=define
  Linker and Libraries:
    ld='cc', ldflags =' -fstack-protector -L/usr/local/lib'
    libpth=/usr/local/lib /lib /usr/lib /lib64 /usr/lib64
    libs=-lnsl -ldl -lm -lcrypt -lutil -lc
    perllibs=-lnsl -ldl -lm -lcrypt -lutil -lc
    libc=/lib/libc-2.9.so, so=so, useshrplib=false, libperl=libperl.a
    gnulibc_version='2.9'
  Dynamic Linking:
    dlsrc=dl_dlopen.xs, dlext=so, d_dlsymun=undef, ccdlflags='-Wl,-E'
    cccdlflags='-fPIC', lddlflags='-shared -O2 -L/usr/local/lib -fstack-protector'


Characteristics of this binary (from libperl): 
  Compile-time options: PERL_DONT_CREATE_GVSV PERL_MALLOC_WRAP USE_64_BIT_ALL
                        USE_64_BIT_INT USE_LARGE_FILES USE_PERLIO
  Built under linux
  Compiled at May 21 2010 16:20:46
  %ENV:
    PERL5LIB=""
    PERL5OPT=""
    PERL5_CPANPLUS_IS_RUNNING="6148"
    PERL5_CPAN_IS_RUNNING="6148"
    PERLBREW_BASHRC_VERSION="0.33"
    PERLBREW_HOME="/home/stefan/.perlbrew"
    PERLBREW_MANPATH="/home/stefan/perl5/perlbrew/perls/perl-5.10.1/man"
    PERLBREW_PATH="/home/stefan/perl5/perlbrew/bin:/home/stefan/perl5/perlbrew/perls/perl-5.10.1/bin"
    PERLBREW_PERL="perl-5.10.1"
    PERLBREW_ROOT="/home/stefan/perl5/perlbrew"
    PERLBREW_VERSION="0.54"
    PERL_LWP_SSL_VERIFY_HOSTNAME="0"
  @INC:
    /home/stefan/perl5/perlbrew/perls/perl-5.10.1/lib/5.10.1/x86_64-linux
    /home/stefan/perl5/perlbrew/perls/perl-5.10.1/lib/5.10.1
    /home/stefan/perl5/perlbrew/perls/perl-5.10.1/lib/site_perl/5.10.1/x86_64-linux
    /home/stefan/perl5/perlbrew/perls/perl-5.10.1/lib/site_perl/5.10.1
    .