Report for WebService-GData-0.0408

Back
From: metabase:user:775a6ef0-a30d-11e0-b928-abcd0a1a245f
Subject: PASS WebService-GData-0.0408 v5.12.4 GNU/Linux
Date: 2011-07-03T02:35:31Z

This distribution has been tested as part of the CPAN Testers
project, supporting the Perl programming language.  See
http://wiki.cpantesters.org/ for more information or email
questions to cpan-testers-discuss@perl.org


--
Dear shirirules,

This is a computer-generated report for WebService-GData-0.0408
on perl 5.12.4, created by CPAN-Reporter-1.1902.

Thank you for uploading your work to CPAN.  Congratulations!
All tests were successful.

Sections of this report:

    * Tester comments
    * Program output
    * Prerequisites
    * Environment and other context

------------------------------
TESTER COMMENTS
------------------------------

Additional comments from tester:

this report is from an automated smoke testing program
and was not reviewed by a human for accuracy

------------------------------
PROGRAM OUTPUT
------------------------------

Output from '/usr/bin/make test':

PERL_DL_NONLAZY=1 /smoker/5.12.4/perl/bin/perl "-MExtUtils::Command::MM" "-e" "test_harness(0, 'inc', 'blib/lib', 'blib/arch')" t/*.t
t/00-WebService-GData-load.t ................................. ok
t/01-WebService-GData-instance.t ............................. ok
t/02-WebService-GData-install_in_package.t ................... ok
t/03-WebService-GData-Constants-load.t ....................... ok
t/04-WebService-GData-Constants-noimport.t ................... ok
t/05-WebService-GData-Constants-import-service.t ............. ok
t/06-WebService-GData-Constants-import-format.t .............. ok
t/07-WebService-GData-Constants-import-general.t ............. ok
t/08-WebService-GData-Constants-import-namespaces.t .......... ok
t/09-WebService-GData-Error-Entry-load.t ..................... ok
t/10-WebService-GData-Error-Entry-instance.t ................. ok
t/11-WebService-GData-Error-Entry-parsexml.t ................. ok
t/12-WebService-GData-Error-Entry-createxml.t ................ ok
t/13-WebService-GData-Error-load.t ........................... ok
t/14-WebService-GData-Error-instance.t ....................... ok
t/15-WebService-GData-Error-parsexml.t ....................... ok
t/16-WebService-GData-Query-load.t ........................... ok
t/17-WebService-GData-Query-instance.t ....................... ok
t/18-WebService-GData-YouTube-Query-load.t ................... ok
t/19-WebService-GData-YouTube-Query-instance.t ............... ok
t/20-WebService-GData-Base-load.t ............................ ok
t/21-WebService-GData-Base-instance.t ........................ ok
t/22-WebService-GData-Base-mockrequest.t ..................... ok
t/23-WebService-GData-ClientLogin-load.t ..................... ok
t/24-WebService-GData-ClientLogin-mockrequest.t .............. ok
t/25-WebService-GData-ClientLogin-fail.t ..................... ok
# Testing your internet connection...
# You are connected to the internet.
# Do you wish to test the ClientLogin with your account? [yes] or [no]:
t/26-WebService-GData-ClientLogin-requestservice.t ........... skipped: User abortion...
t/27-WebService-GData-Node-load.t ............................ ok
t/28-WebService-GData-Node-Link-load.t ....................... ok
t/29-WebService-GData-Node-Link-instance.t ................... ok
t/30-WebService-GData-Node-Category-load.t ................... ok
t/31-WebService-GData-Node-Category-instance.t ............... ok
t/32-WebService-GData-Node-Content-load.t .................... ok
t/33-WebService-GData-Node-Content-instance.t ................ ok
t/34-WebService-GData-Node-Media-Content-instance.t .......... ok
t/35-WebService-GData-Node-GeoRSS-GML-instance.t ............. ok
t/36-WebService-GData-Node-AuthorEntity-load.t ............... ok
t/37-WebService-GData-Node-AuthorEntity-instance.t ........... ok
t/38-WebService-GData-Node-PointEntity-load.t ................ ok
t/39-WebService-GData-Node-PointEntity-instance.t ............ ok
t/40-WebService-GData-Collection-load.t ...................... ok
t/41-WebService-GData-Collection-instance.t .................. ok
t/42-WebService-GData-Node-Atom-FeedEntity-instance.t ........ ok
t/43-WebService-GData-Node-Atom-FeedEntity-emptyinstance.t ... ok
t/44-WebService-GData-Feed-load.t ............................ ok
t/45-WebService-GData-Feed-instance.t ........................ ok
t/46-WebService-GData-Feed-instance.t ........................ ok
t/47-WebService-GData-Feed-Entry-load.t ...................... ok
t/48-WebService-GData-Feed-Entry-instance.t .................. ok
t/49-WebService-GData-YouTube-Constants-load.t ............... ok
t/50-WebService-GData-YouTube-Constants-noimport.t ........... ok
t/51-WebService-GData-YouTube-Constants-imported.t ........... ok
t/52-WebService-GData-YouTube-load.t ......................... ok
t/53-WebService-GData-YouTube-Node-AccessControl-instance.t .. ok
t/54-WebService-GData-YouTube-Node-AboutMe-instance.t ........ ok
t/55-WebService-GData-YouTube-Feed-Video-load.t .............. ok
t/56-WebService-GData-YouTube-Feed-Video-instance.t .......... ok
t/57-WebService-Gdata-Youtube-StagingServer.t ................ ok
t/58-WebService-GData-YouTube-Feed-UserProfile-instance.t .... ok
t/59-WebService-GData-YouTube-Feed-Complaint-instance.t ...... ok
All tests successful.
Files=60, Tests=336, 18 wallclock secs ( 0.14 usr  0.06 sys +  2.26 cusr  0.32 csys =  2.78 CPU)
Result: PASS

------------------------------
PREREQUISITES
------------------------------

Prerequisite modules loaded:

requires:

    Module              Need Have
    ------------------- ---- ----
    ExtUtils::MakeMaker 6.42 6.56
    JSON                2    2.53
    LWP                 0    6.02
    Test::Mock::LWP     0.05 0.05
    Test::More          0    0.98

configure_requires:

    Module              Need Have
    ------------------- ---- ----
    ExtUtils::MakeMaker 6.42 6.56


------------------------------
ENVIRONMENT AND OTHER CONTEXT
------------------------------

Environment variables:

    AUTOMATED_TESTING = 1
    LANG = en_US.UTF-8
    LC_ALL = C
    LC_CTYPE = en_US.UTF-8
    PATH = /usr/local/bin:/usr/bin:/bin:/usr/local/games:/usr/games
    PERL5LIB = /smoker/5.12.4/cpan/build/Test-Mock-LWP-0.05-4fQ_86/blib/arch:/smoker/5.12.4/cpan/build/Test-Mock-LWP-0.05-4fQ_86/blib/lib:/smoker/5.12.4/cpan/build/Test-MockObject-1.20110612-Onj3lv/blib/arch:/smoker/5.12.4/cpan/build/Test-MockObject-1.20110612-Onj3lv/blib/lib:/smoker/5.12.4/cpan/build/UNIVERSAL-can-1.20110617-G3DHDu/blib/arch:/smoker/5.12.4/cpan/build/UNIVERSAL-can-1.20110617-G3DHDu/blib/lib:/smoker/5.12.4/cpan/build/UNIVERSAL-isa-1.20110614-qlM5Zq/blib/arch:/smoker/5.12.4/cpan/build/UNIVERSAL-isa-1.20110614-qlM5Zq/blib/lib:/smoker/5.12.4/cpan/build/Test-Warn-0.23-0mi4Tl/blib/arch:/smoker/5.12.4/cpan/build/Test-Warn-0.23-0mi4Tl/blib/lib:/smoker/5.12.4/cpan/build/Tree-DAG_Node-1.06-leuipr/blib/arch:/smoker/5.12.4/cpan/build/Tree-DAG_Node-1.06-leuipr/blib/lib:/smoker/5.12.4/cpan/build/Test-Simple-0.98-fi2I2p/blib/arch:/smoker/5.12.4/cpan/build/Test-Simple-0.98-fi2I2p/blib/lib:/root/src/sex
    PERL5OPT = 
    PERL5_CPANPLUS_CONFIG = /root/.cpanplus/config
    PERL5_CPANPLUS_IS_RUNNING = 6983
    PERL5_CPAN_IS_RUNNING = 6983
    PERL5_CPAN_IS_RUNNING_IN_RECURSION = 31611,6983
    PERLDB_OPTS = ornaments=0
    PERL_ANYEVENT_DBI_TESTS = 1
    PERL_ANYEVENT_EDNS0 = 1
    PERL_ANYEVENT_NET_TESTS = 1
    PERL_ANYEVENT_PROTOCOLS = ipv4,ipv6
    PERL_ANYEVENT_STRICT = 1
    PERL_CPAN_REPORTER_CONFIG = /smoker/cpanreporter-config.ini
    PERL_CPAN_REPORTER_DIR = /smoker/5.12.4/cpanreporter
    PERL_CR_SMOKER_CURRENT = WebService-GData-0.0408
    PERL_CR_SMOKER_RUNONCE = 1
    PERL_EXTUTILS_AUTOINSTALL = --defaultdeps
    PERL_MM_USE_DEFAULT = 1
    PERL_UNICODE = E
    SHELL = /bin/sh
    TERM = screen

Perl special variables (and OS-specific diagnostics, for MSWin32):

    $^X = /smoker/5.12.4/perl/bin/perl
    $UID/$EUID = 60000 / 60000
    $GID = 60000 60000
    $EGID = 60000 60000

Perl module toolchain versions installed:

    Module              Have   
    ------------------- -------
    CPAN                1.9600 
    Cwd                 3.31   
    ExtUtils::CBuilder  0.27   
    ExtUtils::Command   1.16   
    ExtUtils::Install   1.55   
    ExtUtils::MakeMaker 6.56   
    ExtUtils::Manifest  1.57   
    ExtUtils::ParseXS   2.21   
    File::Spec          3.31_01
    Module::Build       0.3603 
    Module::Signature   n/a    
    Test::Harness       3.17   
    Test::More          0.98   
    YAML                0.73   
    YAML::Syck          1.17   
    version             0.82   


--

Summary of my perl5 (revision 5 version 12 subversion 4) configuration:
   
  Platform:
    osname=linux, osvers=2.6.26-2-amd64, archname=i686-linux
    uname='linux rijk 2.6.26-2-amd64 #1 smp thu nov 5 02:23:12 utc 2009 i686 gnulinux '
    config_args='-Duselargefiles -Uuse64bitint -Dusemymalloc=n -Uusedl -Uusethreads -Uuseithreads -Uusemultiplicity -Uusesfio -Uuseshrplib -Uinstallusrbinperl -A ccflags= -g -DPERL_DISABLE_PMC -DPERL_ARENA_SIZE=16376 -DNO_PERL_MALLOC_ENV -D_GNU_SOURCE -DNDEBUG -Dcc=cc -Doptimize=-O2 -mpush-args -fomit-frame-pointer -march=core2 -mtune=core2 -Dldflags= -lc -lm -ldl -lpthread -Dlibs=-lm -lcrypt -Dprefix=/smoker/5.12.4/perl -Dbin=/smoker/5.12.4/perl/bin -Dprivlib=/smoker/5.12.4/perl/lib -Darchlib=/smoker/5.12.4/perl/lib -Uusevendorprefix -Dsitelib=/smoker/5.12.4/perl/lib -Dsitearch=/smoker/5.12.4/perl/lib -Uman1dir -Uman3dir -Usiteman1dir -Usiteman3dir -Dpager=/usr/bin/less -Demail=Marc Lehmann <staticperl-smoker-5.12.4@plan9.de> -Dcf_email=Marc Lehmann <staticperl-smoker-5.12.4@plan9.de> -Dcf_by=Marc Lehmann <staticperl-smoker-5.12.4@plan9.de> -Dusedl -Uusemymalloc -Duseperlio -dE'
    hint=recommended, useposix=true, d_sigaction=define
    useithreads=undef, usemultiplicity=undef
    useperlio=define, d_sfio=undef, uselargefiles=define, usesocks=undef
    use64bitint=undef, use64bitall=undef, uselongdouble=undef
    usemymalloc=n, bincompat5005=undef
  Compiler:
    cc='cc', ccflags ='-g -DPERL_DISABLE_PMC -DPERL_ARENA_SIZE=16376 -DNO_PERL_MALLOC_ENV -D_GNU_SOURCE -DNDEBUG -fno-strict-aliasing -pipe -I/usr/local/include -D_LARGEFILE_SOURCE -D_FILE_OFFSET_BITS=64',
    optimize='-O2 -mpush-args -fomit-frame-pointer -march=core2 -mtune=core2',
    cppflags='-g -DPERL_DISABLE_PMC -DPERL_ARENA_SIZE=16376 -DNO_PERL_MALLOC_ENV -D_GNU_SOURCE -DNDEBUG -fno-strict-aliasing -pipe -I/usr/local/include'
    ccversion='', gccversion='4.4.5', gccosandvers=''
    intsize=4, longsize=4, ptrsize=4, doublesize=8, byteorder=1234
    d_longlong=define, longlongsize=8, d_longdbl=define, longdblsize=12
    ivtype='long', ivsize=4, nvtype='double', nvsize=8, Off_t='off_t', lseeksize=8
    alignbytes=4, prototype=define
  Linker and Libraries:
    ld='cc', ldflags =' -lc -lm -ldl -lpthread -L/usr/local/lib'
    libpth=/usr/local/lib /lib/../lib /usr/lib/../lib /lib /usr/lib /usr/lib64
    libs=-lm -lcrypt
    perllibs=-lm -lcrypt
    libc=/lib/libc-2.11.2.so, so=so, useshrplib=false, libperl=libperl.a
    gnulibc_version='2.11.2'
  Dynamic Linking:
    dlsrc=dl_dlopen.xs, dlext=so, d_dlsymun=undef, ccdlflags='-Wl,-E'
    cccdlflags='-fPIC', lddlflags='-shared -O2 -mpush-args -fomit-frame-pointer -march=core2 -mtune=core2 -L/usr/local/lib '


Characteristics of this binary (from libperl): 
  Compile-time options: PERL_DISABLE_PMC PERL_DONT_CREATE_GVSV
                        PERL_MALLOC_WRAP USE_LARGE_FILES USE_PERLIO
                        USE_PERL_ATOF
  Built under linux
  Compiled at Jul  1 2011 16:50:49
  %ENV:
    PERL5LIB="/smoker/5.12.4/cpan/build/Test-Mock-LWP-0.05-4fQ_86/blib/arch:/smoker/5.12.4/cpan/build/Test-Mock-LWP-0.05-4fQ_86/blib/lib:/smoker/5.12.4/cpan/build/Test-MockObject-1.20110612-Onj3lv/blib/arch:/smoker/5.12.4/cpan/build/Test-MockObject-1.20110612-Onj3lv/blib/lib:/smoker/5.12.4/cpan/build/UNIVERSAL-can-1.20110617-G3DHDu/blib/arch:/smoker/5.12.4/cpan/build/UNIVERSAL-can-1.20110617-G3DHDu/blib/lib:/smoker/5.12.4/cpan/build/UNIVERSAL-isa-1.20110614-qlM5Zq/blib/arch:/smoker/5.12.4/cpan/build/UNIVERSAL-isa-1.20110614-qlM5Zq/blib/lib:/smoker/5.12.4/cpan/build/Test-Warn-0.23-0mi4Tl/blib/arch:/smoker/5.12.4/cpan/build/Test-Warn-0.23-0mi4Tl/blib/lib:/smoker/5.12.4/cpan/build/Tree-DAG_Node-1.06-leuipr/blib/arch:/smoker/5.12.4/cpan/build/Tree-DAG_Node-1.06-leuipr/blib/lib:/smoker/5.12.4/cpan/build/Test-Simple-0.98-fi2I2p/blib/arch:/smoker/5.12.4/cpan/build/Test-Simple-0.98-fi2I2p/blib/lib:/root/src/sex"
    PERL5OPT=""
    PERL5_CPANPLUS_CONFIG="/root/.cpanplus/config"
    PERL5_CPANPLUS_IS_RUNNING="6983"
    PERL5_CPAN_IS_RUNNING="6983"
    PERL5_CPAN_IS_RUNNING_IN_RECURSION="31611,6983"
    PERLDB_OPTS="ornaments=0"
    PERL_ANYEVENT_DBI_TESTS="1"
    PERL_ANYEVENT_EDNS0="1"
    PERL_ANYEVENT_NET_TESTS="1"
    PERL_ANYEVENT_PROTOCOLS="ipv4,ipv6"
    PERL_ANYEVENT_STRICT="1"
    PERL_CPAN_REPORTER_CONFIG="/smoker/cpanreporter-config.ini"
    PERL_CPAN_REPORTER_DIR="/smoker/5.12.4/cpanreporter"
    PERL_CR_SMOKER_CURRENT="WebService-GData-0.0408"
    PERL_CR_SMOKER_RUNONCE="1"
    PERL_EXTUTILS_AUTOINSTALL="--defaultdeps"
    PERL_MM_USE_DEFAULT="1"
    PERL_UNICODE="E"
  @INC:
    /smoker/5.12.4/cpan/build/Test-Mock-LWP-0.05-4fQ_86/blib/arch
    /smoker/5.12.4/cpan/build/Test-Mock-LWP-0.05-4fQ_86/blib/lib
    /smoker/5.12.4/cpan/build/Test-MockObject-1.20110612-Onj3lv/blib/arch
    /smoker/5.12.4/cpan/build/Test-MockObject-1.20110612-Onj3lv/blib/lib
    /smoker/5.12.4/cpan/build/UNIVERSAL-can-1.20110617-G3DHDu/blib/arch
    /smoker/5.12.4/cpan/build/UNIVERSAL-can-1.20110617-G3DHDu/blib/lib
    /smoker/5.12.4/cpan/build/UNIVERSAL-isa-1.20110614-qlM5Zq/blib/arch
    /smoker/5.12.4/cpan/build/UNIVERSAL-isa-1.20110614-qlM5Zq/blib/lib
    /smoker/5.12.4/cpan/build/Test-Warn-0.23-0mi4Tl/blib/arch
    /smoker/5.12.4/cpan/build/Test-Warn-0.23-0mi4Tl/blib/lib
    /smoker/5.12.4/cpan/build/Tree-DAG_Node-1.06-leuipr/blib/arch
    /smoker/5.12.4/cpan/build/Tree-DAG_Node-1.06-leuipr/blib/lib
    /smoker/5.12.4/cpan/build/Test-Simple-0.98-fi2I2p/blib/arch
    /smoker/5.12.4/cpan/build/Test-Simple-0.98-fi2I2p/blib/lib
    /root/src/sex
    /smoker/5.12.4/perl/lib
    .