Tags-HTML-Element v0.15 Perl 5 v5.28.3 arm64-freebsd

Status
Pass
From
Slaven Rezić
Dist
Tags-HTML-Element v0.15
Platform
Perl 5 v5.28.3 arm64-freebsd
Date
2024-05-31 14:50:27
ID
1eb923f6-1f5d-11ef-8fa3-0ede6d8775ea
This distribution has been tested as part of the CPAN Testers
project, supporting the Perl programming language.  See
http://wiki.cpantesters.org/ for more information or email
questions to cpan-testers-discuss@perl.org


--
Dear Michal Josef Spacek,

This is a computer-generated report for Tags-HTML-Element-0.15
on perl 5.28.3, created by CPAN-Reporter-1.2019.

Thank you for uploading your work to CPAN.  Congratulations!
All tests were successful.

Sections of this report:

    * Tester comments
    * Program output
    * Prerequisites
    * Environment and other context

------------------------------
TESTER COMMENTS
------------------------------

Additional comments from tester:

none provided

------------------------------
PROGRAM OUTPUT
------------------------------

Output from '/usr/bin/make test':

PERL_DL_NONLAZY=1 "/usr/perl5.28.3/bin/perl" "-MExtUtils::Command::MM" "-MTest::Harness" "-e" "undef *Test::Harness::Switches; test_harness(0, 'inc', 'blib/lib', 'blib/arch')" t/Tags-HTML-Element-A/*.t t/Tags-HTML-Element-Button/*.t t/Tags-HTML-Element-Form/*.t t/Tags-HTML-Element-Input/*.t t/Tags-HTML-Element-Option/*.t t/Tags-HTML-Element-Select/*.t t/Tags-HTML-Element-Textarea/*.t t/Tags-HTML-Element-Utils/*.t t/Tags-HTML-Element/*.t
t/Tags-HTML-Element-A/01-use.t ................. ok
t/Tags-HTML-Element-A/02-version.t ............. ok
t/Tags-HTML-Element-A/03-new.t ................. ok
t/Tags-HTML-Element-A/04-cleanup.t ............. ok
t/Tags-HTML-Element-A/05-init.t ................ ok
t/Tags-HTML-Element-A/06-process.t ............. ok
t/Tags-HTML-Element-A/07-process_css.t ......... ok
t/Tags-HTML-Element-Button/01-use.t ............ ok
t/Tags-HTML-Element-Button/02-version.t ........ ok
t/Tags-HTML-Element-Button/03-new.t ............ ok
t/Tags-HTML-Element-Button/04-cleanup.t ........ ok
t/Tags-HTML-Element-Button/05-init.t ........... ok
t/Tags-HTML-Element-Button/06-process.t ........ ok
t/Tags-HTML-Element-Button/07-process_css.t .... ok
t/Tags-HTML-Element-Form/01-use.t .............. ok
t/Tags-HTML-Element-Form/02-version.t .......... ok
t/Tags-HTML-Element-Form/03-new.t .............. ok
t/Tags-HTML-Element-Form/04-cleanup.t .......... ok
t/Tags-HTML-Element-Form/05-init.t ............. ok
t/Tags-HTML-Element-Form/06-process.t .......... ok
t/Tags-HTML-Element-Form/07-process_css.t ...... ok
t/Tags-HTML-Element-Input/01-use.t ............. ok
t/Tags-HTML-Element-Input/02-version.t ......... ok
t/Tags-HTML-Element-Input/03-new.t ............. ok
t/Tags-HTML-Element-Input/04-init.t ............ ok
t/Tags-HTML-Element-Input/05-process.t ......... ok
t/Tags-HTML-Element-Input/06-process_css.t ..... ok
t/Tags-HTML-Element-Option/01-use.t ............ ok
t/Tags-HTML-Element-Option/02-version.t ........ ok
t/Tags-HTML-Element-Option/03-new.t ............ ok
t/Tags-HTML-Element-Option/04-cleanup.t ........ ok
t/Tags-HTML-Element-Option/05-init.t ........... ok
t/Tags-HTML-Element-Option/06-process.t ........ ok
t/Tags-HTML-Element-Option/07-process_css.t .... ok
t/Tags-HTML-Element-Select/01-use.t ............ ok
t/Tags-HTML-Element-Select/02-version.t ........ ok
t/Tags-HTML-Element-Select/03-new.t ............ ok
t/Tags-HTML-Element-Select/04-cleanup.t ........ ok
t/Tags-HTML-Element-Select/05-init.t ........... ok
t/Tags-HTML-Element-Select/06-process.t ........ ok
t/Tags-HTML-Element-Select/07-process_css.t .... ok
t/Tags-HTML-Element-Textarea/01-use.t .......... ok
t/Tags-HTML-Element-Textarea/02-version.t ...... ok
t/Tags-HTML-Element-Textarea/03-new.t .......... ok
t/Tags-HTML-Element-Textarea/04-cleanup.t ...... ok
t/Tags-HTML-Element-Textarea/05-init.t ......... ok
t/Tags-HTML-Element-Textarea/06-process.t ...... ok
t/Tags-HTML-Element-Textarea/07-process_css.t .. ok
t/Tags-HTML-Element-Utils/01-use.t ............. ok
t/Tags-HTML-Element-Utils/02-version.t ......... ok
t/Tags-HTML-Element-Utils/03-tags_boolean.t .... ok
t/Tags-HTML-Element-Utils/04-tags_data.t ....... ok
t/Tags-HTML-Element-Utils/05-tags_label.t ...... ok
t/Tags-HTML-Element-Utils/06-tags_value.t ...... ok
t/Tags-HTML-Element/01-use.t ................... ok
t/Tags-HTML-Element/02-version.t ............... ok
All tests successful.
Files=56, Tests=243,  5 wallclock secs ( 0.20 usr  0.15 sys +  3.73 cusr  0.91 csys =  5.00 CPU)
Result: PASS

------------------------------
PREREQUISITES
------------------------------

Prerequisite modules loaded:

requires:

    Module                         Need  Have      
    ------------------------------ ----- ----------
    Class::Utils                   0     0.14      
    Error::Pure                    0     0.31      
    perl                           5.008 5.028003  
    Scalar::Util                   0     1.63      
    Tags::HTML                     0.06  0.08      

build_requires:

    Module                         Need  Have      
    ------------------------------ ----- ----------
    CSS::Struct::Output::Structure 0.03  0.04      
    Data::HTML::Element::Button    0.1   0.17      
    Data::HTML::Element::Form      0.1   0.17      
    Data::HTML::Element::Input     0.13  0.17      
    Data::HTML::Element::Select    0.14  0.17      
    Data::HTML::Element::Textarea  0.1   0.17      
    English                        0     1.10      
    Error::Pure::Utils             0     0.31      
    ExtUtils::MakeMaker            6.59  7.70      
    Tags::Output::Structure        0     0.08      
    Test::MockObject               0     1.20200122
    Test::More                     0     1.302199  
    Test::NoWarnings               0     1.06      

configure_requires:

    Module                         Need  Have      
    ------------------------------ ----- ----------
    ExtUtils::MakeMaker            6.59  7.70      


------------------------------
ENVIRONMENT AND OTHER CONTEXT
------------------------------

Environment variables:

    LANG = C.UTF-8
    PATH = /usr/local/bin:/usr/bin:/bin:/usr/local/sbin:/usr/sbin:/sbin:/home/cpansand/bin/sh:/home/cpansand/bin:/usr/games:/home/cpansand/devel:/home/eserte/src/srezic-misc/scripts
    PERL5LIB = 
    PERL5OPT = 
    PERL5_CPANPLUS_IS_RUNNING = 4570
    PERL5_CPAN_IS_RUNNING = 4570
    PERL5_CPAN_IS_RUNNING_IN_RECURSION = 1338,4570
    PERL_BATCH = yes
    PERL_CANARY_STABILITY_NOPROMPT = 1
    PERL_CPAN_REPORTER_CONFIG = /var/tmp/cpansmoker-1023/2024053114/cpanreporter_000_config.ini
    PERL_EXTUTILS_AUTOINSTALL = --defaultdeps
    PERL_USE_UNSAFE_INC = 1
    SHELL = /bin/sh
    TMPDIR = /var/tmp/cpansmoker-1023/2024053114

Perl special variables (and OS-specific diagnostics, for MSWin32):

    $^X = /usr/perl5.28.3/bin/perl
    $UID/$EUID = 1023 / 1023
    $GID = 1023 1023
    $EGID = 1023 1023

Perl module toolchain versions installed:

    Module              Have    
    ------------------- --------
    CPAN                2.20    
    CPAN::Meta          2.150010
    Cwd                 3.75    
    ExtUtils::CBuilder  0.280236
    ExtUtils::Command   7.70    
    ExtUtils::Install   2.22    
    ExtUtils::MakeMaker 7.70    
    ExtUtils::Manifest  1.70    
    ExtUtils::ParseXS   3.51    
    File::Spec          3.75    
    JSON                4.10    
    JSON::PP            4.16    
    Module::Build       0.4234  
    Module::Signature   n/a     
    Parse::CPAN::Meta   2.150010
    Test2               1.302199
    Test::Harness       3.42    
    Test::More          1.302199
    YAML                1.31    
    YAML::Syck          1.34    
    version             0.9930  


--

Summary of my perl5 (revision 5 version 28 subversion 3) configuration:
   
  Platform:
    osname=freebsd
    osvers=14.0-stable
    archname=arm64-freebsd
    uname='freebsd cloud9.bbbike.org 14.0-stable freebsd 14.0-stable #0 stable14-ac83f3fa4: mon dec 25 18:44:17 utc 2023 root@cloud9.bbbike.org:usrobjhomeprojectsfreebsd-srcarm64.aarch64sysgeneric arm64 '
    config_args='-ds -e -Dprefix=/usr/perl5.28.3 -Dcf_email=srezic@cpan.org -Doptimize=-O2 -pipe'
    hint=recommended
    useposix=true
    d_sigaction=define
    useithreads=undef
    usemultiplicity=undef
    use64bitint=define
    use64bitall=define
    uselongdouble=undef
    usemymalloc=n
    default_inc_excludes_dot=define
    bincompat5005=undef
  Compiler:
    cc='cc'
    ccflags ='-DHAS_FPSETMASK -DHAS_FLOATINGPOINT_H -fno-strict-aliasing -pipe -fstack-protector-strong -I/usr/local/include'
    optimize='-O2 -pipe'
    cppflags='-DHAS_FPSETMASK -DHAS_FLOATINGPOINT_H -fno-strict-aliasing -pipe -fstack-protector-strong -I/usr/local/include'
    ccversion=''
    gccversion='FreeBSD Clang 16.0.6 (https://github.com/llvm/llvm-project.git llvmorg-16.0.6-0-g7cbf1a259152)'
    gccosandvers=''
    intsize=4
    longsize=8
    ptrsize=8
    doublesize=8
    byteorder=12345678
    doublekind=3
    d_longlong=define
    longlongsize=8
    d_longdbl=define
    longdblsize=16
    longdblkind=1
    ivtype='long'
    ivsize=8
    nvtype='double'
    nvsize=8
    Off_t='off_t'
    lseeksize=8
    alignbytes=8
    prototype=define
  Linker and Libraries:
    ld='cc'
    ldflags ='-Wl,-E  -fstack-protector-strong -L/usr/local/lib'
    libpth=/usr/lib /usr/local/lib /usr/lib/clang/16/lib /usr/lib
    libs=-lpthread -lgdbm -ldl -lm -lcrypt -lutil -lc
    perllibs=-lpthread -ldl -lm -lcrypt -lutil -lc
    libc=
    so=so
    useshrplib=false
    libperl=libperl.a
    gnulibc_version=''
  Dynamic Linking:
    dlsrc=dl_dlopen.xs
    dlext=so
    d_dlsymun=undef
    ccdlflags=' '
    cccdlflags='-DPIC -fPIC'
    lddlflags='-shared  -L/usr/local/lib -fstack-protector-strong'


Characteristics of this binary (from libperl): 
  Compile-time options:
    HAS_TIMES
    PERLIO_LAYERS
    PERL_COPY_ON_WRITE
    PERL_DONT_CREATE_GVSV
    PERL_MALLOC_WRAP
    PERL_OP_PARENT
    PERL_PRESERVE_IVUV
    USE_64_BIT_ALL
    USE_64_BIT_INT
    USE_LARGE_FILES
    USE_LOCALE
    USE_LOCALE_COLLATE
    USE_LOCALE_CTYPE
    USE_LOCALE_NUMERIC
    USE_LOCALE_TIME
    USE_PERLIO
    USE_PERL_ATOF
  Locally applied patches:
    Devel::PatchPerl 2.08
  Built under freebsd
  Compiled at Dec 27 2023 08:38:14
  %ENV:
    PERL5LIB=""
    PERL5OPT=""
    PERL5_CPANPLUS_IS_RUNNING="4570"
    PERL5_CPAN_IS_RUNNING="4570"
    PERL5_CPAN_IS_RUNNING_IN_RECURSION="1338,4570"
    PERL_BATCH="yes"
    PERL_CANARY_STABILITY_NOPROMPT="1"
    PERL_CPAN_REPORTER_CONFIG="/var/tmp/cpansmoker-1023/2024053114/cpanreporter_000_config.ini"
    PERL_EXTUTILS_AUTOINSTALL="--defaultdeps"
    PERL_USE_UNSAFE_INC="1"
  @INC:
    /usr/perl5.28.3/lib/site_perl/5.28.3/arm64-freebsd
    /usr/perl5.28.3/lib/site_perl/5.28.3
    /usr/perl5.28.3/lib/5.28.3/arm64-freebsd
    /usr/perl5.28.3/lib/5.28.3
    .